BEGIN:VCALENDAR
VERSION:2.0
PRODID:-//Tillamook Area Chamber of Commerce - ECPv6.15.20//NONSGML v1.0//EN
CALSCALE:GREGORIAN
METHOD:PUBLISH
X-WR-CALNAME:Tillamook Area Chamber of Commerce
X-ORIGINAL-URL:https://tillamookchamber.org
X-WR-CALDESC:Events for Tillamook Area Chamber of Commerce
REFRESH-INTERVAL;VALUE=DURATION:PT1H
X-Robots-Tag:noindex
X-PUBLISHED-TTL:PT1H
BEGIN:VTIMEZONE
TZID:America/Los_Angeles
BEGIN:DAYLIGHT
TZOFFSETFROM:-0800
TZOFFSETTO:-0700
TZNAME:PDT
DTSTART:20240310T100000
END:DAYLIGHT
BEGIN:STANDARD
TZOFFSETFROM:-0700
TZOFFSETTO:-0800
TZNAME:PST
DTSTART:20241103T090000
END:STANDARD
BEGIN:DAYLIGHT
TZOFFSETFROM:-0800
TZOFFSETTO:-0700
TZNAME:PDT
DTSTART:20250309T100000
END:DAYLIGHT
BEGIN:STANDARD
TZOFFSETFROM:-0700
TZOFFSETTO:-0800
TZNAME:PST
DTSTART:20251102T090000
END:STANDARD
BEGIN:DAYLIGHT
TZOFFSETFROM:-0800
TZOFFSETTO:-0700
TZNAME:PDT
DTSTART:20260308T100000
END:DAYLIGHT
BEGIN:STANDARD
TZOFFSETFROM:-0700
TZOFFSETTO:-0800
TZNAME:PST
DTSTART:20261101T090000
END:STANDARD
END:VTIMEZONE
BEGIN:VEVENT
DTSTART;TZID=America/Los_Angeles:20250424T170000
DTEND;TZID=America/Los_Angeles:20250424T190000
DTSTAMP:20260422T172046
CREATED:20250415T235502Z
LAST-MODIFIED:20250415T235502Z
UID:10020340-1745514000-1745521200@tillamookchamber.org
SUMMARY:Trivia Night with CARE Inc - Disney Night
DESCRIPTION:Calling all Disney fans\, princes\, princesses\, and sidekicks! \n Eat\, drink\, and DO GOOD! A portion of all food & beverage sales will be donated to CARE Inc.\, helping support their mission to provide housing\, job training\, and mental health resources to those in need. Even if you don’t play trivia\, coming out and enjoying a meal makes a difference! \nJoin us for a magical night of Disney trivia where your knowledge of heroes\, villains\, and enchanted worlds could win you glorious prizes and ultimate bragging rights! \nFREE to play! So grab your ohana (because nobody gets left behind!) and test your knowledge on all things Disney—classic movies\, Pixar\, television\, theme parks\, and more!MAX TEAM SIZE: 4 individuals.
URL:https://tillamookchamber.org/event/trivia-night-with-care-inc-disney-night-2/
LOCATION:Werner Beef&Brew\, 2807 3rd St\, Tillamook\, OR 97141
CATEGORIES:Community,Fundraisers
END:VEVENT
END:VCALENDAR