BEGIN:VCALENDAR
VERSION:2.0
PRODID:-//Tillamook Area Chamber of Commerce - ECPv6.15.20//NONSGML v1.0//EN
CALSCALE:GREGORIAN
METHOD:PUBLISH
X-WR-CALNAME:Tillamook Area Chamber of Commerce
X-ORIGINAL-URL:https://tillamookchamber.org
X-WR-CALDESC:Events for Tillamook Area Chamber of Commerce
REFRESH-INTERVAL;VALUE=DURATION:PT1H
X-Robots-Tag:noindex
X-PUBLISHED-TTL:PT1H
BEGIN:VTIMEZONE
TZID:America/Los_Angeles
BEGIN:DAYLIGHT
TZOFFSETFROM:-0800
TZOFFSETTO:-0700
TZNAME:PDT
DTSTART:20240310T100000
END:DAYLIGHT
BEGIN:STANDARD
TZOFFSETFROM:-0700
TZOFFSETTO:-0800
TZNAME:PST
DTSTART:20241103T090000
END:STANDARD
BEGIN:DAYLIGHT
TZOFFSETFROM:-0800
TZOFFSETTO:-0700
TZNAME:PDT
DTSTART:20250309T100000
END:DAYLIGHT
BEGIN:STANDARD
TZOFFSETFROM:-0700
TZOFFSETTO:-0800
TZNAME:PST
DTSTART:20251102T090000
END:STANDARD
BEGIN:DAYLIGHT
TZOFFSETFROM:-0800
TZOFFSETTO:-0700
TZNAME:PDT
DTSTART:20260308T100000
END:DAYLIGHT
BEGIN:STANDARD
TZOFFSETFROM:-0700
TZOFFSETTO:-0800
TZNAME:PST
DTSTART:20261101T090000
END:STANDARD
END:VTIMEZONE
BEGIN:VEVENT
DTSTART;TZID=America/Los_Angeles:20250419T090000
DTEND;TZID=America/Los_Angeles:20250419T103000
DTSTAMP:20260424T071328
CREATED:20250401T185347Z
LAST-MODIFIED:20250401T185347Z
UID:10019343-1745053200-1745058600@tillamookchamber.org
SUMMARY:1st Annual Easter Egg Hunt
DESCRIPTION:Tillamook County Sheriff’s Office in partnership with the Tillamook County Sheriff’s Foundation and sponsored by TLC Fibre Federal Credit Union invites you t join us for a fun Easter Egg Hunt where you can find lots of goodies\, special prizes and visit with Deputies.\n\nSaturday April 19th\, 9:00 am\n\nAt the Sheriff’s Office\, 5995 Long Prairie Rd. Tillamook
URL:https://tillamookchamber.org/event/1st-annual-easter-egg-hunt/
LOCATION:Tillamook Sheriff’s Office\, 5995 Long Prairie Rd. Tillamook\, 5995 Long Prairie Rd.\, Tillamook\, OR
CATEGORIES:Community,Family Fun,Holiday
END:VEVENT
END:VCALENDAR