BEGIN:VCALENDAR
VERSION:2.0
PRODID:-//Tillamook Area Chamber of Commerce - ECPv6.15.20//NONSGML v1.0//EN
CALSCALE:GREGORIAN
METHOD:PUBLISH
X-ORIGINAL-URL:https://tillamookchamber.org
X-WR-CALDESC:Events for Tillamook Area Chamber of Commerce
REFRESH-INTERVAL;VALUE=DURATION:PT1H
X-Robots-Tag:noindex
X-PUBLISHED-TTL:PT1H
BEGIN:VTIMEZONE
TZID:America/Los_Angeles
BEGIN:DAYLIGHT
TZOFFSETFROM:-0800
TZOFFSETTO:-0700
TZNAME:PDT
DTSTART:20250309T100000
END:DAYLIGHT
BEGIN:STANDARD
TZOFFSETFROM:-0700
TZOFFSETTO:-0800
TZNAME:PST
DTSTART:20251102T090000
END:STANDARD
BEGIN:DAYLIGHT
TZOFFSETFROM:-0800
TZOFFSETTO:-0700
TZNAME:PDT
DTSTART:20260308T100000
END:DAYLIGHT
BEGIN:STANDARD
TZOFFSETFROM:-0700
TZOFFSETTO:-0800
TZNAME:PST
DTSTART:20261101T090000
END:STANDARD
BEGIN:DAYLIGHT
TZOFFSETFROM:-0800
TZOFFSETTO:-0700
TZNAME:PDT
DTSTART:20270314T100000
END:DAYLIGHT
BEGIN:STANDARD
TZOFFSETFROM:-0700
TZOFFSETTO:-0800
TZNAME:PST
DTSTART:20271107T090000
END:STANDARD
END:VTIMEZONE
BEGIN:VEVENT
DTSTART;TZID=America/Los_Angeles:20260425T110000
DTEND;TZID=America/Los_Angeles:20260425T140000
DTSTAMP:20260420T115437
CREATED:20260309T154828Z
LAST-MODIFIED:20260309T154828Z
UID:10029595-1777114800-1777125600@tillamookchamber.org
SUMMARY:Wild Food Foraging
DESCRIPTION:$40 | Registration Required \nLearn about the edible wild plants found in the Tillamook State Forest! \nSpring is when wildflowers bloom and wild greens are ripe for picking. See plants like wild violet\, Solomon’s seal\, fairy bells\, licorice fern\, sorrel\, various fiddleheads\, wild ginger and more. Join educator and author John Kallas to learn the many ways they can be used as food. \nCopies of Wild Edible Plants by John Kallas will be available for sale. \nRegistration is required by Wednesday\, April 22nd. Please call 503-815-6807 to submit payment for registration. Note: The TFC is closed on Monday and Tuesday and therefore won’t be able to take payment on these days.
URL:https://tillamookchamber.org/event/wild-food-foraging/
LOCATION:Tillamook Forest Center\, 45500 Wilson River Hwy
CATEGORIES:Community,Education
ATTACH;FMTTYPE=image/jpeg:https://tillamookchamber.org/wp-content/uploads/2026/03/IMG_2141.jpg
END:VEVENT
BEGIN:VEVENT
DTSTART;TZID=America/Los_Angeles:20260502T100000
DTEND;TZID=America/Los_Angeles:20260502T150000
DTSTAMP:20260420T115437
CREATED:20260309T154507Z
LAST-MODIFIED:20260309T154507Z
UID:10029596-1777716000-1777734000@tillamookchamber.org
SUMMARY:Wildfire Community Preparedness Day
DESCRIPTION:Join us for Wildfire Community Preparedness Day as we learn\, connect\, and take action to keep our communities fire‑adapted and resilient. \nThe Tillamook Forest Center is hosting a special screening of Samurai in the Oregon Sky\, a film exploring how an attempted WWII wildfire ignition near Brookings\, Oregon ultimately led to an unexpected reconciliation and lasting friendship between the pilot and the community. Join us to learn the connection between this historic event and Oregon Department of Forestry lookouts. \nOregon State Fire Marshal will have a special presentation on wildfire readiness\, community risk reduction\, and practical steps you can take to prepare your home and neighborhood. \nAnd of course\, no event would be complete without a visit from Smokey Bear! Stop by to say hello\, snap a photo\, and learn a few tips about preventing wildfires. \nCome spend the day gaining knowledge and engaging in activities designed to empower and inform. Together\, we can build a safer\, more fire‑prepared Oregon.
URL:https://tillamookchamber.org/event/wildfire-community-preparedness-day/
LOCATION:Tillamook Forest Center\, 45500 Wilson River Hwy
CATEGORIES:Community,Education
ATTACH;FMTTYPE=image/jpeg:https://tillamookchamber.org/wp-content/uploads/2026/03/BBA-3-13-scaled.jpg
END:VEVENT
END:VCALENDAR