BEGIN:VCALENDAR
VERSION:2.0
PRODID:-//Tillamook Area Chamber of Commerce - ECPv6.15.20//NONSGML v1.0//EN
CALSCALE:GREGORIAN
METHOD:PUBLISH
X-WR-CALNAME:Tillamook Area Chamber of Commerce
X-ORIGINAL-URL:https://tillamookchamber.org
X-WR-CALDESC:Events for Tillamook Area Chamber of Commerce
REFRESH-INTERVAL;VALUE=DURATION:PT1H
X-Robots-Tag:noindex
X-PUBLISHED-TTL:PT1H
BEGIN:VTIMEZONE
TZID:America/Los_Angeles
BEGIN:DAYLIGHT
TZOFFSETFROM:-0800
TZOFFSETTO:-0700
TZNAME:PDT
DTSTART:20240310T100000
END:DAYLIGHT
BEGIN:STANDARD
TZOFFSETFROM:-0700
TZOFFSETTO:-0800
TZNAME:PST
DTSTART:20241103T090000
END:STANDARD
BEGIN:DAYLIGHT
TZOFFSETFROM:-0800
TZOFFSETTO:-0700
TZNAME:PDT
DTSTART:20250309T100000
END:DAYLIGHT
BEGIN:STANDARD
TZOFFSETFROM:-0700
TZOFFSETTO:-0800
TZNAME:PST
DTSTART:20251102T090000
END:STANDARD
BEGIN:DAYLIGHT
TZOFFSETFROM:-0800
TZOFFSETTO:-0700
TZNAME:PDT
DTSTART:20260308T100000
END:DAYLIGHT
BEGIN:STANDARD
TZOFFSETFROM:-0700
TZOFFSETTO:-0800
TZNAME:PST
DTSTART:20261101T090000
END:STANDARD
END:VTIMEZONE
BEGIN:VEVENT
DTSTART;TZID=America/Los_Angeles:20251011T120000
DTEND;TZID=America/Los_Angeles:20251011T150000
DTSTAMP:20260423T032912
CREATED:20250929T234936Z
LAST-MODIFIED:20250929T234936Z
UID:10026183-1760184000-1760194800@tillamookchamber.org
SUMMARY:Rotary Senior Citizen Prom Halloween Dance
DESCRIPTION:Rotary is hosting its 9th Annual Halloween Dance. We know people don’t often want to drive at night so this will be noon to 3pm at the Elks.\nSaturday October 18th\nCostumes are a must.\n\nIf you RSVP ahead of time at 503-801-4838 Rotary will buy your lunch
URL:https://tillamookchamber.org/event/rotary-senior-citizen-prom-halloween-dance/2025-10-11/2/
LOCATION:tillamook elks club\, 1903 3rd st
CATEGORIES:Community,Festivals and Events
ATTACH;FMTTYPE=image/jpeg:https://tillamookchamber.org/wp-content/uploads/2025/09/IMG_7387.jpeg
END:VEVENT
BEGIN:VEVENT
DTSTART;TZID=America/Los_Angeles:20251011T080000
DTEND;TZID=America/Los_Angeles:20251011T170000
DTSTAMP:20260423T032912
CREATED:20250929T234936Z
LAST-MODIFIED:20250929T234936Z
UID:10026182-1760169600-1760202000@tillamookchamber.org
SUMMARY:Rotary Senior Citizen Prom Halloween Dance
DESCRIPTION:Rotary is hosting its 9th Annual Halloween Dance. We know people don’t often want to drive at night so this will be noon to 3pm at the Elks.\nSaturday October 18th\nCostumes are a must.\n\nIf you RSVP ahead of time at 503-801-4838 Rotary will buy your lunch
URL:https://tillamookchamber.org/event/rotary-senior-citizen-prom-halloween-dance/2025-10-11/1/
LOCATION:tillamook elks club\, 1903 3rd st
CATEGORIES:Community,Festivals and Events
ATTACH;FMTTYPE=image/jpeg:https://tillamookchamber.org/wp-content/uploads/2025/09/IMG_7387.jpeg
END:VEVENT
END:VCALENDAR