BEGIN:VCALENDAR
VERSION:2.0
PRODID:-//Tillamook Area Chamber of Commerce - ECPv6.15.20//NONSGML v1.0//EN
CALSCALE:GREGORIAN
METHOD:PUBLISH
X-ORIGINAL-URL:https://tillamookchamber.org
X-WR-CALDESC:Events for Tillamook Area Chamber of Commerce
REFRESH-INTERVAL;VALUE=DURATION:PT1H
X-Robots-Tag:noindex
X-PUBLISHED-TTL:PT1H
BEGIN:VTIMEZONE
TZID:America/Los_Angeles
BEGIN:DAYLIGHT
TZOFFSETFROM:-0800
TZOFFSETTO:-0700
TZNAME:PDT
DTSTART:20240310T100000
END:DAYLIGHT
BEGIN:STANDARD
TZOFFSETFROM:-0700
TZOFFSETTO:-0800
TZNAME:PST
DTSTART:20241103T090000
END:STANDARD
BEGIN:DAYLIGHT
TZOFFSETFROM:-0800
TZOFFSETTO:-0700
TZNAME:PDT
DTSTART:20250309T100000
END:DAYLIGHT
BEGIN:STANDARD
TZOFFSETFROM:-0700
TZOFFSETTO:-0800
TZNAME:PST
DTSTART:20251102T090000
END:STANDARD
BEGIN:DAYLIGHT
TZOFFSETFROM:-0800
TZOFFSETTO:-0700
TZNAME:PDT
DTSTART:20260308T100000
END:DAYLIGHT
BEGIN:STANDARD
TZOFFSETFROM:-0700
TZOFFSETTO:-0800
TZNAME:PST
DTSTART:20261101T090000
END:STANDARD
END:VTIMEZONE
BEGIN:VEVENT
DTSTART;TZID=America/Los_Angeles:20250618T150000
DTEND;TZID=America/Los_Angeles:20250618T180000
DTSTAMP:20260424T161746
CREATED:20250602T171613Z
LAST-MODIFIED:20250611T223442Z
UID:10022070-1750258800-1750269600@tillamookchamber.org
SUMMARY:Tillamook County Energy Resilience Plan Feedback Session
DESCRIPTION:Tillamook County is developing an Energy Resilience Plan (ERP)—and we want YOUR input! \nFunded by a grant from the Oregon Department of Energy (ODOE)\, this plan will strengthen the county’s ability to prepare for and respond to power outages and energy disruptions. Whether caused by storms\, wildfires\, or other hazards\, we know how disruptive power loss can be. The ERP will help identify vulnerable areas\, prioritize essential services\, and develop long-term strategies like community charging stations and emergency power systems. \nBut here’s the key—this plan is only as strong as the input we receive from the community. We want to hear your experiences with power outages\, your ideas for solutions\, and what you think Tillamook County needs most. \nTo make it easy\, we have a 5-minute online survey you can fill out here: SURVEY LINK \nYou’re also invited to join us for a public feedback session on Wednesday\, June 18\, from 3–6 PM at the Tillamook Creamery. Hosted by Rockcress Consulting\, this drop-in event is a chance to share your input\, ask questions\, and help shape the plan—plus\, there’ll be ice cream! \nWe welcome all Tillamook County residents\, businesses\, and community organizations. We look forward to hearing from you!
URL:https://tillamookchamber.org/event/tillamook-county-energy-resilience-plan-feedback-session/
LOCATION:Tillamook Creamery\, 4185 Highway 101 N\, Tillamook\, OR 97141-7770
CATEGORIES:Community
END:VEVENT
END:VCALENDAR