BEGIN:VCALENDAR
VERSION:2.0
PRODID:-//Tillamook Area Chamber of Commerce - ECPv6.15.20//NONSGML v1.0//EN
CALSCALE:GREGORIAN
METHOD:PUBLISH
X-ORIGINAL-URL:https://tillamookchamber.org
X-WR-CALDESC:Events for Tillamook Area Chamber of Commerce
REFRESH-INTERVAL;VALUE=DURATION:PT1H
X-Robots-Tag:noindex
X-PUBLISHED-TTL:PT1H
BEGIN:VTIMEZONE
TZID:America/Los_Angeles
BEGIN:DAYLIGHT
TZOFFSETFROM:-0800
TZOFFSETTO:-0700
TZNAME:PDT
DTSTART:20240310T100000
END:DAYLIGHT
BEGIN:STANDARD
TZOFFSETFROM:-0700
TZOFFSETTO:-0800
TZNAME:PST
DTSTART:20241103T090000
END:STANDARD
BEGIN:DAYLIGHT
TZOFFSETFROM:-0800
TZOFFSETTO:-0700
TZNAME:PDT
DTSTART:20250309T100000
END:DAYLIGHT
BEGIN:STANDARD
TZOFFSETFROM:-0700
TZOFFSETTO:-0800
TZNAME:PST
DTSTART:20251102T090000
END:STANDARD
BEGIN:DAYLIGHT
TZOFFSETFROM:-0800
TZOFFSETTO:-0700
TZNAME:PDT
DTSTART:20260308T100000
END:DAYLIGHT
BEGIN:STANDARD
TZOFFSETFROM:-0700
TZOFFSETTO:-0800
TZNAME:PST
DTSTART:20261101T090000
END:STANDARD
END:VTIMEZONE
BEGIN:VEVENT
DTSTART;TZID=America/Los_Angeles:20251013T103000
DTEND;TZID=America/Los_Angeles:20251013T123000
DTSTAMP:20260421T180854
CREATED:20250703T182108Z
LAST-MODIFIED:20250703T182108Z
UID:10022968-1760351400-1760358600@tillamookchamber.org
SUMMARY:Dungeons and Dragons at Tillamook Library
DESCRIPTION:Play a variety of tabletop RPGs with local storytellers at the library! Open to all!
URL:https://tillamookchamber.org/event/dungeons-and-dragons-at-tillamook-library/2025-10-13/
LOCATION:Tillamook County Library\, 1716 3rd Street Tillamook Oregon 97141
CATEGORIES:Community
ATTACH;FMTTYPE=image/png:https://tillamookchamber.org/wp-content/uploads/2025/07/Dungeons-Dragons-2025-TM-1.png
END:VEVENT
BEGIN:VEVENT
DTSTART;TZID=America/Los_Angeles:20251011T100000
DTEND;TZID=America/Los_Angeles:20251011T120000
DTSTAMP:20260421T180854
CREATED:20250703T182150Z
LAST-MODIFIED:20250703T182150Z
UID:10022707-1760176800-1760184000@tillamookchamber.org
SUMMARY:Dungeons and Dragons at Tillamook Library
DESCRIPTION:Play a variety of tabletop RPGs with local storytellers at the library! Open to all!
URL:https://tillamookchamber.org/event/dungeons-and-dragons-at-tillamook-library-2/2025-10-11/
LOCATION:Tillamook County Library\, 1716 3rd Street Tillamook Oregon 97141
CATEGORIES:Community
ATTACH;FMTTYPE=image/png:https://tillamookchamber.org/wp-content/uploads/2025/07/Dungeons-Dragons-2025-TM.png
END:VEVENT
BEGIN:VEVENT
DTSTART;TZID=America/Los_Angeles:20251008T180000
DTEND;TZID=America/Los_Angeles:20251008T200000
DTSTAMP:20260421T180854
CREATED:20250910T192008Z
LAST-MODIFIED:20250910T192008Z
UID:10025510-1759946400-1759953600@tillamookchamber.org
SUMMARY:October Movies at Main: Halloween
DESCRIPTION:Join us for the Halloween edition of Wednesday Night Movies at the library\, 6 pm every Wednesday in October!\n\n10/1 Dracula (1931)\n10/8 Creature from the Black Lagoon (1954)\n10/15 The Creeping Flesh (1973)\n10/22 Young Frankenstein (1974)\n10/29 The Innocents (1961)
URL:https://tillamookchamber.org/event/october-movies-at-main-halloween/2025-10-08/
LOCATION:Tillamook County Library\, 1716 3rd Street Tillamook Oregon 97141
CATEGORIES:Community,Family Fun
ATTACH;FMTTYPE=image/png:https://tillamookchamber.org/wp-content/uploads/2025/09/October-Movies-at-Main.png
END:VEVENT
BEGIN:VEVENT
DTSTART;TZID=America/Los_Angeles:20251006T103000
DTEND;TZID=America/Los_Angeles:20251006T123000
DTSTAMP:20260421T180854
CREATED:20250703T182108Z
LAST-MODIFIED:20250703T182108Z
UID:10022967-1759746600-1759753800@tillamookchamber.org
SUMMARY:Dungeons and Dragons at Tillamook Library
DESCRIPTION:Play a variety of tabletop RPGs with local storytellers at the library! Open to all!
URL:https://tillamookchamber.org/event/dungeons-and-dragons-at-tillamook-library/2025-10-06/
LOCATION:Tillamook County Library\, 1716 3rd Street Tillamook Oregon 97141
CATEGORIES:Community
ATTACH;FMTTYPE=image/png:https://tillamookchamber.org/wp-content/uploads/2025/07/Dungeons-Dragons-2025-TM-1.png
END:VEVENT
BEGIN:VEVENT
DTSTART;TZID=America/Los_Angeles:20251004T130000
DTEND;TZID=America/Los_Angeles:20251004T143000
DTSTAMP:20260421T180854
CREATED:20250821T162558Z
LAST-MODIFIED:20250821T162558Z
UID:10025267-1759582800-1759588200@tillamookchamber.org
SUMMARY:Debate to Dialogue Workshop - No-Cost
DESCRIPTION:Tired of debates that go nowhere?\nDialogue invites us to listen\, share\, & connect across differences\, so we can build understanding instead of division.\n\nPlease join us for this free workshop. \n\nTillamook Main Library\nCopeland Room\nSaturday\, October 4\, 1:00-2:30
URL:https://tillamookchamber.org/event/debate-to-dialogue-workshop-no-cost/
LOCATION:Tillamook County Library\, 1716 3rd Street Tillamook Oregon 97141
CATEGORIES:Classes and Workshops,Community
ATTACH;FMTTYPE=image/jpeg:https://tillamookchamber.org/wp-content/uploads/2025/08/TOMOCT4.jpg
END:VEVENT
BEGIN:VEVENT
DTSTART;TZID=America/Los_Angeles:20251004T100000
DTEND;TZID=America/Los_Angeles:20251004T120000
DTSTAMP:20260421T180854
CREATED:20250703T182150Z
LAST-MODIFIED:20250703T182150Z
UID:10022706-1759572000-1759579200@tillamookchamber.org
SUMMARY:Dungeons and Dragons at Tillamook Library
DESCRIPTION:Play a variety of tabletop RPGs with local storytellers at the library! Open to all!
URL:https://tillamookchamber.org/event/dungeons-and-dragons-at-tillamook-library-2/2025-10-04/
LOCATION:Tillamook County Library\, 1716 3rd Street Tillamook Oregon 97141
CATEGORIES:Community
ATTACH;FMTTYPE=image/png:https://tillamookchamber.org/wp-content/uploads/2025/07/Dungeons-Dragons-2025-TM.png
END:VEVENT
BEGIN:VEVENT
DTSTART;TZID=America/Los_Angeles:20251001T180000
DTEND;TZID=America/Los_Angeles:20251001T200000
DTSTAMP:20260421T180854
CREATED:20250910T192008Z
LAST-MODIFIED:20250910T192008Z
UID:10025509-1759341600-1759348800@tillamookchamber.org
SUMMARY:October Movies at Main: Halloween
DESCRIPTION:Join us for the Halloween edition of Wednesday Night Movies at the library\, 6 pm every Wednesday in October!\n\n10/1 Dracula (1931)\n10/8 Creature from the Black Lagoon (1954)\n10/15 The Creeping Flesh (1973)\n10/22 Young Frankenstein (1974)\n10/29 The Innocents (1961)
URL:https://tillamookchamber.org/event/october-movies-at-main-halloween/2025-10-01/
LOCATION:Tillamook County Library\, 1716 3rd Street Tillamook Oregon 97141
CATEGORIES:Community,Family Fun
ATTACH;FMTTYPE=image/png:https://tillamookchamber.org/wp-content/uploads/2025/09/October-Movies-at-Main.png
END:VEVENT
BEGIN:VEVENT
DTSTART;TZID=America/Los_Angeles:20251001T100000
DTEND;TZID=America/Los_Angeles:20251001T110000
DTSTAMP:20260421T180854
CREATED:20250812T211722Z
LAST-MODIFIED:20250812T211722Z
UID:10024859-1759312800-1759316400@tillamookchamber.org
SUMMARY:Going On A Bear Hunt Preschool Storytime at Tillamook Library
DESCRIPTION:A live action storytime event based on Michael Rosen’s classic tale!
URL:https://tillamookchamber.org/event/going-on-a-bear-hunt-preschool-storytime-at-tillamook-library/
LOCATION:Tillamook County Library\, 1716 3rd Street Tillamook Oregon 97141
CATEGORIES:Community,Education,Family Fun
ATTACH;FMTTYPE=image/png:https://tillamookchamber.org/wp-content/uploads/2025/08/Bear-Hunt-100125-TM.png
END:VEVENT
BEGIN:VEVENT
DTSTART;TZID=America/Los_Angeles:20250929T103000
DTEND;TZID=America/Los_Angeles:20250929T123000
DTSTAMP:20260421T180854
CREATED:20250703T182108Z
LAST-MODIFIED:20250703T182108Z
UID:10022966-1759141800-1759149000@tillamookchamber.org
SUMMARY:Dungeons and Dragons at Tillamook Library
DESCRIPTION:Play a variety of tabletop RPGs with local storytellers at the library! Open to all!
URL:https://tillamookchamber.org/event/dungeons-and-dragons-at-tillamook-library/2025-09-29/
LOCATION:Tillamook County Library\, 1716 3rd Street Tillamook Oregon 97141
CATEGORIES:Community
ATTACH;FMTTYPE=image/png:https://tillamookchamber.org/wp-content/uploads/2025/07/Dungeons-Dragons-2025-TM-1.png
END:VEVENT
BEGIN:VEVENT
DTSTART;TZID=America/Los_Angeles:20250927T100000
DTEND;TZID=America/Los_Angeles:20250927T120000
DTSTAMP:20260421T180854
CREATED:20250703T182150Z
LAST-MODIFIED:20250703T182150Z
UID:10022705-1758967200-1758974400@tillamookchamber.org
SUMMARY:Dungeons and Dragons at Tillamook Library
DESCRIPTION:Play a variety of tabletop RPGs with local storytellers at the library! Open to all!
URL:https://tillamookchamber.org/event/dungeons-and-dragons-at-tillamook-library-2/2025-09-27/
LOCATION:Tillamook County Library\, 1716 3rd Street Tillamook Oregon 97141
CATEGORIES:Community
ATTACH;FMTTYPE=image/png:https://tillamookchamber.org/wp-content/uploads/2025/07/Dungeons-Dragons-2025-TM.png
END:VEVENT
BEGIN:VEVENT
DTSTART;TZID=America/Los_Angeles:20250926T160000
DTEND;TZID=America/Los_Angeles:20250926T170000
DTSTAMP:20260421T180854
CREATED:20250915T161916Z
LAST-MODIFIED:20250915T161916Z
UID:10025516-1758902400-1758906000@tillamookchamber.org
SUMMARY:Mindful Listening with Morgan Motsinger at Tillamook Library
DESCRIPTION:Learn to improve your relationships and communication through the art of mindful listening at the library with speaker Morgan Motsinger!
URL:https://tillamookchamber.org/event/mindful-listening-with-morgan-motsinger-at-tillamook-library/
LOCATION:Tillamook County Library\, 1716 3rd Street Tillamook Oregon 97141
CATEGORIES:Classes and Workshops,Community
ATTACH;FMTTYPE=image/png:https://tillamookchamber.org/wp-content/uploads/2025/09/Mindful-Listening-092625-TM.png
END:VEVENT
BEGIN:VEVENT
DTSTART;TZID=America/Los_Angeles:20250925T160000
DTEND;TZID=America/Los_Angeles:20250925T170000
DTSTAMP:20260421T180854
CREATED:20250915T161730Z
LAST-MODIFIED:20250915T161730Z
UID:10025517-1758816000-1758819600@tillamookchamber.org
SUMMARY:Speed Friending at Tillamook Library
DESCRIPTION:Meet new people in a fun\, low-pressure turn taking game at the library!
URL:https://tillamookchamber.org/event/speed-friending-at-tillamook-library-2/
LOCATION:Tillamook County Library\, 1716 3rd Street Tillamook Oregon 97141
CATEGORIES:Community
ATTACH;FMTTYPE=image/png:https://tillamookchamber.org/wp-content/uploads/2025/09/Speed-Friending-092525-TM.png
END:VEVENT
BEGIN:VEVENT
DTSTART;TZID=America/Los_Angeles:20250924T180000
DTEND;TZID=America/Los_Angeles:20250924T200000
DTSTAMP:20260421T180854
CREATED:20250902T183455Z
LAST-MODIFIED:20250902T183455Z
UID:10025492-1758736800-1758744000@tillamookchamber.org
SUMMARY:September Movies At Main: Music and Musicals
DESCRIPTION:Join us every Wednesday evening at the Tillamook Main Library for movie night at 6 pm!\n\n9/3 Gold Diggers of 1935 (1935)\n\n9/10 Viva Las Vegas (1964)\n\n9/17 A Damsel In Distress (1937)\n\n9/24 Hairspray (1988)
URL:https://tillamookchamber.org/event/september-movies-at-main-music-and-musicals/2025-09-24/
LOCATION:Tillamook County Library\, 1716 3rd Street Tillamook Oregon 97141
CATEGORIES:Community,Family Fun
END:VEVENT
BEGIN:VEVENT
DTSTART;TZID=America/Los_Angeles:20250923T160000
DTEND;TZID=America/Los_Angeles:20250923T170000
DTSTAMP:20260421T180854
CREATED:20250923T154425Z
LAST-MODIFIED:20250923T154425Z
UID:10025615-1758643200-1758646800@tillamookchamber.org
SUMMARY:STEM Crafts for Tweens at Tillamook Library
DESCRIPTION:Join us at the library at 4 pm to celebrate the power and fun of science\, technology\, engineering\, and mathematics! For ages 11-14.\n\n \n\n 
URL:https://tillamookchamber.org/event/stem-crafts-for-tweens-at-tillamook-library/
LOCATION:Tillamook County Library\, 1716 3rd Street Tillamook Oregon 97141
CATEGORIES:Community,Family Fun
ATTACH;FMTTYPE=image/png:https://tillamookchamber.org/wp-content/uploads/2025/09/STEM-Crafts-092325-TM.png
END:VEVENT
BEGIN:VEVENT
DTSTART;TZID=America/Los_Angeles:20250922T103000
DTEND;TZID=America/Los_Angeles:20250922T123000
DTSTAMP:20260421T180854
CREATED:20250703T182108Z
LAST-MODIFIED:20250703T182108Z
UID:10022965-1758537000-1758544200@tillamookchamber.org
SUMMARY:Dungeons and Dragons at Tillamook Library
DESCRIPTION:Play a variety of tabletop RPGs with local storytellers at the library! Open to all!
URL:https://tillamookchamber.org/event/dungeons-and-dragons-at-tillamook-library/2025-09-22/
LOCATION:Tillamook County Library\, 1716 3rd Street Tillamook Oregon 97141
CATEGORIES:Community
ATTACH;FMTTYPE=image/png:https://tillamookchamber.org/wp-content/uploads/2025/07/Dungeons-Dragons-2025-TM-1.png
END:VEVENT
BEGIN:VEVENT
DTSTART;TZID=America/Los_Angeles:20250920T100000
DTEND;TZID=America/Los_Angeles:20250920T120000
DTSTAMP:20260421T180854
CREATED:20250703T182150Z
LAST-MODIFIED:20250703T182150Z
UID:10022704-1758362400-1758369600@tillamookchamber.org
SUMMARY:Dungeons and Dragons at Tillamook Library
DESCRIPTION:Play a variety of tabletop RPGs with local storytellers at the library! Open to all!
URL:https://tillamookchamber.org/event/dungeons-and-dragons-at-tillamook-library-2/2025-09-20/
LOCATION:Tillamook County Library\, 1716 3rd Street Tillamook Oregon 97141
CATEGORIES:Community
ATTACH;FMTTYPE=image/png:https://tillamookchamber.org/wp-content/uploads/2025/07/Dungeons-Dragons-2025-TM.png
END:VEVENT
BEGIN:VEVENT
DTSTART;TZID=America/Los_Angeles:20250919T150000
DTEND;TZID=America/Los_Angeles:20250919T160000
DTSTAMP:20260421T180854
CREATED:20250902T182350Z
LAST-MODIFIED:20250902T182350Z
UID:10025494-1758294000-1758297600@tillamookchamber.org
SUMMARY:Sourdough Starter Class at Tillamook Library
DESCRIPTION:Learn about cultivating and using a sourdough starter to start making your own delicious bread. Participants will learn about creating a sourdough starter\, keeping it healthy\, and great recipes for using it. The first sixteen participants will also get a sourdough starter to take with them.
URL:https://tillamookchamber.org/event/sourdough-starter-class-at-tillamook-library/
LOCATION:Tillamook County Library\, 1716 3rd Street Tillamook Oregon 97141
CATEGORIES:Community,Education
ATTACH;FMTTYPE=image/png:https://tillamookchamber.org/wp-content/uploads/2025/08/Sourdough-Starter-Class-091925-Tm-2.png
END:VEVENT
BEGIN:VEVENT
DTSTART;TZID=America/Los_Angeles:20250918T110000
DTEND;TZID=America/Los_Angeles:20250918T130000
DTSTAMP:20260421T180854
CREATED:20250910T155942Z
LAST-MODIFIED:20250910T155942Z
UID:10025507-1758193200-1758200400@tillamookchamber.org
SUMMARY:Hope in Community: a Lunch Open House
DESCRIPTION:September is Suicide Prevention Awareness and Action Month. The Tillamook County Suicide Prevention Coalition would love to have folks join us on September 18th for Hope in Community: a Lunch Open House. This will be taking place at the Tillamook Main Library from 11am-1pm in the Hatfield Room. Come meet members of the Coalition\, learn about what we are doing to support suicide prevention in our community\, and find out ways to get involved. Lunch will be provided\, it is drop in style\, and all are welcome.
URL:https://tillamookchamber.org/event/hope-in-community-a-lunch-open-house/
LOCATION:Tillamook County Library\, 1716 3rd Street Tillamook Oregon 97141
CATEGORIES:Community,Education
ATTACH;FMTTYPE=image/png:https://tillamookchamber.org/wp-content/uploads/2025/09/HIC-Lunch-Open-House.png
END:VEVENT
BEGIN:VEVENT
DTSTART;TZID=America/Los_Angeles:20250917T180000
DTEND;TZID=America/Los_Angeles:20250917T200000
DTSTAMP:20260421T180854
CREATED:20250902T183455Z
LAST-MODIFIED:20250902T183455Z
UID:10025491-1758132000-1758139200@tillamookchamber.org
SUMMARY:September Movies At Main: Music and Musicals
DESCRIPTION:Join us every Wednesday evening at the Tillamook Main Library for movie night at 6 pm!\n\n9/3 Gold Diggers of 1935 (1935)\n\n9/10 Viva Las Vegas (1964)\n\n9/17 A Damsel In Distress (1937)\n\n9/24 Hairspray (1988)
URL:https://tillamookchamber.org/event/september-movies-at-main-music-and-musicals/2025-09-17/
LOCATION:Tillamook County Library\, 1716 3rd Street Tillamook Oregon 97141
CATEGORIES:Community,Family Fun
END:VEVENT
BEGIN:VEVENT
DTSTART;TZID=America/Los_Angeles:20250917T110000
DTEND;TZID=America/Los_Angeles:20250917T120000
DTSTAMP:20260421T180854
CREATED:20250903T201259Z
LAST-MODIFIED:20250903T201259Z
UID:10025501-1758106800-1758110400@tillamookchamber.org
SUMMARY:Drop In Tech Help at Tillamook Main Library
DESCRIPTION:Get help with smartphones\, tablets\, laptops\, and similar at the library!
URL:https://tillamookchamber.org/event/drop-in-tech-help-at-tillamook-main-library-7/
LOCATION:Tillamook County Library\, 1716 3rd Street Tillamook Oregon 97141
CATEGORIES:Community
ATTACH;FMTTYPE=image/png:https://tillamookchamber.org/wp-content/uploads/2025/09/Drop-In-Tech-Help-091725-Eng-TM.png
END:VEVENT
BEGIN:VEVENT
DTSTART;TZID=America/Los_Angeles:20250915T103000
DTEND;TZID=America/Los_Angeles:20250915T123000
DTSTAMP:20260421T180854
CREATED:20250703T182108Z
LAST-MODIFIED:20250703T182108Z
UID:10022964-1757932200-1757939400@tillamookchamber.org
SUMMARY:Dungeons and Dragons at Tillamook Library
DESCRIPTION:Play a variety of tabletop RPGs with local storytellers at the library! Open to all!
URL:https://tillamookchamber.org/event/dungeons-and-dragons-at-tillamook-library/2025-09-15/
LOCATION:Tillamook County Library\, 1716 3rd Street Tillamook Oregon 97141
CATEGORIES:Community
ATTACH;FMTTYPE=image/png:https://tillamookchamber.org/wp-content/uploads/2025/07/Dungeons-Dragons-2025-TM-1.png
END:VEVENT
BEGIN:VEVENT
DTSTART;TZID=America/Los_Angeles:20250913T130000
DTEND;TZID=America/Los_Angeles:20250913T150000
DTSTAMP:20260421T180854
CREATED:20250902T183539Z
LAST-MODIFIED:20250902T183539Z
UID:10025488-1757768400-1757775600@tillamookchamber.org
SUMMARY:Crafternoon at Tillamook Library
DESCRIPTION:Join us for fun crafts in the library!
URL:https://tillamookchamber.org/event/crafternoon-at-tillamook-library-3/
LOCATION:Tillamook County Library\, 1716 3rd Street Tillamook Oregon 97141
CATEGORIES:Classes and Workshops,Community
ATTACH;FMTTYPE=image/png:https://tillamookchamber.org/wp-content/uploads/2025/08/Crafternoons-091325-TM-.png
END:VEVENT
BEGIN:VEVENT
DTSTART;TZID=America/Los_Angeles:20250913T130000
DTEND;TZID=America/Los_Angeles:20250913T140000
DTSTAMP:20260421T180854
CREATED:20250902T183638Z
LAST-MODIFIED:20250902T183638Z
UID:10025487-1757768400-1757772000@tillamookchamber.org
SUMMARY:Chalk Poetry in the Park at Tillamook Library
DESCRIPTION:Write poems (your own originals or favorites) on the library park in chalk!
URL:https://tillamookchamber.org/event/chalk-poetry-in-the-park-at-tillamook-library/2025-09-13/2/
LOCATION:Tillamook County Library\, 1716 3rd Street Tillamook Oregon 97141
CATEGORIES:Community,Family Fun
END:VEVENT
BEGIN:VEVENT
DTSTART;TZID=America/Los_Angeles:20250913T100000
DTEND;TZID=America/Los_Angeles:20250913T120000
DTSTAMP:20260421T180854
CREATED:20250703T182150Z
LAST-MODIFIED:20250703T182150Z
UID:10022703-1757757600-1757764800@tillamookchamber.org
SUMMARY:Dungeons and Dragons at Tillamook Library
DESCRIPTION:Play a variety of tabletop RPGs with local storytellers at the library! Open to all!
URL:https://tillamookchamber.org/event/dungeons-and-dragons-at-tillamook-library-2/2025-09-13/
LOCATION:Tillamook County Library\, 1716 3rd Street Tillamook Oregon 97141
CATEGORIES:Community
ATTACH;FMTTYPE=image/png:https://tillamookchamber.org/wp-content/uploads/2025/07/Dungeons-Dragons-2025-TM.png
END:VEVENT
BEGIN:VEVENT
DTSTART;TZID=America/Los_Angeles:20250913T080000
DTEND;TZID=America/Los_Angeles:20250913T170000
DTSTAMP:20260421T180854
CREATED:20250902T183638Z
LAST-MODIFIED:20250902T183638Z
UID:10025486-1757750400-1757782800@tillamookchamber.org
SUMMARY:Chalk Poetry in the Park at Tillamook Library
DESCRIPTION:Write poems (your own originals or favorites) on the library park in chalk!
URL:https://tillamookchamber.org/event/chalk-poetry-in-the-park-at-tillamook-library/2025-09-13/1/
LOCATION:Tillamook County Library\, 1716 3rd Street Tillamook Oregon 97141
CATEGORIES:Community,Family Fun
END:VEVENT
BEGIN:VEVENT
DTSTART;TZID=America/Los_Angeles:20250912T160000
DTEND;TZID=America/Los_Angeles:20250912T170000
DTSTAMP:20260421T180854
CREATED:20250902T183844Z
LAST-MODIFIED:20250902T183844Z
UID:10025484-1757692800-1757696400@tillamookchamber.org
SUMMARY:Body Scan Mindfulness with Morgan Motsinger at Tillamook Library
DESCRIPTION:Discover how to systematically relax your body from head to toe with speaker Morgan Motsinger at the library!
URL:https://tillamookchamber.org/event/body-scan-mindfulness-with-morgan-motsinger-at-tillamook-library/
LOCATION:Tillamook County Library\, 1716 3rd Street Tillamook Oregon 97141
CATEGORIES:Classes and Workshops,Community
ATTACH;FMTTYPE=image/png:https://tillamookchamber.org/wp-content/uploads/2025/08/Body-Scan-Mindfulness-091225-TM.png
END:VEVENT
BEGIN:VEVENT
DTSTART;TZID=America/Los_Angeles:20250912T140000
DTEND;TZID=America/Los_Angeles:20250912T150000
DTSTAMP:20260421T180854
CREATED:20250902T183745Z
LAST-MODIFIED:20250902T183745Z
UID:10025485-1757685600-1757689200@tillamookchamber.org
SUMMARY:Book Release Party at Tillamook Library
DESCRIPTION:Join us to celebrate the release of local author Neal Lemery’s new book “Recharging Ourselves: Strengthening Our Community Through Kindness” at the library!
URL:https://tillamookchamber.org/event/book-release-party-at-tillamook-library/
LOCATION:Tillamook County Library\, 1716 3rd Street Tillamook Oregon 97141
CATEGORIES:Community,Education
ATTACH;FMTTYPE=image/png:https://tillamookchamber.org/wp-content/uploads/2025/08/Book-Release-Party-091225-TM.png
END:VEVENT
BEGIN:VEVENT
DTSTART;TZID=America/Los_Angeles:20250910T180000
DTEND;TZID=America/Los_Angeles:20250910T200000
DTSTAMP:20260421T180854
CREATED:20250902T183455Z
LAST-MODIFIED:20250902T183455Z
UID:10025490-1757527200-1757534400@tillamookchamber.org
SUMMARY:September Movies At Main: Music and Musicals
DESCRIPTION:Join us every Wednesday evening at the Tillamook Main Library for movie night at 6 pm!\n\n9/3 Gold Diggers of 1935 (1935)\n\n9/10 Viva Las Vegas (1964)\n\n9/17 A Damsel In Distress (1937)\n\n9/24 Hairspray (1988)
URL:https://tillamookchamber.org/event/september-movies-at-main-music-and-musicals/2025-09-10/
LOCATION:Tillamook County Library\, 1716 3rd Street Tillamook Oregon 97141
CATEGORIES:Community,Family Fun
END:VEVENT
BEGIN:VEVENT
DTSTART;TZID=America/Los_Angeles:20250910T173000
DTEND;TZID=America/Los_Angeles:20250910T200000
DTSTAMP:20260421T180854
CREATED:20250903T201333Z
LAST-MODIFIED:20250903T201333Z
UID:10025500-1757525400-1757534400@tillamookchamber.org
SUMMARY:Suicide Prevention and Self-Care with TFCC at Tillamook Library
DESCRIPTION:Join Tillamook Family Counseling Center for an evening of learning about suicide prevention and self-care at the library!
URL:https://tillamookchamber.org/event/suicide-prevention-and-self-care-with-tfcc-at-tillamook-library/
LOCATION:Tillamook County Library\, 1716 3rd Street Tillamook Oregon 97141
CATEGORIES:Community,Education
ATTACH;FMTTYPE=image/png:https://tillamookchamber.org/wp-content/uploads/2025/09/Suicide-prevention-TFCC-091025.png
END:VEVENT
BEGIN:VEVENT
DTSTART;TZID=America/Los_Angeles:20250908T103000
DTEND;TZID=America/Los_Angeles:20250908T123000
DTSTAMP:20260421T180854
CREATED:20250703T182108Z
LAST-MODIFIED:20250703T182108Z
UID:10022963-1757327400-1757334600@tillamookchamber.org
SUMMARY:Dungeons and Dragons at Tillamook Library
DESCRIPTION:Play a variety of tabletop RPGs with local storytellers at the library! Open to all!
URL:https://tillamookchamber.org/event/dungeons-and-dragons-at-tillamook-library/2025-09-08/
LOCATION:Tillamook County Library\, 1716 3rd Street Tillamook Oregon 97141
CATEGORIES:Community
ATTACH;FMTTYPE=image/png:https://tillamookchamber.org/wp-content/uploads/2025/07/Dungeons-Dragons-2025-TM-1.png
END:VEVENT
END:VCALENDAR