BEGIN:VCALENDAR
VERSION:2.0
PRODID:-//Tillamook Area Chamber of Commerce - ECPv6.15.20//NONSGML v1.0//EN
CALSCALE:GREGORIAN
METHOD:PUBLISH
X-WR-CALNAME:Tillamook Area Chamber of Commerce
X-ORIGINAL-URL:https://tillamookchamber.org
X-WR-CALDESC:Events for Tillamook Area Chamber of Commerce
REFRESH-INTERVAL;VALUE=DURATION:PT1H
X-Robots-Tag:noindex
X-PUBLISHED-TTL:PT1H
BEGIN:VTIMEZONE
TZID:America/Los_Angeles
BEGIN:DAYLIGHT
TZOFFSETFROM:-0800
TZOFFSETTO:-0700
TZNAME:PDT
DTSTART:20290311T100000
END:DAYLIGHT
BEGIN:STANDARD
TZOFFSETFROM:-0700
TZOFFSETTO:-0800
TZNAME:PST
DTSTART:20291104T090000
END:STANDARD
BEGIN:DAYLIGHT
TZOFFSETFROM:-0800
TZOFFSETTO:-0700
TZNAME:PDT
DTSTART:20300310T100000
END:DAYLIGHT
BEGIN:STANDARD
TZOFFSETFROM:-0700
TZOFFSETTO:-0800
TZNAME:PST
DTSTART:20301103T090000
END:STANDARD
BEGIN:DAYLIGHT
TZOFFSETFROM:-0800
TZOFFSETTO:-0700
TZNAME:PDT
DTSTART:20310309T100000
END:DAYLIGHT
BEGIN:STANDARD
TZOFFSETFROM:-0700
TZOFFSETTO:-0800
TZNAME:PST
DTSTART:20311102T090000
END:STANDARD
END:VTIMEZONE
BEGIN:VEVENT
DTSTART;TZID=America/Los_Angeles:20300622T100000
DTEND;TZID=America/Los_Angeles:20300622T120000
DTSTAMP:20260421T194107
CREATED:20250703T182150Z
LAST-MODIFIED:20250703T182150Z
UID:10022952-1908352800-1908360000@tillamookchamber.org
SUMMARY:Dungeons and Dragons at Tillamook Library
DESCRIPTION:Play a variety of tabletop RPGs with local storytellers at the library! Open to all!
URL:https://tillamookchamber.org/event/dungeons-and-dragons-at-tillamook-library-2/2030-06-22/
LOCATION:Tillamook County Library\, 1716 3rd Street Tillamook Oregon 97141
CATEGORIES:Community
ATTACH;FMTTYPE=image/png:https://tillamookchamber.org/wp-content/uploads/2025/07/Dungeons-Dragons-2025-TM.png
END:VEVENT
BEGIN:VEVENT
DTSTART;TZID=America/Los_Angeles:20300624T103000
DTEND;TZID=America/Los_Angeles:20300624T123000
DTSTAMP:20260421T194107
CREATED:20250703T182108Z
LAST-MODIFIED:20250703T182108Z
UID:10023213-1908527400-1908534600@tillamookchamber.org
SUMMARY:Dungeons and Dragons at Tillamook Library
DESCRIPTION:Play a variety of tabletop RPGs with local storytellers at the library! Open to all!
URL:https://tillamookchamber.org/event/dungeons-and-dragons-at-tillamook-library/2030-06-24/
LOCATION:Tillamook County Library\, 1716 3rd Street Tillamook Oregon 97141
CATEGORIES:Community
ATTACH;FMTTYPE=image/png:https://tillamookchamber.org/wp-content/uploads/2025/07/Dungeons-Dragons-2025-TM-1.png
END:VEVENT
BEGIN:VEVENT
DTSTART;TZID=America/Los_Angeles:20300629T100000
DTEND;TZID=America/Los_Angeles:20300629T120000
DTSTAMP:20260421T194107
CREATED:20250703T182150Z
LAST-MODIFIED:20250703T182150Z
UID:10022953-1908957600-1908964800@tillamookchamber.org
SUMMARY:Dungeons and Dragons at Tillamook Library
DESCRIPTION:Play a variety of tabletop RPGs with local storytellers at the library! Open to all!
URL:https://tillamookchamber.org/event/dungeons-and-dragons-at-tillamook-library-2/2030-06-29/
LOCATION:Tillamook County Library\, 1716 3rd Street Tillamook Oregon 97141
CATEGORIES:Community
ATTACH;FMTTYPE=image/png:https://tillamookchamber.org/wp-content/uploads/2025/07/Dungeons-Dragons-2025-TM.png
END:VEVENT
BEGIN:VEVENT
DTSTART;TZID=America/Los_Angeles:20300701T103000
DTEND;TZID=America/Los_Angeles:20300701T123000
DTSTAMP:20260421T194107
CREATED:20250703T182108Z
LAST-MODIFIED:20250703T182108Z
UID:10023214-1909132200-1909139400@tillamookchamber.org
SUMMARY:Dungeons and Dragons at Tillamook Library
DESCRIPTION:Play a variety of tabletop RPGs with local storytellers at the library! Open to all!
URL:https://tillamookchamber.org/event/dungeons-and-dragons-at-tillamook-library/2030-07-01/
LOCATION:Tillamook County Library\, 1716 3rd Street Tillamook Oregon 97141
CATEGORIES:Community
ATTACH;FMTTYPE=image/png:https://tillamookchamber.org/wp-content/uploads/2025/07/Dungeons-Dragons-2025-TM-1.png
END:VEVENT
END:VCALENDAR