BEGIN:VCALENDAR
VERSION:2.0
PRODID:-//Tillamook Area Chamber of Commerce - ECPv6.15.20//NONSGML v1.0//EN
CALSCALE:GREGORIAN
METHOD:PUBLISH
X-WR-CALNAME:Tillamook Area Chamber of Commerce
X-ORIGINAL-URL:https://tillamookchamber.org
X-WR-CALDESC:Events for Tillamook Area Chamber of Commerce
REFRESH-INTERVAL;VALUE=DURATION:PT1H
X-Robots-Tag:noindex
X-PUBLISHED-TTL:PT1H
BEGIN:VTIMEZONE
TZID:America/Los_Angeles
BEGIN:DAYLIGHT
TZOFFSETFROM:-0800
TZOFFSETTO:-0700
TZNAME:PDT
DTSTART:20270314T100000
END:DAYLIGHT
BEGIN:STANDARD
TZOFFSETFROM:-0700
TZOFFSETTO:-0800
TZNAME:PST
DTSTART:20271107T090000
END:STANDARD
BEGIN:DAYLIGHT
TZOFFSETFROM:-0800
TZOFFSETTO:-0700
TZNAME:PDT
DTSTART:20280312T100000
END:DAYLIGHT
BEGIN:STANDARD
TZOFFSETFROM:-0700
TZOFFSETTO:-0800
TZNAME:PST
DTSTART:20281105T090000
END:STANDARD
BEGIN:DAYLIGHT
TZOFFSETFROM:-0800
TZOFFSETTO:-0700
TZNAME:PDT
DTSTART:20290311T100000
END:DAYLIGHT
BEGIN:STANDARD
TZOFFSETFROM:-0700
TZOFFSETTO:-0800
TZNAME:PST
DTSTART:20291104T090000
END:STANDARD
BEGIN:DAYLIGHT
TZOFFSETFROM:-0800
TZOFFSETTO:-0700
TZNAME:PDT
DTSTART:20300310T100000
END:DAYLIGHT
BEGIN:STANDARD
TZOFFSETFROM:-0700
TZOFFSETTO:-0800
TZNAME:PST
DTSTART:20301103T090000
END:STANDARD
END:VTIMEZONE
BEGIN:VEVENT
DTSTART;TZID=America/Los_Angeles:20281223T100000
DTEND;TZID=America/Los_Angeles:20281223T120000
DTSTAMP:20260420T222925
CREATED:20250703T182150Z
LAST-MODIFIED:20250703T182150Z
UID:10022874-1861178400-1861185600@tillamookchamber.org
SUMMARY:Dungeons and Dragons at Tillamook Library
DESCRIPTION:Play a variety of tabletop RPGs with local storytellers at the library! Open to all!
URL:https://tillamookchamber.org/event/dungeons-and-dragons-at-tillamook-library-2/2028-12-23/
LOCATION:Tillamook County Library\, 1716 3rd Street Tillamook Oregon 97141
CATEGORIES:Community
ATTACH;FMTTYPE=image/png:https://tillamookchamber.org/wp-content/uploads/2025/07/Dungeons-Dragons-2025-TM.png
END:VEVENT
BEGIN:VEVENT
DTSTART;TZID=America/Los_Angeles:20281225T103000
DTEND;TZID=America/Los_Angeles:20281225T123000
DTSTAMP:20260420T222925
CREATED:20250703T182108Z
LAST-MODIFIED:20250703T182108Z
UID:10023135-1861353000-1861360200@tillamookchamber.org
SUMMARY:Dungeons and Dragons at Tillamook Library
DESCRIPTION:Play a variety of tabletop RPGs with local storytellers at the library! Open to all!
URL:https://tillamookchamber.org/event/dungeons-and-dragons-at-tillamook-library/2028-12-25/
LOCATION:Tillamook County Library\, 1716 3rd Street Tillamook Oregon 97141
CATEGORIES:Community
ATTACH;FMTTYPE=image/png:https://tillamookchamber.org/wp-content/uploads/2025/07/Dungeons-Dragons-2025-TM-1.png
END:VEVENT
BEGIN:VEVENT
DTSTART;TZID=America/Los_Angeles:20281230T100000
DTEND;TZID=America/Los_Angeles:20281230T120000
DTSTAMP:20260420T222925
CREATED:20250703T182150Z
LAST-MODIFIED:20250703T182150Z
UID:10022875-1861783200-1861790400@tillamookchamber.org
SUMMARY:Dungeons and Dragons at Tillamook Library
DESCRIPTION:Play a variety of tabletop RPGs with local storytellers at the library! Open to all!
URL:https://tillamookchamber.org/event/dungeons-and-dragons-at-tillamook-library-2/2028-12-30/
LOCATION:Tillamook County Library\, 1716 3rd Street Tillamook Oregon 97141
CATEGORIES:Community
ATTACH;FMTTYPE=image/png:https://tillamookchamber.org/wp-content/uploads/2025/07/Dungeons-Dragons-2025-TM.png
END:VEVENT
BEGIN:VEVENT
DTSTART;TZID=America/Los_Angeles:20290101T103000
DTEND;TZID=America/Los_Angeles:20290101T123000
DTSTAMP:20260420T222925
CREATED:20250703T182108Z
LAST-MODIFIED:20250703T182108Z
UID:10023136-1861957800-1861965000@tillamookchamber.org
SUMMARY:Dungeons and Dragons at Tillamook Library
DESCRIPTION:Play a variety of tabletop RPGs with local storytellers at the library! Open to all!
URL:https://tillamookchamber.org/event/dungeons-and-dragons-at-tillamook-library/2029-01-01/
LOCATION:Tillamook County Library\, 1716 3rd Street Tillamook Oregon 97141
CATEGORIES:Community
ATTACH;FMTTYPE=image/png:https://tillamookchamber.org/wp-content/uploads/2025/07/Dungeons-Dragons-2025-TM-1.png
END:VEVENT
BEGIN:VEVENT
DTSTART;TZID=America/Los_Angeles:20290106T100000
DTEND;TZID=America/Los_Angeles:20290106T120000
DTSTAMP:20260420T222925
CREATED:20250703T182150Z
LAST-MODIFIED:20250703T182150Z
UID:10022876-1862388000-1862395200@tillamookchamber.org
SUMMARY:Dungeons and Dragons at Tillamook Library
DESCRIPTION:Play a variety of tabletop RPGs with local storytellers at the library! Open to all!
URL:https://tillamookchamber.org/event/dungeons-and-dragons-at-tillamook-library-2/2029-01-06/
LOCATION:Tillamook County Library\, 1716 3rd Street Tillamook Oregon 97141
CATEGORIES:Community
ATTACH;FMTTYPE=image/png:https://tillamookchamber.org/wp-content/uploads/2025/07/Dungeons-Dragons-2025-TM.png
END:VEVENT
BEGIN:VEVENT
DTSTART;TZID=America/Los_Angeles:20290108T103000
DTEND;TZID=America/Los_Angeles:20290108T123000
DTSTAMP:20260420T222925
CREATED:20250703T182108Z
LAST-MODIFIED:20250703T182108Z
UID:10023137-1862562600-1862569800@tillamookchamber.org
SUMMARY:Dungeons and Dragons at Tillamook Library
DESCRIPTION:Play a variety of tabletop RPGs with local storytellers at the library! Open to all!
URL:https://tillamookchamber.org/event/dungeons-and-dragons-at-tillamook-library/2029-01-08/
LOCATION:Tillamook County Library\, 1716 3rd Street Tillamook Oregon 97141
CATEGORIES:Community
ATTACH;FMTTYPE=image/png:https://tillamookchamber.org/wp-content/uploads/2025/07/Dungeons-Dragons-2025-TM-1.png
END:VEVENT
BEGIN:VEVENT
DTSTART;TZID=America/Los_Angeles:20290113T100000
DTEND;TZID=America/Los_Angeles:20290113T120000
DTSTAMP:20260420T222925
CREATED:20250703T182150Z
LAST-MODIFIED:20250703T182150Z
UID:10022877-1862992800-1863000000@tillamookchamber.org
SUMMARY:Dungeons and Dragons at Tillamook Library
DESCRIPTION:Play a variety of tabletop RPGs with local storytellers at the library! Open to all!
URL:https://tillamookchamber.org/event/dungeons-and-dragons-at-tillamook-library-2/2029-01-13/
LOCATION:Tillamook County Library\, 1716 3rd Street Tillamook Oregon 97141
CATEGORIES:Community
ATTACH;FMTTYPE=image/png:https://tillamookchamber.org/wp-content/uploads/2025/07/Dungeons-Dragons-2025-TM.png
END:VEVENT
BEGIN:VEVENT
DTSTART;TZID=America/Los_Angeles:20290115T103000
DTEND;TZID=America/Los_Angeles:20290115T123000
DTSTAMP:20260420T222925
CREATED:20250703T182108Z
LAST-MODIFIED:20250703T182108Z
UID:10023138-1863167400-1863174600@tillamookchamber.org
SUMMARY:Dungeons and Dragons at Tillamook Library
DESCRIPTION:Play a variety of tabletop RPGs with local storytellers at the library! Open to all!
URL:https://tillamookchamber.org/event/dungeons-and-dragons-at-tillamook-library/2029-01-15/
LOCATION:Tillamook County Library\, 1716 3rd Street Tillamook Oregon 97141
CATEGORIES:Community
ATTACH;FMTTYPE=image/png:https://tillamookchamber.org/wp-content/uploads/2025/07/Dungeons-Dragons-2025-TM-1.png
END:VEVENT
BEGIN:VEVENT
DTSTART;TZID=America/Los_Angeles:20290120T100000
DTEND;TZID=America/Los_Angeles:20290120T120000
DTSTAMP:20260420T222925
CREATED:20250703T182150Z
LAST-MODIFIED:20250703T182150Z
UID:10022878-1863597600-1863604800@tillamookchamber.org
SUMMARY:Dungeons and Dragons at Tillamook Library
DESCRIPTION:Play a variety of tabletop RPGs with local storytellers at the library! Open to all!
URL:https://tillamookchamber.org/event/dungeons-and-dragons-at-tillamook-library-2/2029-01-20/
LOCATION:Tillamook County Library\, 1716 3rd Street Tillamook Oregon 97141
CATEGORIES:Community
ATTACH;FMTTYPE=image/png:https://tillamookchamber.org/wp-content/uploads/2025/07/Dungeons-Dragons-2025-TM.png
END:VEVENT
BEGIN:VEVENT
DTSTART;TZID=America/Los_Angeles:20290122T103000
DTEND;TZID=America/Los_Angeles:20290122T123000
DTSTAMP:20260420T222925
CREATED:20250703T182108Z
LAST-MODIFIED:20250703T182108Z
UID:10023139-1863772200-1863779400@tillamookchamber.org
SUMMARY:Dungeons and Dragons at Tillamook Library
DESCRIPTION:Play a variety of tabletop RPGs with local storytellers at the library! Open to all!
URL:https://tillamookchamber.org/event/dungeons-and-dragons-at-tillamook-library/2029-01-22/
LOCATION:Tillamook County Library\, 1716 3rd Street Tillamook Oregon 97141
CATEGORIES:Community
ATTACH;FMTTYPE=image/png:https://tillamookchamber.org/wp-content/uploads/2025/07/Dungeons-Dragons-2025-TM-1.png
END:VEVENT
BEGIN:VEVENT
DTSTART;TZID=America/Los_Angeles:20290127T100000
DTEND;TZID=America/Los_Angeles:20290127T120000
DTSTAMP:20260420T222925
CREATED:20250703T182150Z
LAST-MODIFIED:20250703T182150Z
UID:10022879-1864202400-1864209600@tillamookchamber.org
SUMMARY:Dungeons and Dragons at Tillamook Library
DESCRIPTION:Play a variety of tabletop RPGs with local storytellers at the library! Open to all!
URL:https://tillamookchamber.org/event/dungeons-and-dragons-at-tillamook-library-2/2029-01-27/
LOCATION:Tillamook County Library\, 1716 3rd Street Tillamook Oregon 97141
CATEGORIES:Community
ATTACH;FMTTYPE=image/png:https://tillamookchamber.org/wp-content/uploads/2025/07/Dungeons-Dragons-2025-TM.png
END:VEVENT
BEGIN:VEVENT
DTSTART;TZID=America/Los_Angeles:20290129T103000
DTEND;TZID=America/Los_Angeles:20290129T123000
DTSTAMP:20260420T222925
CREATED:20250703T182108Z
LAST-MODIFIED:20250703T182108Z
UID:10023140-1864377000-1864384200@tillamookchamber.org
SUMMARY:Dungeons and Dragons at Tillamook Library
DESCRIPTION:Play a variety of tabletop RPGs with local storytellers at the library! Open to all!
URL:https://tillamookchamber.org/event/dungeons-and-dragons-at-tillamook-library/2029-01-29/
LOCATION:Tillamook County Library\, 1716 3rd Street Tillamook Oregon 97141
CATEGORIES:Community
ATTACH;FMTTYPE=image/png:https://tillamookchamber.org/wp-content/uploads/2025/07/Dungeons-Dragons-2025-TM-1.png
END:VEVENT
BEGIN:VEVENT
DTSTART;TZID=America/Los_Angeles:20290203T100000
DTEND;TZID=America/Los_Angeles:20290203T120000
DTSTAMP:20260420T222925
CREATED:20250703T182150Z
LAST-MODIFIED:20250703T182150Z
UID:10022880-1864807200-1864814400@tillamookchamber.org
SUMMARY:Dungeons and Dragons at Tillamook Library
DESCRIPTION:Play a variety of tabletop RPGs with local storytellers at the library! Open to all!
URL:https://tillamookchamber.org/event/dungeons-and-dragons-at-tillamook-library-2/2029-02-03/
LOCATION:Tillamook County Library\, 1716 3rd Street Tillamook Oregon 97141
CATEGORIES:Community
ATTACH;FMTTYPE=image/png:https://tillamookchamber.org/wp-content/uploads/2025/07/Dungeons-Dragons-2025-TM.png
END:VEVENT
BEGIN:VEVENT
DTSTART;TZID=America/Los_Angeles:20290205T103000
DTEND;TZID=America/Los_Angeles:20290205T123000
DTSTAMP:20260420T222925
CREATED:20250703T182108Z
LAST-MODIFIED:20250703T182108Z
UID:10023141-1864981800-1864989000@tillamookchamber.org
SUMMARY:Dungeons and Dragons at Tillamook Library
DESCRIPTION:Play a variety of tabletop RPGs with local storytellers at the library! Open to all!
URL:https://tillamookchamber.org/event/dungeons-and-dragons-at-tillamook-library/2029-02-05/
LOCATION:Tillamook County Library\, 1716 3rd Street Tillamook Oregon 97141
CATEGORIES:Community
ATTACH;FMTTYPE=image/png:https://tillamookchamber.org/wp-content/uploads/2025/07/Dungeons-Dragons-2025-TM-1.png
END:VEVENT
BEGIN:VEVENT
DTSTART;TZID=America/Los_Angeles:20290210T100000
DTEND;TZID=America/Los_Angeles:20290210T120000
DTSTAMP:20260420T222925
CREATED:20250703T182150Z
LAST-MODIFIED:20250703T182150Z
UID:10022881-1865412000-1865419200@tillamookchamber.org
SUMMARY:Dungeons and Dragons at Tillamook Library
DESCRIPTION:Play a variety of tabletop RPGs with local storytellers at the library! Open to all!
URL:https://tillamookchamber.org/event/dungeons-and-dragons-at-tillamook-library-2/2029-02-10/
LOCATION:Tillamook County Library\, 1716 3rd Street Tillamook Oregon 97141
CATEGORIES:Community
ATTACH;FMTTYPE=image/png:https://tillamookchamber.org/wp-content/uploads/2025/07/Dungeons-Dragons-2025-TM.png
END:VEVENT
BEGIN:VEVENT
DTSTART;TZID=America/Los_Angeles:20290212T103000
DTEND;TZID=America/Los_Angeles:20290212T123000
DTSTAMP:20260420T222925
CREATED:20250703T182108Z
LAST-MODIFIED:20250703T182108Z
UID:10023142-1865586600-1865593800@tillamookchamber.org
SUMMARY:Dungeons and Dragons at Tillamook Library
DESCRIPTION:Play a variety of tabletop RPGs with local storytellers at the library! Open to all!
URL:https://tillamookchamber.org/event/dungeons-and-dragons-at-tillamook-library/2029-02-12/
LOCATION:Tillamook County Library\, 1716 3rd Street Tillamook Oregon 97141
CATEGORIES:Community
ATTACH;FMTTYPE=image/png:https://tillamookchamber.org/wp-content/uploads/2025/07/Dungeons-Dragons-2025-TM-1.png
END:VEVENT
BEGIN:VEVENT
DTSTART;TZID=America/Los_Angeles:20290217T100000
DTEND;TZID=America/Los_Angeles:20290217T120000
DTSTAMP:20260420T222925
CREATED:20250703T182150Z
LAST-MODIFIED:20250703T182150Z
UID:10022882-1866016800-1866024000@tillamookchamber.org
SUMMARY:Dungeons and Dragons at Tillamook Library
DESCRIPTION:Play a variety of tabletop RPGs with local storytellers at the library! Open to all!
URL:https://tillamookchamber.org/event/dungeons-and-dragons-at-tillamook-library-2/2029-02-17/
LOCATION:Tillamook County Library\, 1716 3rd Street Tillamook Oregon 97141
CATEGORIES:Community
ATTACH;FMTTYPE=image/png:https://tillamookchamber.org/wp-content/uploads/2025/07/Dungeons-Dragons-2025-TM.png
END:VEVENT
BEGIN:VEVENT
DTSTART;TZID=America/Los_Angeles:20290219T103000
DTEND;TZID=America/Los_Angeles:20290219T123000
DTSTAMP:20260420T222925
CREATED:20250703T182108Z
LAST-MODIFIED:20250703T182108Z
UID:10023143-1866191400-1866198600@tillamookchamber.org
SUMMARY:Dungeons and Dragons at Tillamook Library
DESCRIPTION:Play a variety of tabletop RPGs with local storytellers at the library! Open to all!
URL:https://tillamookchamber.org/event/dungeons-and-dragons-at-tillamook-library/2029-02-19/
LOCATION:Tillamook County Library\, 1716 3rd Street Tillamook Oregon 97141
CATEGORIES:Community
ATTACH;FMTTYPE=image/png:https://tillamookchamber.org/wp-content/uploads/2025/07/Dungeons-Dragons-2025-TM-1.png
END:VEVENT
BEGIN:VEVENT
DTSTART;TZID=America/Los_Angeles:20290224T100000
DTEND;TZID=America/Los_Angeles:20290224T120000
DTSTAMP:20260420T222925
CREATED:20250703T182150Z
LAST-MODIFIED:20250703T182150Z
UID:10022883-1866621600-1866628800@tillamookchamber.org
SUMMARY:Dungeons and Dragons at Tillamook Library
DESCRIPTION:Play a variety of tabletop RPGs with local storytellers at the library! Open to all!
URL:https://tillamookchamber.org/event/dungeons-and-dragons-at-tillamook-library-2/2029-02-24/
LOCATION:Tillamook County Library\, 1716 3rd Street Tillamook Oregon 97141
CATEGORIES:Community
ATTACH;FMTTYPE=image/png:https://tillamookchamber.org/wp-content/uploads/2025/07/Dungeons-Dragons-2025-TM.png
END:VEVENT
BEGIN:VEVENT
DTSTART;TZID=America/Los_Angeles:20290226T103000
DTEND;TZID=America/Los_Angeles:20290226T123000
DTSTAMP:20260420T222925
CREATED:20250703T182108Z
LAST-MODIFIED:20250703T182108Z
UID:10023144-1866796200-1866803400@tillamookchamber.org
SUMMARY:Dungeons and Dragons at Tillamook Library
DESCRIPTION:Play a variety of tabletop RPGs with local storytellers at the library! Open to all!
URL:https://tillamookchamber.org/event/dungeons-and-dragons-at-tillamook-library/2029-02-26/
LOCATION:Tillamook County Library\, 1716 3rd Street Tillamook Oregon 97141
CATEGORIES:Community
ATTACH;FMTTYPE=image/png:https://tillamookchamber.org/wp-content/uploads/2025/07/Dungeons-Dragons-2025-TM-1.png
END:VEVENT
BEGIN:VEVENT
DTSTART;TZID=America/Los_Angeles:20290303T100000
DTEND;TZID=America/Los_Angeles:20290303T120000
DTSTAMP:20260420T222925
CREATED:20250703T182150Z
LAST-MODIFIED:20250703T182150Z
UID:10022884-1867226400-1867233600@tillamookchamber.org
SUMMARY:Dungeons and Dragons at Tillamook Library
DESCRIPTION:Play a variety of tabletop RPGs with local storytellers at the library! Open to all!
URL:https://tillamookchamber.org/event/dungeons-and-dragons-at-tillamook-library-2/2029-03-03/
LOCATION:Tillamook County Library\, 1716 3rd Street Tillamook Oregon 97141
CATEGORIES:Community
ATTACH;FMTTYPE=image/png:https://tillamookchamber.org/wp-content/uploads/2025/07/Dungeons-Dragons-2025-TM.png
END:VEVENT
BEGIN:VEVENT
DTSTART;TZID=America/Los_Angeles:20290305T103000
DTEND;TZID=America/Los_Angeles:20290305T123000
DTSTAMP:20260420T222925
CREATED:20250703T182108Z
LAST-MODIFIED:20250703T182108Z
UID:10023145-1867401000-1867408200@tillamookchamber.org
SUMMARY:Dungeons and Dragons at Tillamook Library
DESCRIPTION:Play a variety of tabletop RPGs with local storytellers at the library! Open to all!
URL:https://tillamookchamber.org/event/dungeons-and-dragons-at-tillamook-library/2029-03-05/
LOCATION:Tillamook County Library\, 1716 3rd Street Tillamook Oregon 97141
CATEGORIES:Community
ATTACH;FMTTYPE=image/png:https://tillamookchamber.org/wp-content/uploads/2025/07/Dungeons-Dragons-2025-TM-1.png
END:VEVENT
BEGIN:VEVENT
DTSTART;TZID=America/Los_Angeles:20290310T100000
DTEND;TZID=America/Los_Angeles:20290310T120000
DTSTAMP:20260420T222925
CREATED:20250703T182150Z
LAST-MODIFIED:20250703T182150Z
UID:10022885-1867831200-1867838400@tillamookchamber.org
SUMMARY:Dungeons and Dragons at Tillamook Library
DESCRIPTION:Play a variety of tabletop RPGs with local storytellers at the library! Open to all!
URL:https://tillamookchamber.org/event/dungeons-and-dragons-at-tillamook-library-2/2029-03-10/
LOCATION:Tillamook County Library\, 1716 3rd Street Tillamook Oregon 97141
CATEGORIES:Community
ATTACH;FMTTYPE=image/png:https://tillamookchamber.org/wp-content/uploads/2025/07/Dungeons-Dragons-2025-TM.png
END:VEVENT
BEGIN:VEVENT
DTSTART;TZID=America/Los_Angeles:20290312T103000
DTEND;TZID=America/Los_Angeles:20290312T123000
DTSTAMP:20260420T222925
CREATED:20250703T182108Z
LAST-MODIFIED:20250703T182108Z
UID:10023146-1868005800-1868013000@tillamookchamber.org
SUMMARY:Dungeons and Dragons at Tillamook Library
DESCRIPTION:Play a variety of tabletop RPGs with local storytellers at the library! Open to all!
URL:https://tillamookchamber.org/event/dungeons-and-dragons-at-tillamook-library/2029-03-12/
LOCATION:Tillamook County Library\, 1716 3rd Street Tillamook Oregon 97141
CATEGORIES:Community
ATTACH;FMTTYPE=image/png:https://tillamookchamber.org/wp-content/uploads/2025/07/Dungeons-Dragons-2025-TM-1.png
END:VEVENT
BEGIN:VEVENT
DTSTART;TZID=America/Los_Angeles:20290317T100000
DTEND;TZID=America/Los_Angeles:20290317T120000
DTSTAMP:20260420T222925
CREATED:20250703T182150Z
LAST-MODIFIED:20250703T182150Z
UID:10022886-1868436000-1868443200@tillamookchamber.org
SUMMARY:Dungeons and Dragons at Tillamook Library
DESCRIPTION:Play a variety of tabletop RPGs with local storytellers at the library! Open to all!
URL:https://tillamookchamber.org/event/dungeons-and-dragons-at-tillamook-library-2/2029-03-17/
LOCATION:Tillamook County Library\, 1716 3rd Street Tillamook Oregon 97141
CATEGORIES:Community
ATTACH;FMTTYPE=image/png:https://tillamookchamber.org/wp-content/uploads/2025/07/Dungeons-Dragons-2025-TM.png
END:VEVENT
BEGIN:VEVENT
DTSTART;TZID=America/Los_Angeles:20290319T103000
DTEND;TZID=America/Los_Angeles:20290319T123000
DTSTAMP:20260420T222925
CREATED:20250703T182108Z
LAST-MODIFIED:20250703T182108Z
UID:10023147-1868610600-1868617800@tillamookchamber.org
SUMMARY:Dungeons and Dragons at Tillamook Library
DESCRIPTION:Play a variety of tabletop RPGs with local storytellers at the library! Open to all!
URL:https://tillamookchamber.org/event/dungeons-and-dragons-at-tillamook-library/2029-03-19/
LOCATION:Tillamook County Library\, 1716 3rd Street Tillamook Oregon 97141
CATEGORIES:Community
ATTACH;FMTTYPE=image/png:https://tillamookchamber.org/wp-content/uploads/2025/07/Dungeons-Dragons-2025-TM-1.png
END:VEVENT
BEGIN:VEVENT
DTSTART;TZID=America/Los_Angeles:20290324T100000
DTEND;TZID=America/Los_Angeles:20290324T120000
DTSTAMP:20260420T222925
CREATED:20250703T182150Z
LAST-MODIFIED:20250703T182150Z
UID:10022887-1869040800-1869048000@tillamookchamber.org
SUMMARY:Dungeons and Dragons at Tillamook Library
DESCRIPTION:Play a variety of tabletop RPGs with local storytellers at the library! Open to all!
URL:https://tillamookchamber.org/event/dungeons-and-dragons-at-tillamook-library-2/2029-03-24/
LOCATION:Tillamook County Library\, 1716 3rd Street Tillamook Oregon 97141
CATEGORIES:Community
ATTACH;FMTTYPE=image/png:https://tillamookchamber.org/wp-content/uploads/2025/07/Dungeons-Dragons-2025-TM.png
END:VEVENT
BEGIN:VEVENT
DTSTART;TZID=America/Los_Angeles:20290326T103000
DTEND;TZID=America/Los_Angeles:20290326T123000
DTSTAMP:20260420T222925
CREATED:20250703T182108Z
LAST-MODIFIED:20250703T182108Z
UID:10023148-1869215400-1869222600@tillamookchamber.org
SUMMARY:Dungeons and Dragons at Tillamook Library
DESCRIPTION:Play a variety of tabletop RPGs with local storytellers at the library! Open to all!
URL:https://tillamookchamber.org/event/dungeons-and-dragons-at-tillamook-library/2029-03-26/
LOCATION:Tillamook County Library\, 1716 3rd Street Tillamook Oregon 97141
CATEGORIES:Community
ATTACH;FMTTYPE=image/png:https://tillamookchamber.org/wp-content/uploads/2025/07/Dungeons-Dragons-2025-TM-1.png
END:VEVENT
BEGIN:VEVENT
DTSTART;TZID=America/Los_Angeles:20290331T100000
DTEND;TZID=America/Los_Angeles:20290331T120000
DTSTAMP:20260420T222925
CREATED:20250703T182150Z
LAST-MODIFIED:20250703T182150Z
UID:10022888-1869645600-1869652800@tillamookchamber.org
SUMMARY:Dungeons and Dragons at Tillamook Library
DESCRIPTION:Play a variety of tabletop RPGs with local storytellers at the library! Open to all!
URL:https://tillamookchamber.org/event/dungeons-and-dragons-at-tillamook-library-2/2029-03-31/
LOCATION:Tillamook County Library\, 1716 3rd Street Tillamook Oregon 97141
CATEGORIES:Community
ATTACH;FMTTYPE=image/png:https://tillamookchamber.org/wp-content/uploads/2025/07/Dungeons-Dragons-2025-TM.png
END:VEVENT
BEGIN:VEVENT
DTSTART;TZID=America/Los_Angeles:20290402T103000
DTEND;TZID=America/Los_Angeles:20290402T123000
DTSTAMP:20260420T222925
CREATED:20250703T182108Z
LAST-MODIFIED:20250703T182108Z
UID:10023149-1869820200-1869827400@tillamookchamber.org
SUMMARY:Dungeons and Dragons at Tillamook Library
DESCRIPTION:Play a variety of tabletop RPGs with local storytellers at the library! Open to all!
URL:https://tillamookchamber.org/event/dungeons-and-dragons-at-tillamook-library/2029-04-02/
LOCATION:Tillamook County Library\, 1716 3rd Street Tillamook Oregon 97141
CATEGORIES:Community
ATTACH;FMTTYPE=image/png:https://tillamookchamber.org/wp-content/uploads/2025/07/Dungeons-Dragons-2025-TM-1.png
END:VEVENT
END:VCALENDAR