BEGIN:VCALENDAR
VERSION:2.0
PRODID:-//Tillamook Area Chamber of Commerce - ECPv6.15.20//NONSGML v1.0//EN
CALSCALE:GREGORIAN
METHOD:PUBLISH
X-ORIGINAL-URL:https://tillamookchamber.org
X-WR-CALDESC:Events for Tillamook Area Chamber of Commerce
REFRESH-INTERVAL;VALUE=DURATION:PT1H
X-Robots-Tag:noindex
X-PUBLISHED-TTL:PT1H
BEGIN:VTIMEZONE
TZID:America/Los_Angeles
BEGIN:DAYLIGHT
TZOFFSETFROM:-0800
TZOFFSETTO:-0700
TZNAME:PDT
DTSTART:20230312T100000
END:DAYLIGHT
BEGIN:STANDARD
TZOFFSETFROM:-0700
TZOFFSETTO:-0800
TZNAME:PST
DTSTART:20231105T090000
END:STANDARD
BEGIN:DAYLIGHT
TZOFFSETFROM:-0800
TZOFFSETTO:-0700
TZNAME:PDT
DTSTART:20240310T100000
END:DAYLIGHT
BEGIN:STANDARD
TZOFFSETFROM:-0700
TZOFFSETTO:-0800
TZNAME:PST
DTSTART:20241103T090000
END:STANDARD
BEGIN:DAYLIGHT
TZOFFSETFROM:-0800
TZOFFSETTO:-0700
TZNAME:PDT
DTSTART:20250309T100000
END:DAYLIGHT
BEGIN:STANDARD
TZOFFSETFROM:-0700
TZOFFSETTO:-0800
TZNAME:PST
DTSTART:20251102T090000
END:STANDARD
BEGIN:DAYLIGHT
TZOFFSETFROM:-0800
TZOFFSETTO:-0700
TZNAME:PDT
DTSTART:20260308T100000
END:DAYLIGHT
BEGIN:STANDARD
TZOFFSETFROM:-0700
TZOFFSETTO:-0800
TZNAME:PST
DTSTART:20261101T090000
END:STANDARD
END:VTIMEZONE
BEGIN:VEVENT
DTSTART;TZID=America/Los_Angeles:20250219T100000
DTEND;TZID=America/Los_Angeles:20250219T110000
DTSTAMP:20260423T014753
CREATED:20241209T175026Z
LAST-MODIFIED:20241209T175026Z
UID:10017421-1739959200-1739962800@tillamookchamber.org
SUMMARY:Drop In Tech Help at Tillamook Main Library
DESCRIPTION:Drop in for help with smartphones\, tablets\, laptops\, and similar in an informal Q&A setting at the library!
URL:https://tillamookchamber.org/event/drop-in-tech-help-at-tillamook-main-library-2/2025-02-19/
LOCATION:Tillamook County Library\, 1716 3rd Street Tillamook Oregon 97141
CATEGORIES:Community
END:VEVENT
BEGIN:VEVENT
DTSTART;TZID=America/Los_Angeles:20250219T090000
DTEND;TZID=America/Los_Angeles:20250219T170000
DTSTAMP:20260423T014753
CREATED:20250218T180453Z
LAST-MODIFIED:20250219T222114Z
UID:10017876-1739955600-1739984400@tillamookchamber.org
SUMMARY:Tillamook County Library Seed Swap
DESCRIPTION:Pick up some seeds or donate some to the exchange in the Tillamook Main Library until February 28th!
URL:https://tillamookchamber.org/event/tillamook-county-library-seed-swap/2025-02-19/
LOCATION:Tillamook County Library\, 1716 3rd Street Tillamook Oregon 97141
CATEGORIES:Community
END:VEVENT
BEGIN:VEVENT
DTSTART;TZID=America/Los_Angeles:20250218T090000
DTEND;TZID=America/Los_Angeles:20250218T170000
DTSTAMP:20260423T014753
CREATED:20250218T180453Z
LAST-MODIFIED:20250219T222114Z
UID:10017875-1739869200-1739898000@tillamookchamber.org
SUMMARY:Tillamook County Library Seed Swap
DESCRIPTION:Pick up some seeds or donate some to the exchange in the Tillamook Main Library until February 28th!
URL:https://tillamookchamber.org/event/tillamook-county-library-seed-swap/2025-02-18/
LOCATION:Tillamook County Library\, 1716 3rd Street Tillamook Oregon 97141
CATEGORIES:Community
END:VEVENT
BEGIN:VEVENT
DTSTART;TZID=America/Los_Angeles:20250206T140000
DTEND;TZID=America/Los_Angeles:20250206T150000
DTSTAMP:20260423T014753
CREATED:20241231T220054Z
LAST-MODIFIED:20241231T220054Z
UID:10017746-1738850400-1738854000@tillamookchamber.org
SUMMARY:Springtime Blues with Helen Beaman
DESCRIPTION:Join an expert as we discuss the myths and facts on seasonal patterns of depression\, signs that you might have “the blues\,” and what prevention and treatment options exist to help you work through these emotions. The goal is to help you find a way to enjoy springtime in whatever capacity is healthiest for you.
URL:https://tillamookchamber.org/event/springtime-blues-with-helen-beaman/
LOCATION:Tillamook County Library\, 1716 3rd Street Tillamook Oregon 97141
CATEGORIES:Community,Education
ATTACH;FMTTYPE=image/png:https://tillamookchamber.org/wp-content/uploads/2024/12/Springtime-Blues1.png
END:VEVENT
BEGIN:VEVENT
DTSTART;TZID=America/Los_Angeles:20250205T180000
DTEND;TZID=America/Los_Angeles:20250205T200000
DTSTAMP:20260423T014753
CREATED:20241231T223249Z
LAST-MODIFIED:20241231T223249Z
UID:10017739-1738778400-1738785600@tillamookchamber.org
SUMMARY:February Movies at Tillamook Library: Celebrating Black Artists
DESCRIPTION:Join us Wednesday nights at Tillamook Main for movies and popcorn at 6 pm in the Hatfield Room! Themes change monthly. All movie summaries attributed to IMDB.com\nFebruary Movies: Black Artists\n2/5 The Wiz (1978) An adaptation of “The Wizard of Oz” that tries to capture the essence of the African-American experience. \n2/19 Black Panther (2018) T’Challa\, heir to the hidden but advanced kingdom of Wakanda\, must step forward to lead his people into a new future and must confront a challenger from his country’s past. \n2/26 Akeelah and the Bee (2006) Akeelah\, a young gifted girl\, comes from a dysfunctional family and is on the verge of quitting school. She discovers that she has a high aptitude for spellings and enters a spelling bee contest.
URL:https://tillamookchamber.org/event/february-movies-at-tillamook-library-celebrating-black-artists/2025-02-05/
LOCATION:Tillamook County Library\, 1716 3rd Street Tillamook Oregon 97141
CATEGORIES:Community,Family Fun
END:VEVENT
BEGIN:VEVENT
DTSTART;TZID=America/Los_Angeles:20250129T180000
DTEND;TZID=America/Los_Angeles:20250129T200000
DTSTAMP:20260423T014753
CREATED:20241231T223334Z
LAST-MODIFIED:20241231T223334Z
UID:10017738-1738173600-1738180800@tillamookchamber.org
SUMMARY:January Movies at Tillamook Library: Page To Screen
DESCRIPTION:Join us Wednesday nights at Tillamook Main for movies and popcorn at 6 pm in the Hatfield Room! Themes change monthly. All movie summaries attributed to IMDB.com\n\nJanuary Movies: Page to Screen \n1/8 Princess Bride (1987) A bedridden boy’s grandfather reads him the story of a farmboy-turned-pirate who encounters numerous obstacles\, enemies and allies in his quest to be reunited with his true love. \n1/15 Muppet Treasure Island (1996) The Muppets set sail in search of treasure\, with Jim Hawkins and Long John Silver. \n1/22 Clueless (1995) Shallow\, rich and socially successful Cher is at the top of her Beverly Hills high school’s pecking scale. Seeing herself as a matchmaker\, Cher first coaxes two teachers into dating each other. \n1/29 Sherlock Holmes (2009) Detective Sherlock Holmes and his stalwart partner Watson engage in a battle of wits and brawn with a nemesis whose plot is a threat to all of England.
URL:https://tillamookchamber.org/event/january-movies-at-tillamook-library-page-to-screen/2025-01-29/
LOCATION:Tillamook County Library\, 1716 3rd Street Tillamook Oregon 97141
CATEGORIES:Community,Family Fun
END:VEVENT
BEGIN:VEVENT
DTSTART;TZID=America/Los_Angeles:20250129T140000
DTEND;TZID=America/Los_Angeles:20250129T150000
DTSTAMP:20260423T014753
CREATED:20241231T222826Z
LAST-MODIFIED:20241231T222826Z
UID:10017745-1738159200-1738162800@tillamookchamber.org
SUMMARY:You Do Speak English\, Don’t You? at Tillamook Library
DESCRIPTION:Mark and Helena Greathouse\, an international musical duo\, present their one-hour original show\, “You Do Speak English\, Don’t You?”\, a family-friendly\, lively cabaret-style variety show. It is a one-hour show featuring humorous stories of their early life together\, beginning in Hamburg\, Germany\, where they met as foreign students from their respective countries (Helena from former Czechoslovakia and Mark from the US). This performance is basically a love story of how they met\, eventually married\, and moved to Mark’s native Oregon\, where they live today. A Question-and-Answer session follows the performance\, with Helena sharing what her life was like growing up behind the Iron Curtain and making it to the West. Mark plays all the music in the show on accordion\, featuring his own songs\, Czech and Slovak folk songs\, as well as several familiar songs and parts of instrumental numbers. The songs are all interspersed with short\, humorous dialogues highlighting challenges Helena and Mark have experienced in their lives as a Czech-American couple.
URL:https://tillamookchamber.org/event/you-do-speak-english-dont-you-at-tillamook-library/
LOCATION:Tillamook County Library\, 1716 3rd Street Tillamook Oregon 97141
CATEGORIES:Community
END:VEVENT
BEGIN:VEVENT
DTSTART;TZID=America/Los_Angeles:20250128T160000
DTEND;TZID=America/Los_Angeles:20250128T170000
DTSTAMP:20260423T014753
CREATED:20241209T175136Z
LAST-MODIFIED:20241209T175136Z
UID:10017418-1738080000-1738083600@tillamookchamber.org
SUMMARY:Friday Teen Gaming at Tillamook Main Library
DESCRIPTION:Join us for Friday Gaming for Teens! Come play the games listed below and compete against your peers. We’ll meet at 4:00pm at the Tillamook Main Library\, in the Copeland Community Room. Refreshments provided!\nDates and Games\nFriday\, December 13th – Mario Party Jamboree\n\nFriday\, December 27th – Crash Team Racing\n\nFriday\, January 10th – 1-2-Switch\n\nFriday\, January 24th – Overcooked: All You Can Eat\n\nFriday\, February 14th – Luigi’s Mansion 3\n\nFriday February 28th – Super Smash Bros Ultimate
URL:https://tillamookchamber.org/event/friday-teen-gaming-at-tillamook-main-library/2025-01-28/
LOCATION:Tillamook County Library\, 1716 3rd Street Tillamook Oregon 97141
CATEGORIES:Community
END:VEVENT
BEGIN:VEVENT
DTSTART;TZID=America/Los_Angeles:20250122T180000
DTEND;TZID=America/Los_Angeles:20250122T200000
DTSTAMP:20260423T014753
CREATED:20241231T223334Z
LAST-MODIFIED:20241231T223334Z
UID:10017737-1737568800-1737576000@tillamookchamber.org
SUMMARY:January Movies at Tillamook Library: Page To Screen
DESCRIPTION:Join us Wednesday nights at Tillamook Main for movies and popcorn at 6 pm in the Hatfield Room! Themes change monthly. All movie summaries attributed to IMDB.com\n\nJanuary Movies: Page to Screen \n1/8 Princess Bride (1987) A bedridden boy’s grandfather reads him the story of a farmboy-turned-pirate who encounters numerous obstacles\, enemies and allies in his quest to be reunited with his true love. \n1/15 Muppet Treasure Island (1996) The Muppets set sail in search of treasure\, with Jim Hawkins and Long John Silver. \n1/22 Clueless (1995) Shallow\, rich and socially successful Cher is at the top of her Beverly Hills high school’s pecking scale. Seeing herself as a matchmaker\, Cher first coaxes two teachers into dating each other. \n1/29 Sherlock Holmes (2009) Detective Sherlock Holmes and his stalwart partner Watson engage in a battle of wits and brawn with a nemesis whose plot is a threat to all of England.
URL:https://tillamookchamber.org/event/january-movies-at-tillamook-library-page-to-screen/2025-01-22/
LOCATION:Tillamook County Library\, 1716 3rd Street Tillamook Oregon 97141
CATEGORIES:Community,Family Fun
END:VEVENT
BEGIN:VEVENT
DTSTART;TZID=America/Los_Angeles:20250115T180000
DTEND;TZID=America/Los_Angeles:20250115T200000
DTSTAMP:20260423T014753
CREATED:20241231T223334Z
LAST-MODIFIED:20241231T223334Z
UID:10017736-1736964000-1736971200@tillamookchamber.org
SUMMARY:January Movies at Tillamook Library: Page To Screen
DESCRIPTION:Join us Wednesday nights at Tillamook Main for movies and popcorn at 6 pm in the Hatfield Room! Themes change monthly. All movie summaries attributed to IMDB.com\n\nJanuary Movies: Page to Screen \n1/8 Princess Bride (1987) A bedridden boy’s grandfather reads him the story of a farmboy-turned-pirate who encounters numerous obstacles\, enemies and allies in his quest to be reunited with his true love. \n1/15 Muppet Treasure Island (1996) The Muppets set sail in search of treasure\, with Jim Hawkins and Long John Silver. \n1/22 Clueless (1995) Shallow\, rich and socially successful Cher is at the top of her Beverly Hills high school’s pecking scale. Seeing herself as a matchmaker\, Cher first coaxes two teachers into dating each other. \n1/29 Sherlock Holmes (2009) Detective Sherlock Holmes and his stalwart partner Watson engage in a battle of wits and brawn with a nemesis whose plot is a threat to all of England.
URL:https://tillamookchamber.org/event/january-movies-at-tillamook-library-page-to-screen/2025-01-15/
LOCATION:Tillamook County Library\, 1716 3rd Street Tillamook Oregon 97141
CATEGORIES:Community,Family Fun
END:VEVENT
BEGIN:VEVENT
DTSTART;TZID=America/Los_Angeles:20250115T093000
DTEND;TZID=America/Los_Angeles:20250115T110000
DTSTAMP:20260423T014753
CREATED:20241209T175026Z
LAST-MODIFIED:20241209T175026Z
UID:10017420-1736933400-1736938800@tillamookchamber.org
SUMMARY:Drop In Tech Help at Tillamook Main Library
DESCRIPTION:Drop in for help with smartphones\, tablets\, laptops\, and similar in an informal Q&A setting at the library!
URL:https://tillamookchamber.org/event/drop-in-tech-help-at-tillamook-main-library-2/2025-01-15/
LOCATION:Tillamook County Library\, 1716 3rd Street Tillamook Oregon 97141
CATEGORIES:Community
END:VEVENT
BEGIN:VEVENT
DTSTART;TZID=America/Los_Angeles:20250114T160000
DTEND;TZID=America/Los_Angeles:20250114T170000
DTSTAMP:20260423T014753
CREATED:20241209T175136Z
LAST-MODIFIED:20241209T175136Z
UID:10017417-1736870400-1736874000@tillamookchamber.org
SUMMARY:Friday Teen Gaming at Tillamook Main Library
DESCRIPTION:Join us for Friday Gaming for Teens! Come play the games listed below and compete against your peers. We’ll meet at 4:00pm at the Tillamook Main Library\, in the Copeland Community Room. Refreshments provided!\nDates and Games\nFriday\, December 13th – Mario Party Jamboree\n\nFriday\, December 27th – Crash Team Racing\n\nFriday\, January 10th – 1-2-Switch\n\nFriday\, January 24th – Overcooked: All You Can Eat\n\nFriday\, February 14th – Luigi’s Mansion 3\n\nFriday February 28th – Super Smash Bros Ultimate
URL:https://tillamookchamber.org/event/friday-teen-gaming-at-tillamook-main-library/2025-01-14/
LOCATION:Tillamook County Library\, 1716 3rd Street Tillamook Oregon 97141
CATEGORIES:Community
END:VEVENT
BEGIN:VEVENT
DTSTART;TZID=America/Los_Angeles:20250111T130000
DTEND;TZID=America/Los_Angeles:20250111T150000
DTSTAMP:20260423T014753
CREATED:20241231T223007Z
LAST-MODIFIED:20241231T223007Z
UID:10017744-1736600400-1736607600@tillamookchamber.org
SUMMARY:Build A Castle For Your Cat at Tillamook Library
DESCRIPTION:All ages are invited to come and create the purrfect playhouse for your feline friends on Saturday\, January 11th from 1-3pm at Tillamook Main library. Boxes provided.
URL:https://tillamookchamber.org/event/build-a-castle-for-your-cat-at-tillamook-library/
LOCATION:Tillamook County Library\, 1716 3rd Street Tillamook Oregon 97141
CATEGORIES:Community,Family Fun
END:VEVENT
BEGIN:VEVENT
DTSTART;TZID=America/Los_Angeles:20250111T130000
DTEND;TZID=America/Los_Angeles:20250111T150000
DTSTAMP:20260423T014753
CREATED:20241122T220644Z
LAST-MODIFIED:20241122T220644Z
UID:10017096-1736600400-1736607600@tillamookchamber.org
SUMMARY:Build A Castle For Your Cat
DESCRIPTION:All ages are invited to create cardboard castles for felines!
URL:https://tillamookchamber.org/event/build-a-castle-for-your-cat/
LOCATION:Tillamook County Library\, 1716 3rd Street Tillamook Oregon 97141
CATEGORIES:Classes and Workshops,Community
ATTACH;FMTTYPE=image/png:https://tillamookchamber.org/wp-content/uploads/2024/11/Cardboard-Cat-Houses-011325.png
END:VEVENT
BEGIN:VEVENT
DTSTART;TZID=America/Los_Angeles:20250110T160000
DTEND;TZID=America/Los_Angeles:20250110T170000
DTSTAMP:20260423T014753
CREATED:20241209T175136Z
LAST-MODIFIED:20241209T175136Z
UID:10017416-1736524800-1736528400@tillamookchamber.org
SUMMARY:Friday Teen Gaming at Tillamook Main Library
DESCRIPTION:Join us for Friday Gaming for Teens! Come play the games listed below and compete against your peers. We’ll meet at 4:00pm at the Tillamook Main Library\, in the Copeland Community Room. Refreshments provided!\nDates and Games\nFriday\, December 13th – Mario Party Jamboree\n\nFriday\, December 27th – Crash Team Racing\n\nFriday\, January 10th – 1-2-Switch\n\nFriday\, January 24th – Overcooked: All You Can Eat\n\nFriday\, February 14th – Luigi’s Mansion 3\n\nFriday February 28th – Super Smash Bros Ultimate
URL:https://tillamookchamber.org/event/friday-teen-gaming-at-tillamook-main-library/2025-01-10/
LOCATION:Tillamook County Library\, 1716 3rd Street Tillamook Oregon 97141
CATEGORIES:Community
END:VEVENT
BEGIN:VEVENT
DTSTART;TZID=America/Los_Angeles:20250109T140000
DTEND;TZID=America/Los_Angeles:20250109T150000
DTSTAMP:20260423T014753
CREATED:20241231T223109Z
LAST-MODIFIED:20241231T223109Z
UID:10017743-1736431200-1736434800@tillamookchamber.org
SUMMARY:Invisible Losses with Helen Beaman at Tillamook Library
DESCRIPTION:Grief doesn’t always have to involve losing someone in your life. As we age\, we are sometimes forced to consider giving up things or activities we enjoy; such as jogging\, pinochle\, volunteer activities\, or traveling. This can lead to a rather profound sense of loss. Join an expert as we discuss the types of “invisible losses\,” and learn how to cope\, heal\, and grieve from these types of disenfranchised losses.
URL:https://tillamookchamber.org/event/invisible-losses-with-helen-beaman-at-tillamook-library-2/
LOCATION:Tillamook County Library\, 1716 3rd Street Tillamook Oregon 97141
CATEGORIES:Community,Education
END:VEVENT
BEGIN:VEVENT
DTSTART;TZID=America/Los_Angeles:20250109T140000
DTEND;TZID=America/Los_Angeles:20250109T150000
DTSTAMP:20260423T014753
CREATED:20241226T210346Z
LAST-MODIFIED:20241226T210346Z
UID:10017456-1736431200-1736434800@tillamookchamber.org
SUMMARY:Invisible Losses with Helen Beaman at Tillamook Library
DESCRIPTION:Grief doesn’t always have to involve losing someone in your life. As we age\, we are sometimes forced to consider giving up things or activities we enjoy; such as jogging\, pinochle\, volunteer activities\, or traveling. This can lead to a rather profound sense of loss. Join an expert as we discuss the types of “invisible losses\,” and learn how to cope\, heal\, and grieve from these types of disenfranchised losses.
URL:https://tillamookchamber.org/event/invisible-losses-with-helen-beaman-at-tillamook-library/
LOCATION:Tillamook County Library\, 1716 3rd Street Tillamook Oregon 97141
CATEGORIES:Classes and Workshops,Community
END:VEVENT
BEGIN:VEVENT
DTSTART;TZID=America/Los_Angeles:20250108T180000
DTEND;TZID=America/Los_Angeles:20250108T200000
DTSTAMP:20260423T014753
CREATED:20241231T223334Z
LAST-MODIFIED:20241231T223334Z
UID:10017735-1736359200-1736366400@tillamookchamber.org
SUMMARY:January Movies at Tillamook Library: Page To Screen
DESCRIPTION:Join us Wednesday nights at Tillamook Main for movies and popcorn at 6 pm in the Hatfield Room! Themes change monthly. All movie summaries attributed to IMDB.com\n\nJanuary Movies: Page to Screen \n1/8 Princess Bride (1987) A bedridden boy’s grandfather reads him the story of a farmboy-turned-pirate who encounters numerous obstacles\, enemies and allies in his quest to be reunited with his true love. \n1/15 Muppet Treasure Island (1996) The Muppets set sail in search of treasure\, with Jim Hawkins and Long John Silver. \n1/22 Clueless (1995) Shallow\, rich and socially successful Cher is at the top of her Beverly Hills high school’s pecking scale. Seeing herself as a matchmaker\, Cher first coaxes two teachers into dating each other. \n1/29 Sherlock Holmes (2009) Detective Sherlock Holmes and his stalwart partner Watson engage in a battle of wits and brawn with a nemesis whose plot is a threat to all of England.
URL:https://tillamookchamber.org/event/january-movies-at-tillamook-library-page-to-screen/2025-01-08/
LOCATION:Tillamook County Library\, 1716 3rd Street Tillamook Oregon 97141
CATEGORIES:Community,Family Fun
END:VEVENT
BEGIN:VEVENT
DTSTART;TZID=America/Los_Angeles:20241227T160000
DTEND;TZID=America/Los_Angeles:20241227T170000
DTSTAMP:20260423T014753
CREATED:20241209T175136Z
LAST-MODIFIED:20241209T175136Z
UID:10017415-1735315200-1735318800@tillamookchamber.org
SUMMARY:Friday Teen Gaming at Tillamook Main Library
DESCRIPTION:Join us for Friday Gaming for Teens! Come play the games listed below and compete against your peers. We’ll meet at 4:00pm at the Tillamook Main Library\, in the Copeland Community Room. Refreshments provided!\nDates and Games\nFriday\, December 13th – Mario Party Jamboree\n\nFriday\, December 27th – Crash Team Racing\n\nFriday\, January 10th – 1-2-Switch\n\nFriday\, January 24th – Overcooked: All You Can Eat\n\nFriday\, February 14th – Luigi’s Mansion 3\n\nFriday February 28th – Super Smash Bros Ultimate
URL:https://tillamookchamber.org/event/friday-teen-gaming-at-tillamook-main-library/2024-12-27/
LOCATION:Tillamook County Library\, 1716 3rd Street Tillamook Oregon 97141
CATEGORIES:Community
END:VEVENT
BEGIN:VEVENT
DTSTART;TZID=America/Los_Angeles:20241224T160000
DTEND;TZID=America/Los_Angeles:20241224T170000
DTSTAMP:20260423T014753
CREATED:20241209T175136Z
LAST-MODIFIED:20241209T175136Z
UID:10017414-1735056000-1735059600@tillamookchamber.org
SUMMARY:Friday Teen Gaming at Tillamook Main Library
DESCRIPTION:Join us for Friday Gaming for Teens! Come play the games listed below and compete against your peers. We’ll meet at 4:00pm at the Tillamook Main Library\, in the Copeland Community Room. Refreshments provided!\nDates and Games\nFriday\, December 13th – Mario Party Jamboree\n\nFriday\, December 27th – Crash Team Racing\n\nFriday\, January 10th – 1-2-Switch\n\nFriday\, January 24th – Overcooked: All You Can Eat\n\nFriday\, February 14th – Luigi’s Mansion 3\n\nFriday February 28th – Super Smash Bros Ultimate
URL:https://tillamookchamber.org/event/friday-teen-gaming-at-tillamook-main-library/2024-12-24/
LOCATION:Tillamook County Library\, 1716 3rd Street Tillamook Oregon 97141
CATEGORIES:Community
END:VEVENT
END:VCALENDAR