BEGIN:VCALENDAR
VERSION:2.0
PRODID:-//Tillamook Area Chamber of Commerce - ECPv6.15.20//NONSGML v1.0//EN
CALSCALE:GREGORIAN
METHOD:PUBLISH
X-WR-CALNAME:Tillamook Area Chamber of Commerce
X-ORIGINAL-URL:https://tillamookchamber.org
X-WR-CALDESC:Events for Tillamook Area Chamber of Commerce
REFRESH-INTERVAL;VALUE=DURATION:PT1H
X-Robots-Tag:noindex
X-PUBLISHED-TTL:PT1H
BEGIN:VTIMEZONE
TZID:America/Los_Angeles
BEGIN:DAYLIGHT
TZOFFSETFROM:-0800
TZOFFSETTO:-0700
TZNAME:PDT
DTSTART:20270314T100000
END:DAYLIGHT
BEGIN:STANDARD
TZOFFSETFROM:-0700
TZOFFSETTO:-0800
TZNAME:PST
DTSTART:20271107T090000
END:STANDARD
BEGIN:DAYLIGHT
TZOFFSETFROM:-0800
TZOFFSETTO:-0700
TZNAME:PDT
DTSTART:20280312T100000
END:DAYLIGHT
BEGIN:STANDARD
TZOFFSETFROM:-0700
TZOFFSETTO:-0800
TZNAME:PST
DTSTART:20281105T090000
END:STANDARD
BEGIN:DAYLIGHT
TZOFFSETFROM:-0800
TZOFFSETTO:-0700
TZNAME:PDT
DTSTART:20290311T100000
END:DAYLIGHT
BEGIN:STANDARD
TZOFFSETFROM:-0700
TZOFFSETTO:-0800
TZNAME:PST
DTSTART:20291104T090000
END:STANDARD
END:VTIMEZONE
BEGIN:VEVENT
DTSTART;TZID=America/Los_Angeles:20280520T100000
DTEND;TZID=America/Los_Angeles:20280520T120000
DTSTAMP:20260420T022553
CREATED:20250703T182150Z
LAST-MODIFIED:20250703T182150Z
UID:10022843-1842429600-1842436800@tillamookchamber.org
SUMMARY:Dungeons and Dragons at Tillamook Library
DESCRIPTION:Play a variety of tabletop RPGs with local storytellers at the library! Open to all!
URL:https://tillamookchamber.org/event/dungeons-and-dragons-at-tillamook-library-2/2028-05-20/
LOCATION:Tillamook County Library\, 1716 3rd Street Tillamook Oregon 97141
CATEGORIES:Community
ATTACH;FMTTYPE=image/png:https://tillamookchamber.org/wp-content/uploads/2025/07/Dungeons-Dragons-2025-TM.png
END:VEVENT
BEGIN:VEVENT
DTSTART;TZID=America/Los_Angeles:20280522T103000
DTEND;TZID=America/Los_Angeles:20280522T123000
DTSTAMP:20260420T022553
CREATED:20250703T182108Z
LAST-MODIFIED:20250703T182108Z
UID:10023104-1842604200-1842611400@tillamookchamber.org
SUMMARY:Dungeons and Dragons at Tillamook Library
DESCRIPTION:Play a variety of tabletop RPGs with local storytellers at the library! Open to all!
URL:https://tillamookchamber.org/event/dungeons-and-dragons-at-tillamook-library/2028-05-22/
LOCATION:Tillamook County Library\, 1716 3rd Street Tillamook Oregon 97141
CATEGORIES:Community
ATTACH;FMTTYPE=image/png:https://tillamookchamber.org/wp-content/uploads/2025/07/Dungeons-Dragons-2025-TM-1.png
END:VEVENT
BEGIN:VEVENT
DTSTART;TZID=America/Los_Angeles:20280527T100000
DTEND;TZID=America/Los_Angeles:20280527T120000
DTSTAMP:20260420T022553
CREATED:20250703T182150Z
LAST-MODIFIED:20250703T182150Z
UID:10022844-1843034400-1843041600@tillamookchamber.org
SUMMARY:Dungeons and Dragons at Tillamook Library
DESCRIPTION:Play a variety of tabletop RPGs with local storytellers at the library! Open to all!
URL:https://tillamookchamber.org/event/dungeons-and-dragons-at-tillamook-library-2/2028-05-27/
LOCATION:Tillamook County Library\, 1716 3rd Street Tillamook Oregon 97141
CATEGORIES:Community
ATTACH;FMTTYPE=image/png:https://tillamookchamber.org/wp-content/uploads/2025/07/Dungeons-Dragons-2025-TM.png
END:VEVENT
BEGIN:VEVENT
DTSTART;TZID=America/Los_Angeles:20280529T103000
DTEND;TZID=America/Los_Angeles:20280529T123000
DTSTAMP:20260420T022553
CREATED:20250703T182108Z
LAST-MODIFIED:20250703T182108Z
UID:10023105-1843209000-1843216200@tillamookchamber.org
SUMMARY:Dungeons and Dragons at Tillamook Library
DESCRIPTION:Play a variety of tabletop RPGs with local storytellers at the library! Open to all!
URL:https://tillamookchamber.org/event/dungeons-and-dragons-at-tillamook-library/2028-05-29/
LOCATION:Tillamook County Library\, 1716 3rd Street Tillamook Oregon 97141
CATEGORIES:Community
ATTACH;FMTTYPE=image/png:https://tillamookchamber.org/wp-content/uploads/2025/07/Dungeons-Dragons-2025-TM-1.png
END:VEVENT
BEGIN:VEVENT
DTSTART;TZID=America/Los_Angeles:20280603T100000
DTEND;TZID=America/Los_Angeles:20280603T120000
DTSTAMP:20260420T022553
CREATED:20250703T182150Z
LAST-MODIFIED:20250703T182150Z
UID:10022845-1843639200-1843646400@tillamookchamber.org
SUMMARY:Dungeons and Dragons at Tillamook Library
DESCRIPTION:Play a variety of tabletop RPGs with local storytellers at the library! Open to all!
URL:https://tillamookchamber.org/event/dungeons-and-dragons-at-tillamook-library-2/2028-06-03/
LOCATION:Tillamook County Library\, 1716 3rd Street Tillamook Oregon 97141
CATEGORIES:Community
ATTACH;FMTTYPE=image/png:https://tillamookchamber.org/wp-content/uploads/2025/07/Dungeons-Dragons-2025-TM.png
END:VEVENT
BEGIN:VEVENT
DTSTART;TZID=America/Los_Angeles:20280605T103000
DTEND;TZID=America/Los_Angeles:20280605T123000
DTSTAMP:20260420T022553
CREATED:20250703T182108Z
LAST-MODIFIED:20250703T182108Z
UID:10023106-1843813800-1843821000@tillamookchamber.org
SUMMARY:Dungeons and Dragons at Tillamook Library
DESCRIPTION:Play a variety of tabletop RPGs with local storytellers at the library! Open to all!
URL:https://tillamookchamber.org/event/dungeons-and-dragons-at-tillamook-library/2028-06-05/
LOCATION:Tillamook County Library\, 1716 3rd Street Tillamook Oregon 97141
CATEGORIES:Community
ATTACH;FMTTYPE=image/png:https://tillamookchamber.org/wp-content/uploads/2025/07/Dungeons-Dragons-2025-TM-1.png
END:VEVENT
BEGIN:VEVENT
DTSTART;TZID=America/Los_Angeles:20280610T100000
DTEND;TZID=America/Los_Angeles:20280610T120000
DTSTAMP:20260420T022553
CREATED:20250703T182150Z
LAST-MODIFIED:20250703T182150Z
UID:10022846-1844244000-1844251200@tillamookchamber.org
SUMMARY:Dungeons and Dragons at Tillamook Library
DESCRIPTION:Play a variety of tabletop RPGs with local storytellers at the library! Open to all!
URL:https://tillamookchamber.org/event/dungeons-and-dragons-at-tillamook-library-2/2028-06-10/
LOCATION:Tillamook County Library\, 1716 3rd Street Tillamook Oregon 97141
CATEGORIES:Community
ATTACH;FMTTYPE=image/png:https://tillamookchamber.org/wp-content/uploads/2025/07/Dungeons-Dragons-2025-TM.png
END:VEVENT
BEGIN:VEVENT
DTSTART;TZID=America/Los_Angeles:20280612T103000
DTEND;TZID=America/Los_Angeles:20280612T123000
DTSTAMP:20260420T022553
CREATED:20250703T182108Z
LAST-MODIFIED:20250703T182108Z
UID:10023107-1844418600-1844425800@tillamookchamber.org
SUMMARY:Dungeons and Dragons at Tillamook Library
DESCRIPTION:Play a variety of tabletop RPGs with local storytellers at the library! Open to all!
URL:https://tillamookchamber.org/event/dungeons-and-dragons-at-tillamook-library/2028-06-12/
LOCATION:Tillamook County Library\, 1716 3rd Street Tillamook Oregon 97141
CATEGORIES:Community
ATTACH;FMTTYPE=image/png:https://tillamookchamber.org/wp-content/uploads/2025/07/Dungeons-Dragons-2025-TM-1.png
END:VEVENT
BEGIN:VEVENT
DTSTART;TZID=America/Los_Angeles:20280617T100000
DTEND;TZID=America/Los_Angeles:20280617T120000
DTSTAMP:20260420T022553
CREATED:20250703T182150Z
LAST-MODIFIED:20250703T182150Z
UID:10022847-1844848800-1844856000@tillamookchamber.org
SUMMARY:Dungeons and Dragons at Tillamook Library
DESCRIPTION:Play a variety of tabletop RPGs with local storytellers at the library! Open to all!
URL:https://tillamookchamber.org/event/dungeons-and-dragons-at-tillamook-library-2/2028-06-17/
LOCATION:Tillamook County Library\, 1716 3rd Street Tillamook Oregon 97141
CATEGORIES:Community
ATTACH;FMTTYPE=image/png:https://tillamookchamber.org/wp-content/uploads/2025/07/Dungeons-Dragons-2025-TM.png
END:VEVENT
BEGIN:VEVENT
DTSTART;TZID=America/Los_Angeles:20280619T103000
DTEND;TZID=America/Los_Angeles:20280619T123000
DTSTAMP:20260420T022553
CREATED:20250703T182108Z
LAST-MODIFIED:20250703T182108Z
UID:10023108-1845023400-1845030600@tillamookchamber.org
SUMMARY:Dungeons and Dragons at Tillamook Library
DESCRIPTION:Play a variety of tabletop RPGs with local storytellers at the library! Open to all!
URL:https://tillamookchamber.org/event/dungeons-and-dragons-at-tillamook-library/2028-06-19/
LOCATION:Tillamook County Library\, 1716 3rd Street Tillamook Oregon 97141
CATEGORIES:Community
ATTACH;FMTTYPE=image/png:https://tillamookchamber.org/wp-content/uploads/2025/07/Dungeons-Dragons-2025-TM-1.png
END:VEVENT
BEGIN:VEVENT
DTSTART;TZID=America/Los_Angeles:20280624T100000
DTEND;TZID=America/Los_Angeles:20280624T120000
DTSTAMP:20260420T022553
CREATED:20250703T182150Z
LAST-MODIFIED:20250703T182150Z
UID:10022848-1845453600-1845460800@tillamookchamber.org
SUMMARY:Dungeons and Dragons at Tillamook Library
DESCRIPTION:Play a variety of tabletop RPGs with local storytellers at the library! Open to all!
URL:https://tillamookchamber.org/event/dungeons-and-dragons-at-tillamook-library-2/2028-06-24/
LOCATION:Tillamook County Library\, 1716 3rd Street Tillamook Oregon 97141
CATEGORIES:Community
ATTACH;FMTTYPE=image/png:https://tillamookchamber.org/wp-content/uploads/2025/07/Dungeons-Dragons-2025-TM.png
END:VEVENT
BEGIN:VEVENT
DTSTART;TZID=America/Los_Angeles:20280626T103000
DTEND;TZID=America/Los_Angeles:20280626T123000
DTSTAMP:20260420T022553
CREATED:20250703T182108Z
LAST-MODIFIED:20250703T182108Z
UID:10023109-1845628200-1845635400@tillamookchamber.org
SUMMARY:Dungeons and Dragons at Tillamook Library
DESCRIPTION:Play a variety of tabletop RPGs with local storytellers at the library! Open to all!
URL:https://tillamookchamber.org/event/dungeons-and-dragons-at-tillamook-library/2028-06-26/
LOCATION:Tillamook County Library\, 1716 3rd Street Tillamook Oregon 97141
CATEGORIES:Community
ATTACH;FMTTYPE=image/png:https://tillamookchamber.org/wp-content/uploads/2025/07/Dungeons-Dragons-2025-TM-1.png
END:VEVENT
BEGIN:VEVENT
DTSTART;TZID=America/Los_Angeles:20280701T100000
DTEND;TZID=America/Los_Angeles:20280701T120000
DTSTAMP:20260420T022553
CREATED:20250703T182150Z
LAST-MODIFIED:20250703T182150Z
UID:10022849-1846058400-1846065600@tillamookchamber.org
SUMMARY:Dungeons and Dragons at Tillamook Library
DESCRIPTION:Play a variety of tabletop RPGs with local storytellers at the library! Open to all!
URL:https://tillamookchamber.org/event/dungeons-and-dragons-at-tillamook-library-2/2028-07-01/
LOCATION:Tillamook County Library\, 1716 3rd Street Tillamook Oregon 97141
CATEGORIES:Community
ATTACH;FMTTYPE=image/png:https://tillamookchamber.org/wp-content/uploads/2025/07/Dungeons-Dragons-2025-TM.png
END:VEVENT
BEGIN:VEVENT
DTSTART;TZID=America/Los_Angeles:20280703T103000
DTEND;TZID=America/Los_Angeles:20280703T123000
DTSTAMP:20260420T022553
CREATED:20250703T182108Z
LAST-MODIFIED:20250703T182108Z
UID:10023110-1846233000-1846240200@tillamookchamber.org
SUMMARY:Dungeons and Dragons at Tillamook Library
DESCRIPTION:Play a variety of tabletop RPGs with local storytellers at the library! Open to all!
URL:https://tillamookchamber.org/event/dungeons-and-dragons-at-tillamook-library/2028-07-03/
LOCATION:Tillamook County Library\, 1716 3rd Street Tillamook Oregon 97141
CATEGORIES:Community
ATTACH;FMTTYPE=image/png:https://tillamookchamber.org/wp-content/uploads/2025/07/Dungeons-Dragons-2025-TM-1.png
END:VEVENT
BEGIN:VEVENT
DTSTART;TZID=America/Los_Angeles:20280708T100000
DTEND;TZID=America/Los_Angeles:20280708T120000
DTSTAMP:20260420T022553
CREATED:20250703T182150Z
LAST-MODIFIED:20250703T182150Z
UID:10022850-1846663200-1846670400@tillamookchamber.org
SUMMARY:Dungeons and Dragons at Tillamook Library
DESCRIPTION:Play a variety of tabletop RPGs with local storytellers at the library! Open to all!
URL:https://tillamookchamber.org/event/dungeons-and-dragons-at-tillamook-library-2/2028-07-08/
LOCATION:Tillamook County Library\, 1716 3rd Street Tillamook Oregon 97141
CATEGORIES:Community
ATTACH;FMTTYPE=image/png:https://tillamookchamber.org/wp-content/uploads/2025/07/Dungeons-Dragons-2025-TM.png
END:VEVENT
BEGIN:VEVENT
DTSTART;TZID=America/Los_Angeles:20280710T103000
DTEND;TZID=America/Los_Angeles:20280710T123000
DTSTAMP:20260420T022553
CREATED:20250703T182108Z
LAST-MODIFIED:20250703T182108Z
UID:10023111-1846837800-1846845000@tillamookchamber.org
SUMMARY:Dungeons and Dragons at Tillamook Library
DESCRIPTION:Play a variety of tabletop RPGs with local storytellers at the library! Open to all!
URL:https://tillamookchamber.org/event/dungeons-and-dragons-at-tillamook-library/2028-07-10/
LOCATION:Tillamook County Library\, 1716 3rd Street Tillamook Oregon 97141
CATEGORIES:Community
ATTACH;FMTTYPE=image/png:https://tillamookchamber.org/wp-content/uploads/2025/07/Dungeons-Dragons-2025-TM-1.png
END:VEVENT
BEGIN:VEVENT
DTSTART;TZID=America/Los_Angeles:20280715T100000
DTEND;TZID=America/Los_Angeles:20280715T120000
DTSTAMP:20260420T022553
CREATED:20250703T182150Z
LAST-MODIFIED:20250703T182150Z
UID:10022851-1847268000-1847275200@tillamookchamber.org
SUMMARY:Dungeons and Dragons at Tillamook Library
DESCRIPTION:Play a variety of tabletop RPGs with local storytellers at the library! Open to all!
URL:https://tillamookchamber.org/event/dungeons-and-dragons-at-tillamook-library-2/2028-07-15/
LOCATION:Tillamook County Library\, 1716 3rd Street Tillamook Oregon 97141
CATEGORIES:Community
ATTACH;FMTTYPE=image/png:https://tillamookchamber.org/wp-content/uploads/2025/07/Dungeons-Dragons-2025-TM.png
END:VEVENT
BEGIN:VEVENT
DTSTART;TZID=America/Los_Angeles:20280717T103000
DTEND;TZID=America/Los_Angeles:20280717T123000
DTSTAMP:20260420T022553
CREATED:20250703T182108Z
LAST-MODIFIED:20250703T182108Z
UID:10023112-1847442600-1847449800@tillamookchamber.org
SUMMARY:Dungeons and Dragons at Tillamook Library
DESCRIPTION:Play a variety of tabletop RPGs with local storytellers at the library! Open to all!
URL:https://tillamookchamber.org/event/dungeons-and-dragons-at-tillamook-library/2028-07-17/
LOCATION:Tillamook County Library\, 1716 3rd Street Tillamook Oregon 97141
CATEGORIES:Community
ATTACH;FMTTYPE=image/png:https://tillamookchamber.org/wp-content/uploads/2025/07/Dungeons-Dragons-2025-TM-1.png
END:VEVENT
BEGIN:VEVENT
DTSTART;TZID=America/Los_Angeles:20280722T100000
DTEND;TZID=America/Los_Angeles:20280722T120000
DTSTAMP:20260420T022553
CREATED:20250703T182150Z
LAST-MODIFIED:20250703T182150Z
UID:10022852-1847872800-1847880000@tillamookchamber.org
SUMMARY:Dungeons and Dragons at Tillamook Library
DESCRIPTION:Play a variety of tabletop RPGs with local storytellers at the library! Open to all!
URL:https://tillamookchamber.org/event/dungeons-and-dragons-at-tillamook-library-2/2028-07-22/
LOCATION:Tillamook County Library\, 1716 3rd Street Tillamook Oregon 97141
CATEGORIES:Community
ATTACH;FMTTYPE=image/png:https://tillamookchamber.org/wp-content/uploads/2025/07/Dungeons-Dragons-2025-TM.png
END:VEVENT
BEGIN:VEVENT
DTSTART;TZID=America/Los_Angeles:20280724T103000
DTEND;TZID=America/Los_Angeles:20280724T123000
DTSTAMP:20260420T022553
CREATED:20250703T182108Z
LAST-MODIFIED:20250703T182108Z
UID:10023113-1848047400-1848054600@tillamookchamber.org
SUMMARY:Dungeons and Dragons at Tillamook Library
DESCRIPTION:Play a variety of tabletop RPGs with local storytellers at the library! Open to all!
URL:https://tillamookchamber.org/event/dungeons-and-dragons-at-tillamook-library/2028-07-24/
LOCATION:Tillamook County Library\, 1716 3rd Street Tillamook Oregon 97141
CATEGORIES:Community
ATTACH;FMTTYPE=image/png:https://tillamookchamber.org/wp-content/uploads/2025/07/Dungeons-Dragons-2025-TM-1.png
END:VEVENT
BEGIN:VEVENT
DTSTART;TZID=America/Los_Angeles:20280729T100000
DTEND;TZID=America/Los_Angeles:20280729T120000
DTSTAMP:20260420T022553
CREATED:20250703T182150Z
LAST-MODIFIED:20250703T182150Z
UID:10022853-1848477600-1848484800@tillamookchamber.org
SUMMARY:Dungeons and Dragons at Tillamook Library
DESCRIPTION:Play a variety of tabletop RPGs with local storytellers at the library! Open to all!
URL:https://tillamookchamber.org/event/dungeons-and-dragons-at-tillamook-library-2/2028-07-29/
LOCATION:Tillamook County Library\, 1716 3rd Street Tillamook Oregon 97141
CATEGORIES:Community
ATTACH;FMTTYPE=image/png:https://tillamookchamber.org/wp-content/uploads/2025/07/Dungeons-Dragons-2025-TM.png
END:VEVENT
BEGIN:VEVENT
DTSTART;TZID=America/Los_Angeles:20280731T103000
DTEND;TZID=America/Los_Angeles:20280731T123000
DTSTAMP:20260420T022553
CREATED:20250703T182108Z
LAST-MODIFIED:20250703T182108Z
UID:10023114-1848652200-1848659400@tillamookchamber.org
SUMMARY:Dungeons and Dragons at Tillamook Library
DESCRIPTION:Play a variety of tabletop RPGs with local storytellers at the library! Open to all!
URL:https://tillamookchamber.org/event/dungeons-and-dragons-at-tillamook-library/2028-07-31/
LOCATION:Tillamook County Library\, 1716 3rd Street Tillamook Oregon 97141
CATEGORIES:Community
ATTACH;FMTTYPE=image/png:https://tillamookchamber.org/wp-content/uploads/2025/07/Dungeons-Dragons-2025-TM-1.png
END:VEVENT
BEGIN:VEVENT
DTSTART;TZID=America/Los_Angeles:20280805T100000
DTEND;TZID=America/Los_Angeles:20280805T120000
DTSTAMP:20260420T022553
CREATED:20250703T182150Z
LAST-MODIFIED:20250703T182150Z
UID:10022854-1849082400-1849089600@tillamookchamber.org
SUMMARY:Dungeons and Dragons at Tillamook Library
DESCRIPTION:Play a variety of tabletop RPGs with local storytellers at the library! Open to all!
URL:https://tillamookchamber.org/event/dungeons-and-dragons-at-tillamook-library-2/2028-08-05/
LOCATION:Tillamook County Library\, 1716 3rd Street Tillamook Oregon 97141
CATEGORIES:Community
ATTACH;FMTTYPE=image/png:https://tillamookchamber.org/wp-content/uploads/2025/07/Dungeons-Dragons-2025-TM.png
END:VEVENT
BEGIN:VEVENT
DTSTART;TZID=America/Los_Angeles:20280807T103000
DTEND;TZID=America/Los_Angeles:20280807T123000
DTSTAMP:20260420T022553
CREATED:20250703T182108Z
LAST-MODIFIED:20250703T182108Z
UID:10023115-1849257000-1849264200@tillamookchamber.org
SUMMARY:Dungeons and Dragons at Tillamook Library
DESCRIPTION:Play a variety of tabletop RPGs with local storytellers at the library! Open to all!
URL:https://tillamookchamber.org/event/dungeons-and-dragons-at-tillamook-library/2028-08-07/
LOCATION:Tillamook County Library\, 1716 3rd Street Tillamook Oregon 97141
CATEGORIES:Community
ATTACH;FMTTYPE=image/png:https://tillamookchamber.org/wp-content/uploads/2025/07/Dungeons-Dragons-2025-TM-1.png
END:VEVENT
BEGIN:VEVENT
DTSTART;TZID=America/Los_Angeles:20280812T100000
DTEND;TZID=America/Los_Angeles:20280812T120000
DTSTAMP:20260420T022553
CREATED:20250703T182150Z
LAST-MODIFIED:20250703T182150Z
UID:10022855-1849687200-1849694400@tillamookchamber.org
SUMMARY:Dungeons and Dragons at Tillamook Library
DESCRIPTION:Play a variety of tabletop RPGs with local storytellers at the library! Open to all!
URL:https://tillamookchamber.org/event/dungeons-and-dragons-at-tillamook-library-2/2028-08-12/
LOCATION:Tillamook County Library\, 1716 3rd Street Tillamook Oregon 97141
CATEGORIES:Community
ATTACH;FMTTYPE=image/png:https://tillamookchamber.org/wp-content/uploads/2025/07/Dungeons-Dragons-2025-TM.png
END:VEVENT
BEGIN:VEVENT
DTSTART;TZID=America/Los_Angeles:20280814T103000
DTEND;TZID=America/Los_Angeles:20280814T123000
DTSTAMP:20260420T022553
CREATED:20250703T182108Z
LAST-MODIFIED:20250703T182108Z
UID:10023116-1849861800-1849869000@tillamookchamber.org
SUMMARY:Dungeons and Dragons at Tillamook Library
DESCRIPTION:Play a variety of tabletop RPGs with local storytellers at the library! Open to all!
URL:https://tillamookchamber.org/event/dungeons-and-dragons-at-tillamook-library/2028-08-14/
LOCATION:Tillamook County Library\, 1716 3rd Street Tillamook Oregon 97141
CATEGORIES:Community
ATTACH;FMTTYPE=image/png:https://tillamookchamber.org/wp-content/uploads/2025/07/Dungeons-Dragons-2025-TM-1.png
END:VEVENT
BEGIN:VEVENT
DTSTART;TZID=America/Los_Angeles:20280819T100000
DTEND;TZID=America/Los_Angeles:20280819T120000
DTSTAMP:20260420T022553
CREATED:20250703T182150Z
LAST-MODIFIED:20250703T182150Z
UID:10022856-1850292000-1850299200@tillamookchamber.org
SUMMARY:Dungeons and Dragons at Tillamook Library
DESCRIPTION:Play a variety of tabletop RPGs with local storytellers at the library! Open to all!
URL:https://tillamookchamber.org/event/dungeons-and-dragons-at-tillamook-library-2/2028-08-19/
LOCATION:Tillamook County Library\, 1716 3rd Street Tillamook Oregon 97141
CATEGORIES:Community
ATTACH;FMTTYPE=image/png:https://tillamookchamber.org/wp-content/uploads/2025/07/Dungeons-Dragons-2025-TM.png
END:VEVENT
BEGIN:VEVENT
DTSTART;TZID=America/Los_Angeles:20280821T103000
DTEND;TZID=America/Los_Angeles:20280821T123000
DTSTAMP:20260420T022553
CREATED:20250703T182108Z
LAST-MODIFIED:20250703T182108Z
UID:10023117-1850466600-1850473800@tillamookchamber.org
SUMMARY:Dungeons and Dragons at Tillamook Library
DESCRIPTION:Play a variety of tabletop RPGs with local storytellers at the library! Open to all!
URL:https://tillamookchamber.org/event/dungeons-and-dragons-at-tillamook-library/2028-08-21/
LOCATION:Tillamook County Library\, 1716 3rd Street Tillamook Oregon 97141
CATEGORIES:Community
ATTACH;FMTTYPE=image/png:https://tillamookchamber.org/wp-content/uploads/2025/07/Dungeons-Dragons-2025-TM-1.png
END:VEVENT
BEGIN:VEVENT
DTSTART;TZID=America/Los_Angeles:20280826T100000
DTEND;TZID=America/Los_Angeles:20280826T120000
DTSTAMP:20260420T022553
CREATED:20250703T182150Z
LAST-MODIFIED:20250703T182150Z
UID:10022857-1850896800-1850904000@tillamookchamber.org
SUMMARY:Dungeons and Dragons at Tillamook Library
DESCRIPTION:Play a variety of tabletop RPGs with local storytellers at the library! Open to all!
URL:https://tillamookchamber.org/event/dungeons-and-dragons-at-tillamook-library-2/2028-08-26/
LOCATION:Tillamook County Library\, 1716 3rd Street Tillamook Oregon 97141
CATEGORIES:Community
ATTACH;FMTTYPE=image/png:https://tillamookchamber.org/wp-content/uploads/2025/07/Dungeons-Dragons-2025-TM.png
END:VEVENT
BEGIN:VEVENT
DTSTART;TZID=America/Los_Angeles:20280828T103000
DTEND;TZID=America/Los_Angeles:20280828T123000
DTSTAMP:20260420T022553
CREATED:20250703T182108Z
LAST-MODIFIED:20250703T182108Z
UID:10023118-1851071400-1851078600@tillamookchamber.org
SUMMARY:Dungeons and Dragons at Tillamook Library
DESCRIPTION:Play a variety of tabletop RPGs with local storytellers at the library! Open to all!
URL:https://tillamookchamber.org/event/dungeons-and-dragons-at-tillamook-library/2028-08-28/
LOCATION:Tillamook County Library\, 1716 3rd Street Tillamook Oregon 97141
CATEGORIES:Community
ATTACH;FMTTYPE=image/png:https://tillamookchamber.org/wp-content/uploads/2025/07/Dungeons-Dragons-2025-TM-1.png
END:VEVENT
END:VCALENDAR