BEGIN:VCALENDAR
VERSION:2.0
PRODID:-//Tillamook Area Chamber of Commerce - ECPv6.15.20//NONSGML v1.0//EN
CALSCALE:GREGORIAN
METHOD:PUBLISH
X-WR-CALNAME:Tillamook Area Chamber of Commerce
X-ORIGINAL-URL:https://tillamookchamber.org
X-WR-CALDESC:Events for Tillamook Area Chamber of Commerce
REFRESH-INTERVAL;VALUE=DURATION:PT1H
X-Robots-Tag:noindex
X-PUBLISHED-TTL:PT1H
BEGIN:VTIMEZONE
TZID:America/Los_Angeles
BEGIN:DAYLIGHT
TZOFFSETFROM:-0800
TZOFFSETTO:-0700
TZNAME:PDT
DTSTART:20240310T100000
END:DAYLIGHT
BEGIN:STANDARD
TZOFFSETFROM:-0700
TZOFFSETTO:-0800
TZNAME:PST
DTSTART:20241103T090000
END:STANDARD
BEGIN:DAYLIGHT
TZOFFSETFROM:-0800
TZOFFSETTO:-0700
TZNAME:PDT
DTSTART:20250309T100000
END:DAYLIGHT
BEGIN:STANDARD
TZOFFSETFROM:-0700
TZOFFSETTO:-0800
TZNAME:PST
DTSTART:20251102T090000
END:STANDARD
BEGIN:DAYLIGHT
TZOFFSETFROM:-0800
TZOFFSETTO:-0700
TZNAME:PDT
DTSTART:20260308T100000
END:DAYLIGHT
BEGIN:STANDARD
TZOFFSETFROM:-0700
TZOFFSETTO:-0800
TZNAME:PST
DTSTART:20261101T090000
END:STANDARD
END:VTIMEZONE
BEGIN:VEVENT
DTSTART;TZID=America/Los_Angeles:20250508T173000
DTEND;TZID=America/Los_Angeles:20250508T193000
DTSTAMP:20260422T215052
CREATED:20250424T163309Z
LAST-MODIFIED:20250424T163309Z
UID:10021231-1746725400-1746732600@tillamookchamber.org
SUMMARY:Tillamook Community Preparedness Meeting
DESCRIPTION:Want to help your community get prepared? Join us May 8th to shape a new volunteer emergency preparedness group in the City of Tillamook! RSVP here: https://lu.ma/hp2aj3ct\n\nWe’re bringing together neighbors with all kinds of skills and interests—radio\, CERT\, outreach\, logistics\, or just a willingness to help—to form a team dedicated to strengthening community resilience. This first meeting is your chance to help define what the group becomes and how we can best serve our city. Everyone is welcome—whether you’re a seasoned volunteer or just getting started. If you care about emergency preparedness\, we’d love to have you there.\n\n📅 Thursday\, May 8th\n🕠 5:30–7:30 PM\n📍 Tillamook County Main Library – 1716 3rd St\n\nNeed resources or live outside the city? Check out:\n🔗 Tillamook County Citizen Corps\n🔗 ORAlert.gov – Emergency Alerts\n🔗 2 Weeks Ready Toolkit\n🔗 Go Bag Guide\n🔗 Tsunami Evacuation Maps
URL:https://tillamookchamber.org/event/tillamook-community-preparedness-meeting-2/
LOCATION:Tillamook County Library\, 1716 3rd Street Tillamook Oregon 97141
CATEGORIES:Community,Education
ATTACH;FMTTYPE=image/png:https://tillamookchamber.org/wp-content/uploads/2025/04/Preparedness-Meeting-Facebook-Post-1.png
END:VEVENT
BEGIN:VEVENT
DTSTART;TZID=America/Los_Angeles:20250507T180000
DTEND;TZID=America/Los_Angeles:20250507T200000
DTSTAMP:20260422T215052
CREATED:20250404T174929Z
LAST-MODIFIED:20250404T174929Z
UID:10020319-1746640800-1746648000@tillamookchamber.org
SUMMARY:May Movies at Main: Alfred Hitchcock
DESCRIPTION:Join us Wednesday nights at Tillamook Main for movies and popcorn at 6 pm in the Hatfield Room! Themes change monthly.\n\nMay Movies: Alfred Hitchcock\n5/7 Rear Window (1954) \n5/14 Rebecca (1940) \n5/21 Spellbound (1945) \n5/28 Strangers on the Train (1951)
URL:https://tillamookchamber.org/event/may-movies-at-main-alfred-hitchcock/2025-05-07/
LOCATION:Tillamook County Library\, 1716 3rd Street Tillamook Oregon 97141
CATEGORIES:Community,Family Fun
END:VEVENT
BEGIN:VEVENT
DTSTART;TZID=America/Los_Angeles:20250503T140000
DTEND;TZID=America/Los_Angeles:20250503T150000
DTSTAMP:20260422T215052
CREATED:20250326T184410Z
LAST-MODIFIED:20250326T184410Z
UID:10019315-1746280800-1746284400@tillamookchamber.org
SUMMARY:Estate Planning Made Simple with Cheryl Gill at Tillamook Library
DESCRIPTION:Cheryl Gill will present on getting started with estate planning at the Tillamook Main Library. This presentation is for those getting started or wanting to improve what they already have. Everyone will learn something new!\n\nTopics covered are:\n\nWhat is Estate Planning?\n\nHow do you get started?\n\nWhat are the three things everyone needs to have?\n\nDo you need a will or trust?\n\nHow do you avoid probate?\n\nWhat are the most common mistakes people make?
URL:https://tillamookchamber.org/event/estate-planning-made-simple-with-cheryl-gill-at-tillamook-library/
LOCATION:Tillamook County Library\, 1716 3rd Street Tillamook Oregon 97141
CATEGORIES:Community,Education
ATTACH;FMTTYPE=image/png:https://tillamookchamber.org/wp-content/uploads/2025/03/Estate-Planning-050325-TM.png
END:VEVENT
BEGIN:VEVENT
DTSTART;TZID=America/Los_Angeles:20250430T180000
DTEND;TZID=America/Los_Angeles:20250430T200000
DTSTAMP:20260422T215052
CREATED:20250319T184507Z
LAST-MODIFIED:20250319T184507Z
UID:10019086-1746036000-1746043200@tillamookchamber.org
SUMMARY:April Movies at Main: Halfway to Halloween
DESCRIPTION:Join us for movies on Wednesday at 6 pm!\n\nApril Movies: Halfway to Halloween \n4/2 Secret of the Blue Room (1933)  \n4/9 The Deadly Bees (1966)  \n4/16 The Tingler (1959)  \n4/23 Whatever Happened to Baby Jane? (1962) \n4/30 Horror of Dracula (1958) 
URL:https://tillamookchamber.org/event/april-movies-at-main-halfway-to-halloween/2025-04-30/
LOCATION:Tillamook County Library\, 1716 3rd Street Tillamook Oregon 97141
CATEGORIES:Community,Family Fun
ATTACH;FMTTYPE=image/png:https://tillamookchamber.org/wp-content/uploads/2025/03/halfway-to-halloween.png
END:VEVENT
BEGIN:VEVENT
DTSTART;TZID=America/Los_Angeles:20250423T180000
DTEND;TZID=America/Los_Angeles:20250423T200000
DTSTAMP:20260422T215052
CREATED:20250319T184507Z
LAST-MODIFIED:20250319T184507Z
UID:10019085-1745431200-1745438400@tillamookchamber.org
SUMMARY:April Movies at Main: Halfway to Halloween
DESCRIPTION:Join us for movies on Wednesday at 6 pm!\n\nApril Movies: Halfway to Halloween \n4/2 Secret of the Blue Room (1933)  \n4/9 The Deadly Bees (1966)  \n4/16 The Tingler (1959)  \n4/23 Whatever Happened to Baby Jane? (1962) \n4/30 Horror of Dracula (1958) 
URL:https://tillamookchamber.org/event/april-movies-at-main-halfway-to-halloween/2025-04-23/
LOCATION:Tillamook County Library\, 1716 3rd Street Tillamook Oregon 97141
CATEGORIES:Community,Family Fun
ATTACH;FMTTYPE=image/png:https://tillamookchamber.org/wp-content/uploads/2025/03/halfway-to-halloween.png
END:VEVENT
BEGIN:VEVENT
DTSTART;TZID=America/Los_Angeles:20250422T150000
DTEND;TZID=America/Los_Angeles:20250422T170000
DTSTAMP:20260422T215052
CREATED:20250326T184143Z
LAST-MODIFIED:20250326T184143Z
UID:10019317-1745334000-1745341200@tillamookchamber.org
SUMMARY:Oregon Humanities Conversation Project: What Matters at Life's End with Wendy Usher
DESCRIPTION:Many of us know we should talk about what matters at the end of our lives\, but we don’t always know where or how to start these conversations. Once people start exploring death and dying\, they often realize it’s not so scary to talk about after all. It can be comforting and empowering to know more about your options and consider what would be helpful for those who may be making decisions on your behalf. Who do you want with you when you are dying? What environments feel most comfortable? Do you have a preference for what happens to your body and your possessions after you die? How do you want to be remembered? This conversation provides a space and dedicated time for reflecting and exploring your end-of-life wishes.
URL:https://tillamookchamber.org/event/oregon-humanities-conversation-project-what-matters-at-lifes-end-with-wendy-usher/
LOCATION:Tillamook County Library\, 1716 3rd Street Tillamook Oregon 97141
CATEGORIES:Community,Education
ATTACH;FMTTYPE=image/png:https://tillamookchamber.org/wp-content/uploads/2025/03/OHM-What-Matters-at-Lifes-End-042225-TM.png
END:VEVENT
BEGIN:VEVENT
DTSTART;TZID=America/Los_Angeles:20250416T180000
DTEND;TZID=America/Los_Angeles:20250416T200000
DTSTAMP:20260422T215052
CREATED:20250319T184507Z
LAST-MODIFIED:20250319T184507Z
UID:10019084-1744826400-1744833600@tillamookchamber.org
SUMMARY:April Movies at Main: Halfway to Halloween
DESCRIPTION:Join us for movies on Wednesday at 6 pm!\n\nApril Movies: Halfway to Halloween \n4/2 Secret of the Blue Room (1933)  \n4/9 The Deadly Bees (1966)  \n4/16 The Tingler (1959)  \n4/23 Whatever Happened to Baby Jane? (1962) \n4/30 Horror of Dracula (1958) 
URL:https://tillamookchamber.org/event/april-movies-at-main-halfway-to-halloween/2025-04-16/
LOCATION:Tillamook County Library\, 1716 3rd Street Tillamook Oregon 97141
CATEGORIES:Community,Family Fun
ATTACH;FMTTYPE=image/png:https://tillamookchamber.org/wp-content/uploads/2025/03/halfway-to-halloween.png
END:VEVENT
BEGIN:VEVENT
DTSTART;TZID=America/Los_Angeles:20250415T160000
DTEND;TZID=America/Los_Angeles:20250415T170000
DTSTAMP:20260422T215052
CREATED:20250331T171817Z
LAST-MODIFIED:20250331T171817Z
UID:10019329-1744732800-1744736400@tillamookchamber.org
SUMMARY:Sitka Center for Art and Ecology Virtual Resident Talk
DESCRIPTION:Participate in a discussion with Sitka Center’s current resident artists on their recent work April 15th 4 pm
URL:https://tillamookchamber.org/event/sitka-center-for-art-and-ecology-virtual-resident-talk/
LOCATION:Tillamook County Library\, 1716 3rd Street Tillamook Oregon 97141
CATEGORIES:Arts and Culture,Community
END:VEVENT
BEGIN:VEVENT
DTSTART;TZID=America/Los_Angeles:20250410T153000
DTEND;TZID=America/Los_Angeles:20250410T163000
DTSTAMP:20260422T215052
CREATED:20250319T184757Z
LAST-MODIFIED:20250319T184757Z
UID:10019236-1744299000-1744302600@tillamookchamber.org
SUMMARY:Hearts and Hands Drumming Playshop at Tillamook Library
DESCRIPTION:Drum together in this interactive drumming playshop at the library!
URL:https://tillamookchamber.org/event/hearts-and-hands-drumming-playshop-at-tillamook-library/
LOCATION:Tillamook County Library\, 1716 3rd Street Tillamook Oregon 97141
CATEGORIES:Community,Family Fun
ATTACH;FMTTYPE=image/png:https://tillamookchamber.org/wp-content/uploads/2025/03/Drumming21.png
END:VEVENT
BEGIN:VEVENT
DTSTART;TZID=America/Los_Angeles:20250409T180000
DTEND;TZID=America/Los_Angeles:20250409T200000
DTSTAMP:20260422T215053
CREATED:20250319T184507Z
LAST-MODIFIED:20250319T184507Z
UID:10019083-1744221600-1744228800@tillamookchamber.org
SUMMARY:April Movies at Main: Halfway to Halloween
DESCRIPTION:Join us for movies on Wednesday at 6 pm!\n\nApril Movies: Halfway to Halloween \n4/2 Secret of the Blue Room (1933)  \n4/9 The Deadly Bees (1966)  \n4/16 The Tingler (1959)  \n4/23 Whatever Happened to Baby Jane? (1962) \n4/30 Horror of Dracula (1958) 
URL:https://tillamookchamber.org/event/april-movies-at-main-halfway-to-halloween/2025-04-09/
LOCATION:Tillamook County Library\, 1716 3rd Street Tillamook Oregon 97141
CATEGORIES:Community,Family Fun
ATTACH;FMTTYPE=image/png:https://tillamookchamber.org/wp-content/uploads/2025/03/halfway-to-halloween.png
END:VEVENT
BEGIN:VEVENT
DTSTART;TZID=America/Los_Angeles:20250409T110000
DTEND;TZID=America/Los_Angeles:20250409T120000
DTSTAMP:20260422T215053
CREATED:20250331T182328Z
LAST-MODIFIED:20250331T182328Z
UID:10019331-1744196400-1744200000@tillamookchamber.org
SUMMARY:Drop In Tech Help at Tillamook Main Library
DESCRIPTION:Get help with smartphones\, tablets\, laptops\, and similar in an informal Q&A setting.
URL:https://tillamookchamber.org/event/drop-in-tech-help-at-tillamook-main-library-4/
LOCATION:Tillamook County Library\, 1716 3rd Street Tillamook Oregon 97141
CATEGORIES:Community,Education
END:VEVENT
BEGIN:VEVENT
DTSTART;TZID=America/Los_Angeles:20250408T160000
DTEND;TZID=America/Los_Angeles:20250408T170000
DTSTAMP:20260422T215053
CREATED:20250331T182616Z
LAST-MODIFIED:20250331T182616Z
UID:10019333-1744128000-1744131600@tillamookchamber.org
SUMMARY:Teen Crochet at Tillamook Library
DESCRIPTION:Teens invited to learn to crochet! April 8th 4 pm at the library!
URL:https://tillamookchamber.org/event/teen-crochet-at-tillamook-library/
LOCATION:Tillamook County Library\, 1716 3rd Street Tillamook Oregon 97141
CATEGORIES:Classes and Workshops,Community
END:VEVENT
BEGIN:VEVENT
DTSTART;TZID=America/Los_Angeles:20250402T180000
DTEND;TZID=America/Los_Angeles:20250402T200000
DTSTAMP:20260422T215053
CREATED:20250319T184507Z
LAST-MODIFIED:20250319T184507Z
UID:10019082-1743616800-1743624000@tillamookchamber.org
SUMMARY:April Movies at Main: Halfway to Halloween
DESCRIPTION:Join us for movies on Wednesday at 6 pm!\n\nApril Movies: Halfway to Halloween \n4/2 Secret of the Blue Room (1933)  \n4/9 The Deadly Bees (1966)  \n4/16 The Tingler (1959)  \n4/23 Whatever Happened to Baby Jane? (1962) \n4/30 Horror of Dracula (1958) 
URL:https://tillamookchamber.org/event/april-movies-at-main-halfway-to-halloween/2025-04-02/
LOCATION:Tillamook County Library\, 1716 3rd Street Tillamook Oregon 97141
CATEGORIES:Community,Family Fun
ATTACH;FMTTYPE=image/png:https://tillamookchamber.org/wp-content/uploads/2025/03/halfway-to-halloween.png
END:VEVENT
BEGIN:VEVENT
DTSTART;TZID=America/Los_Angeles:20250402T173000
DTEND;TZID=America/Los_Angeles:20250402T193000
DTSTAMP:20260422T215053
CREATED:20250306T185429Z
LAST-MODIFIED:20250306T185429Z
UID:10019005-1743615000-1743622200@tillamookchamber.org
SUMMARY:Preparedness in Action
DESCRIPTION:Join us on Wednesday\, April 2\, 2025\, from 5:30–7:30 PM at the Tillamook County Library for Preparedness in Action!\n\n​Hosted by the Tillamook Police Department and Tillamook County Emergency Management\, this event covers personal preparedness\, CERT\, and ways to get involved in your community. Whether you’re new to emergency readiness or looking to expand your knowledge\, you’ll have the chance to engage with local first responders\, ask questions\, and learn essential strategies—from understanding local risks to building a Go Bag.\n\n​We look forward to seeing you there!\n\nFor more information visit: https://lu.ma/we6louyd
URL:https://tillamookchamber.org/event/preparedness-in-action/
LOCATION:Tillamook County Library\, 1716 3rd Street Tillamook Oregon 97141
CATEGORIES:Community,Education
ATTACH;FMTTYPE=image/jpeg:https://tillamookchamber.org/wp-content/uploads/2025/03/Preparedness-in-Action-Poster.jpg
END:VEVENT
BEGIN:VEVENT
DTSTART;TZID=America/Los_Angeles:20250402T130000
DTEND;TZID=America/Los_Angeles:20250402T140000
DTSTAMP:20260422T215053
CREATED:20250312T211342Z
LAST-MODIFIED:20250312T211342Z
UID:10019016-1743598800-1743602400@tillamookchamber.org
SUMMARY:Hospice Isn't What You Think: Discover the Truth About End of Life Care
DESCRIPTION:You’re Invited to attend!  \nHospice Isn’t What You Think: Discover the Truth About End of Life Care \nMany people have misconceptions about hospice\, but we’re here to clear the air! \nJoin us for an informative and compassionate discussion about what hospice really is\, when it might be the right time\, and how it can be a no-cost support system for families. \nDate: April 2nd Time: 1-2 PM Location: Tillamook County Library (1716 Third St) \nWhat you’ll learn: \n\n\n 	Hospice Myths Debunked – The truth about hospice\, including common medication concerns\n 	When Is the Right Time? – Key signs to consider hospice care\n 	Hospice at No Cost – How Medicare\, Medicaid\, and insurance cover 100%\n 	Planning & Bereavement – End-of-life decisions\, grief support\, and family benefits\n\nThis session will be led by experienced hospice professionals and includes a Q&A—so bring your questions! \nPlease share and invite anyone who may benefit from this important conversation. We hope to see you there! \nContact Chaplain Cami Aufdermauer for any questions at Aufdercj@ah.org. \n#HospiceCare #EndOfLifeSupport #TillamookEvents #CommunityEducation
URL:https://tillamookchamber.org/event/hospice-isnt-what-you-think-discover-the-truth-about-end-of-life-care/
LOCATION:Tillamook County Library\, 1716 3rd Street Tillamook Oregon 97141
CATEGORIES:Community,Education
END:VEVENT
BEGIN:VEVENT
DTSTART;TZID=America/Los_Angeles:20250326T180000
DTEND;TZID=America/Los_Angeles:20250326T200000
DTSTAMP:20260422T215053
CREATED:20250226T004917Z
LAST-MODIFIED:20250226T004917Z
UID:10018299-1743012000-1743019200@tillamookchamber.org
SUMMARY:March Movies at Main: Retro Science Fiction
DESCRIPTION:Join us at the library for movies at 6 pm!\n\n 	3/5 Forbidden Planet (1956)  \n\n\n 	3/19 The Day The Earth Stood Still (1951)  \n\n\n 	3/26 The Thing from another world (1951) 
URL:https://tillamookchamber.org/event/march-movies-at-main-retro-science-fiction/2025-03-26/
LOCATION:Tillamook County Library\, 1716 3rd Street Tillamook Oregon 97141
CATEGORIES:Community,Family Fun
END:VEVENT
BEGIN:VEVENT
DTSTART;TZID=America/Los_Angeles:20250322T130000
DTEND;TZID=America/Los_Angeles:20250322T150000
DTSTAMP:20260422T215053
CREATED:20250305T195821Z
LAST-MODIFIED:20250305T195821Z
UID:10018712-1742648400-1742655600@tillamookchamber.org
SUMMARY:Crafternoon at Tillamook Library
DESCRIPTION:afts for all ages on a specific theme each month. Space is limited to 12 adult and 12 children participants.\nThemes:\nMarch 22nd: Garden\n\nApril 12th: Moms\n\nMay 10th: Fun Stuff
URL:https://tillamookchamber.org/event/crafternoon-at-tillamook-library/
LOCATION:Tillamook County Library\, 1716 3rd Street Tillamook Oregon 97141
CATEGORIES:Classes and Workshops,Family Fun
ATTACH;FMTTYPE=image/png:https://tillamookchamber.org/wp-content/uploads/2025/03/Crafternoons-21.png
END:VEVENT
BEGIN:VEVENT
DTSTART;TZID=America/Los_Angeles:20250319T180000
DTEND;TZID=America/Los_Angeles:20250319T200000
DTSTAMP:20260422T215053
CREATED:20250226T004917Z
LAST-MODIFIED:20250226T004917Z
UID:10018298-1742407200-1742414400@tillamookchamber.org
SUMMARY:March Movies at Main: Retro Science Fiction
DESCRIPTION:Join us at the library for movies at 6 pm!\n\n 	3/5 Forbidden Planet (1956)  \n\n\n 	3/19 The Day The Earth Stood Still (1951)  \n\n\n 	3/26 The Thing from another world (1951) 
URL:https://tillamookchamber.org/event/march-movies-at-main-retro-science-fiction/2025-03-19/
LOCATION:Tillamook County Library\, 1716 3rd Street Tillamook Oregon 97141
CATEGORIES:Community,Family Fun
END:VEVENT
BEGIN:VEVENT
DTSTART;TZID=America/Los_Angeles:20250319T160000
DTEND;TZID=America/Los_Angeles:20250319T170000
DTSTAMP:20260422T215053
CREATED:20250305T195902Z
LAST-MODIFIED:20250305T195902Z
UID:10018713-1742400000-1742403600@tillamookchamber.org
SUMMARY:Speed Friending at Tillamook Library
DESCRIPTION:Meet and chat with other friend seekers in a fun\, low pressure turn taking game at the Tillamook Main Library on March 19th at 4 PM.
URL:https://tillamookchamber.org/event/speed-friending-at-tillamook-library/
LOCATION:Tillamook County Library\, 1716 3rd Street Tillamook Oregon 97141
CATEGORIES:Community
ATTACH;FMTTYPE=image/png:https://tillamookchamber.org/wp-content/uploads/2025/03/Speed-Friending-031925-TM.png
END:VEVENT
BEGIN:VEVENT
DTSTART;TZID=America/Los_Angeles:20250315T140000
DTEND;TZID=America/Los_Angeles:20250315T160000
DTSTAMP:20260422T215053
CREATED:20250206T180144Z
LAST-MODIFIED:20250206T180144Z
UID:10017868-1742047200-1742054400@tillamookchamber.org
SUMMARY:An Afternoon of Poetry at Tillamook Library
DESCRIPTION:Join us for a poetry reading by PNW authors in the library! Featuring Daneen Bergland\, Ciel Downing\, Emily Ransdell\, and Arizona poet Karen Rigby sharing from their new work. \n\nDaneen Bergland grew up in the Midwest\, but long ago found her way home to the Pacific Northwest.\nShe is a former recipient of an Oregon Literary Arts fellowship\, a current co-editor for the poetry\ncollective Airlie Press\, a professor at Portland State University\, and author of The Goodbye Kit\, whose\npoems examine our relationships to each other and with the more than human world\, and share in\ncommon a sense of lament and wonder for the mutability of life.\n\nCiel Downing‘s work can be found most recently in Herstry\, Word & Image\, The Wrath Bearing Tree\, The\nTimberline Review\, and North Coast Squid. She has won the Academy of American Poets Prize\, came in\nrunner up in the Sally Albiso Award\, and has Honorable Mentions in both the Kay Snow Award and\nElizabeth Lyons Award. Her debut collection is To Walk the North Direction. She lives and writes from her\ncottage on the Oregon Coast.\n\nEmily Ransdell is the author of One Finch Singing\, winner of the 2022 Lewis Award by Concrete Wolf\nPress. Her work appears regularly in journals such as Poetry Northwest\, Terrain\, New Letters and more.\nEmily divides her time between Camas\, Washington and Manzanita\, Oregon\, where she teaches poetry\nclasses at the Hoffman Center for the Arts and volunteers with writing events in support of the North\nCoast writing community.\n\nKaren Rigby is the author of Chinoiserie (Ahsahta Press)\, which won a 2011 Sawtooth Poetry Prize\, and\nFabulosa (JackLeg Press)\, which is one of Ms. Magazine’s Best Poetry of ’23-’24 selections. A National\nEndowment for the Arts literature fellow\, her poems appear in journals such as Bennington Review\,\nPoetry Northwest\, The London Magazine\, and Australian Book Review. Her work has featured on KNAU\npublic radio\, Mixed Asian Media and elsewhere. She lives in Arizona.
URL:https://tillamookchamber.org/event/an-afternoon-of-poetry-at-tillamook-library-2/
LOCATION:Tillamook County Library\, 1716 3rd Street Tillamook Oregon 97141
CATEGORIES:Arts and Culture,Community
END:VEVENT
BEGIN:VEVENT
DTSTART;TZID=America/Los_Angeles:20250315T140000
DTEND;TZID=America/Los_Angeles:20250315T160000
DTSTAMP:20260422T215053
CREATED:20250131T192320Z
LAST-MODIFIED:20250131T192320Z
UID:10017854-1742047200-1742054400@tillamookchamber.org
SUMMARY:An Afternoon of Poetry at Tillamook Library
DESCRIPTION:Join us for a poetry reading by PNW authors in the library!
URL:https://tillamookchamber.org/event/an-afternoon-of-poetry-at-tillamook-library/
LOCATION:Tillamook County Library\, 1716 3rd Street Tillamook Oregon 97141
CATEGORIES:Community
END:VEVENT
BEGIN:VEVENT
DTSTART;TZID=America/Los_Angeles:20250312T110000
DTEND;TZID=America/Los_Angeles:20250312T120000
DTSTAMP:20260422T215053
CREATED:20250305T194556Z
LAST-MODIFIED:20250305T194556Z
UID:10018708-1741777200-1741780800@tillamookchamber.org
SUMMARY:Drop In Tech Help at Tillamook Main Library
DESCRIPTION:Drop in for help with smartphones\, tablets\, laptops\, and similar in an informal Q&A setting
URL:https://tillamookchamber.org/event/drop-in-tech-help-at-tillamook-main-library-3/
LOCATION:Tillamook County Library\, 1716 3rd Street Tillamook Oregon 97141
CATEGORIES:Community,Education
ATTACH;FMTTYPE=image/png:https://tillamookchamber.org/wp-content/uploads/2025/03/Tech-Help-031225-TM-eng.png
END:VEVENT
BEGIN:VEVENT
DTSTART;TZID=America/Los_Angeles:20250311T170000
DTEND;TZID=America/Los_Angeles:20250311T190000
DTSTAMP:20260422T215053
CREATED:20250305T193823Z
LAST-MODIFIED:20250305T193823Z
UID:10018704-1741712400-1741719600@tillamookchamber.org
SUMMARY:Bilingual Family Movie Night/ Películas Bilingües para la Familia
DESCRIPTION:Bilingual Family Movie Night/ Películas Bilingües para la Familia  Movies for all ages/families in English and Spanish: Spanish audio and English subtitles \n\nPelículas para todas las edades con audio en español y subtítulos en inglés. 
URL:https://tillamookchamber.org/event/bilingual-family-movie-night-peliculas-bilingues-para-la-familia/
LOCATION:Tillamook County Library\, 1716 3rd Street Tillamook Oregon 97141
CATEGORIES:Family Fun
ATTACH;FMTTYPE=image/png:https://tillamookchamber.org/wp-content/uploads/2025/03/Bilingual-Spiderverse-031125-TM-eng1.png
END:VEVENT
BEGIN:VEVENT
DTSTART;TZID=America/Los_Angeles:20250311T160000
DTEND;TZID=America/Los_Angeles:20250311T170000
DTSTAMP:20260422T215053
CREATED:20250305T193632Z
LAST-MODIFIED:20250305T193632Z
UID:10018703-1741708800-1741712400@tillamookchamber.org
SUMMARY:Teen Blindfolded Painting at Tillamook Library
DESCRIPTION:On Tuesday\, March 11th at 4pm teens will put on blindfolds and create works of art! Sure to be a fun and creative time.
URL:https://tillamookchamber.org/event/teen-blindfolded-painting-at-tillamook-library/
LOCATION:Tillamook County Library\, 1716 3rd Street Tillamook Oregon 97141
CATEGORIES:Community,Family Fun
ATTACH;FMTTYPE=image/png:https://tillamookchamber.org/wp-content/uploads/2025/03/Blindfolded-painting12.png
END:VEVENT
BEGIN:VEVENT
DTSTART;TZID=America/Los_Angeles:20250305T180000
DTEND;TZID=America/Los_Angeles:20250305T200000
DTSTAMP:20260422T215053
CREATED:20250226T004917Z
LAST-MODIFIED:20250226T004917Z
UID:10018297-1741197600-1741204800@tillamookchamber.org
SUMMARY:March Movies at Main: Retro Science Fiction
DESCRIPTION:Join us at the library for movies at 6 pm!\n\n 	3/5 Forbidden Planet (1956)  \n\n\n 	3/19 The Day The Earth Stood Still (1951)  \n\n\n 	3/26 The Thing from another world (1951) 
URL:https://tillamookchamber.org/event/march-movies-at-main-retro-science-fiction/2025-03-05/
LOCATION:Tillamook County Library\, 1716 3rd Street Tillamook Oregon 97141
CATEGORIES:Community,Family Fun
END:VEVENT
BEGIN:VEVENT
DTSTART;TZID=America/Los_Angeles:20250228T090000
DTEND;TZID=America/Los_Angeles:20250228T170000
DTSTAMP:20260422T215053
CREATED:20250218T180453Z
LAST-MODIFIED:20250219T222114Z
UID:10017885-1740733200-1740762000@tillamookchamber.org
SUMMARY:Tillamook County Library Seed Swap
DESCRIPTION:Pick up some seeds or donate some to the exchange in the Tillamook Main Library until February 28th!
URL:https://tillamookchamber.org/event/tillamook-county-library-seed-swap/2025-02-28/
LOCATION:Tillamook County Library\, 1716 3rd Street Tillamook Oregon 97141
CATEGORIES:Community
END:VEVENT
BEGIN:VEVENT
DTSTART;TZID=America/Los_Angeles:20250227T090000
DTEND;TZID=America/Los_Angeles:20250227T170000
DTSTAMP:20260422T215053
CREATED:20250218T180453Z
LAST-MODIFIED:20250219T222114Z
UID:10017884-1740646800-1740675600@tillamookchamber.org
SUMMARY:Tillamook County Library Seed Swap
DESCRIPTION:Pick up some seeds or donate some to the exchange in the Tillamook Main Library until February 28th!
URL:https://tillamookchamber.org/event/tillamook-county-library-seed-swap/2025-02-27/
LOCATION:Tillamook County Library\, 1716 3rd Street Tillamook Oregon 97141
CATEGORIES:Community
END:VEVENT
BEGIN:VEVENT
DTSTART;TZID=America/Los_Angeles:20250226T180000
DTEND;TZID=America/Los_Angeles:20250226T200000
DTSTAMP:20260422T215053
CREATED:20241231T223249Z
LAST-MODIFIED:20241231T223249Z
UID:10017741-1740592800-1740600000@tillamookchamber.org
SUMMARY:February Movies at Tillamook Library: Celebrating Black Artists
DESCRIPTION:Join us Wednesday nights at Tillamook Main for movies and popcorn at 6 pm in the Hatfield Room! Themes change monthly. All movie summaries attributed to IMDB.com\nFebruary Movies: Black Artists\n2/5 The Wiz (1978) An adaptation of “The Wizard of Oz” that tries to capture the essence of the African-American experience. \n2/19 Black Panther (2018) T’Challa\, heir to the hidden but advanced kingdom of Wakanda\, must step forward to lead his people into a new future and must confront a challenger from his country’s past. \n2/26 Akeelah and the Bee (2006) Akeelah\, a young gifted girl\, comes from a dysfunctional family and is on the verge of quitting school. She discovers that she has a high aptitude for spellings and enters a spelling bee contest.
URL:https://tillamookchamber.org/event/february-movies-at-tillamook-library-celebrating-black-artists/2025-02-26/
LOCATION:Tillamook County Library\, 1716 3rd Street Tillamook Oregon 97141
CATEGORIES:Community,Family Fun
END:VEVENT
BEGIN:VEVENT
DTSTART;TZID=America/Los_Angeles:20250226T090000
DTEND;TZID=America/Los_Angeles:20250226T170000
DTSTAMP:20260422T215053
CREATED:20250218T180453Z
LAST-MODIFIED:20250219T222114Z
UID:10017883-1740560400-1740589200@tillamookchamber.org
SUMMARY:Tillamook County Library Seed Swap
DESCRIPTION:Pick up some seeds or donate some to the exchange in the Tillamook Main Library until February 28th!
URL:https://tillamookchamber.org/event/tillamook-county-library-seed-swap/2025-02-26/
LOCATION:Tillamook County Library\, 1716 3rd Street Tillamook Oregon 97141
CATEGORIES:Community
END:VEVENT
BEGIN:VEVENT
DTSTART;TZID=America/Los_Angeles:20250225T090000
DTEND;TZID=America/Los_Angeles:20250225T170000
DTSTAMP:20260422T215053
CREATED:20250218T180453Z
LAST-MODIFIED:20250219T222114Z
UID:10017882-1740474000-1740502800@tillamookchamber.org
SUMMARY:Tillamook County Library Seed Swap
DESCRIPTION:Pick up some seeds or donate some to the exchange in the Tillamook Main Library until February 28th!
URL:https://tillamookchamber.org/event/tillamook-county-library-seed-swap/2025-02-25/
LOCATION:Tillamook County Library\, 1716 3rd Street Tillamook Oregon 97141
CATEGORIES:Community
END:VEVENT
END:VCALENDAR