BEGIN:VCALENDAR
VERSION:2.0
PRODID:-//Tillamook Area Chamber of Commerce - ECPv6.15.20//NONSGML v1.0//EN
CALSCALE:GREGORIAN
METHOD:PUBLISH
X-WR-CALNAME:Tillamook Area Chamber of Commerce
X-ORIGINAL-URL:https://tillamookchamber.org
X-WR-CALDESC:Events for Tillamook Area Chamber of Commerce
REFRESH-INTERVAL;VALUE=DURATION:PT1H
X-Robots-Tag:noindex
X-PUBLISHED-TTL:PT1H
BEGIN:VTIMEZONE
TZID:America/Los_Angeles
BEGIN:DAYLIGHT
TZOFFSETFROM:-0800
TZOFFSETTO:-0700
TZNAME:PDT
DTSTART:20270314T100000
END:DAYLIGHT
BEGIN:STANDARD
TZOFFSETFROM:-0700
TZOFFSETTO:-0800
TZNAME:PST
DTSTART:20271107T090000
END:STANDARD
BEGIN:DAYLIGHT
TZOFFSETFROM:-0800
TZOFFSETTO:-0700
TZNAME:PDT
DTSTART:20280312T100000
END:DAYLIGHT
BEGIN:STANDARD
TZOFFSETFROM:-0700
TZOFFSETTO:-0800
TZNAME:PST
DTSTART:20281105T090000
END:STANDARD
BEGIN:DAYLIGHT
TZOFFSETFROM:-0800
TZOFFSETTO:-0700
TZNAME:PDT
DTSTART:20290311T100000
END:DAYLIGHT
BEGIN:STANDARD
TZOFFSETFROM:-0700
TZOFFSETTO:-0800
TZNAME:PST
DTSTART:20291104T090000
END:STANDARD
END:VTIMEZONE
BEGIN:VEVENT
DTSTART;TZID=America/Los_Angeles:20280115T100000
DTEND;TZID=America/Los_Angeles:20280115T120000
DTSTAMP:20260419T172415
CREATED:20250703T182150Z
LAST-MODIFIED:20250703T182150Z
UID:10022825-1831543200-1831550400@tillamookchamber.org
SUMMARY:Dungeons and Dragons at Tillamook Library
DESCRIPTION:Play a variety of tabletop RPGs with local storytellers at the library! Open to all!
URL:https://tillamookchamber.org/event/dungeons-and-dragons-at-tillamook-library-2/2028-01-15/
LOCATION:Tillamook County Library\, 1716 3rd Street Tillamook Oregon 97141
CATEGORIES:Community
ATTACH;FMTTYPE=image/png:https://tillamookchamber.org/wp-content/uploads/2025/07/Dungeons-Dragons-2025-TM.png
END:VEVENT
BEGIN:VEVENT
DTSTART;TZID=America/Los_Angeles:20280117T103000
DTEND;TZID=America/Los_Angeles:20280117T123000
DTSTAMP:20260419T172415
CREATED:20250703T182108Z
LAST-MODIFIED:20250703T182108Z
UID:10023086-1831717800-1831725000@tillamookchamber.org
SUMMARY:Dungeons and Dragons at Tillamook Library
DESCRIPTION:Play a variety of tabletop RPGs with local storytellers at the library! Open to all!
URL:https://tillamookchamber.org/event/dungeons-and-dragons-at-tillamook-library/2028-01-17/
LOCATION:Tillamook County Library\, 1716 3rd Street Tillamook Oregon 97141
CATEGORIES:Community
ATTACH;FMTTYPE=image/png:https://tillamookchamber.org/wp-content/uploads/2025/07/Dungeons-Dragons-2025-TM-1.png
END:VEVENT
BEGIN:VEVENT
DTSTART;TZID=America/Los_Angeles:20280122T100000
DTEND;TZID=America/Los_Angeles:20280122T120000
DTSTAMP:20260419T172415
CREATED:20250703T182150Z
LAST-MODIFIED:20250703T182150Z
UID:10022826-1832148000-1832155200@tillamookchamber.org
SUMMARY:Dungeons and Dragons at Tillamook Library
DESCRIPTION:Play a variety of tabletop RPGs with local storytellers at the library! Open to all!
URL:https://tillamookchamber.org/event/dungeons-and-dragons-at-tillamook-library-2/2028-01-22/
LOCATION:Tillamook County Library\, 1716 3rd Street Tillamook Oregon 97141
CATEGORIES:Community
ATTACH;FMTTYPE=image/png:https://tillamookchamber.org/wp-content/uploads/2025/07/Dungeons-Dragons-2025-TM.png
END:VEVENT
BEGIN:VEVENT
DTSTART;TZID=America/Los_Angeles:20280124T103000
DTEND;TZID=America/Los_Angeles:20280124T123000
DTSTAMP:20260419T172415
CREATED:20250703T182108Z
LAST-MODIFIED:20250703T182108Z
UID:10023087-1832322600-1832329800@tillamookchamber.org
SUMMARY:Dungeons and Dragons at Tillamook Library
DESCRIPTION:Play a variety of tabletop RPGs with local storytellers at the library! Open to all!
URL:https://tillamookchamber.org/event/dungeons-and-dragons-at-tillamook-library/2028-01-24/
LOCATION:Tillamook County Library\, 1716 3rd Street Tillamook Oregon 97141
CATEGORIES:Community
ATTACH;FMTTYPE=image/png:https://tillamookchamber.org/wp-content/uploads/2025/07/Dungeons-Dragons-2025-TM-1.png
END:VEVENT
BEGIN:VEVENT
DTSTART;TZID=America/Los_Angeles:20280129T100000
DTEND;TZID=America/Los_Angeles:20280129T120000
DTSTAMP:20260419T172415
CREATED:20250703T182150Z
LAST-MODIFIED:20250703T182150Z
UID:10022827-1832752800-1832760000@tillamookchamber.org
SUMMARY:Dungeons and Dragons at Tillamook Library
DESCRIPTION:Play a variety of tabletop RPGs with local storytellers at the library! Open to all!
URL:https://tillamookchamber.org/event/dungeons-and-dragons-at-tillamook-library-2/2028-01-29/
LOCATION:Tillamook County Library\, 1716 3rd Street Tillamook Oregon 97141
CATEGORIES:Community
ATTACH;FMTTYPE=image/png:https://tillamookchamber.org/wp-content/uploads/2025/07/Dungeons-Dragons-2025-TM.png
END:VEVENT
BEGIN:VEVENT
DTSTART;TZID=America/Los_Angeles:20280131T103000
DTEND;TZID=America/Los_Angeles:20280131T123000
DTSTAMP:20260419T172415
CREATED:20250703T182108Z
LAST-MODIFIED:20250703T182108Z
UID:10023088-1832927400-1832934600@tillamookchamber.org
SUMMARY:Dungeons and Dragons at Tillamook Library
DESCRIPTION:Play a variety of tabletop RPGs with local storytellers at the library! Open to all!
URL:https://tillamookchamber.org/event/dungeons-and-dragons-at-tillamook-library/2028-01-31/
LOCATION:Tillamook County Library\, 1716 3rd Street Tillamook Oregon 97141
CATEGORIES:Community
ATTACH;FMTTYPE=image/png:https://tillamookchamber.org/wp-content/uploads/2025/07/Dungeons-Dragons-2025-TM-1.png
END:VEVENT
BEGIN:VEVENT
DTSTART;TZID=America/Los_Angeles:20280205T100000
DTEND;TZID=America/Los_Angeles:20280205T120000
DTSTAMP:20260419T172415
CREATED:20250703T182150Z
LAST-MODIFIED:20250703T182150Z
UID:10022828-1833357600-1833364800@tillamookchamber.org
SUMMARY:Dungeons and Dragons at Tillamook Library
DESCRIPTION:Play a variety of tabletop RPGs with local storytellers at the library! Open to all!
URL:https://tillamookchamber.org/event/dungeons-and-dragons-at-tillamook-library-2/2028-02-05/
LOCATION:Tillamook County Library\, 1716 3rd Street Tillamook Oregon 97141
CATEGORIES:Community
ATTACH;FMTTYPE=image/png:https://tillamookchamber.org/wp-content/uploads/2025/07/Dungeons-Dragons-2025-TM.png
END:VEVENT
BEGIN:VEVENT
DTSTART;TZID=America/Los_Angeles:20280207T103000
DTEND;TZID=America/Los_Angeles:20280207T123000
DTSTAMP:20260419T172415
CREATED:20250703T182108Z
LAST-MODIFIED:20250703T182108Z
UID:10023089-1833532200-1833539400@tillamookchamber.org
SUMMARY:Dungeons and Dragons at Tillamook Library
DESCRIPTION:Play a variety of tabletop RPGs with local storytellers at the library! Open to all!
URL:https://tillamookchamber.org/event/dungeons-and-dragons-at-tillamook-library/2028-02-07/
LOCATION:Tillamook County Library\, 1716 3rd Street Tillamook Oregon 97141
CATEGORIES:Community
ATTACH;FMTTYPE=image/png:https://tillamookchamber.org/wp-content/uploads/2025/07/Dungeons-Dragons-2025-TM-1.png
END:VEVENT
BEGIN:VEVENT
DTSTART;TZID=America/Los_Angeles:20280212T100000
DTEND;TZID=America/Los_Angeles:20280212T120000
DTSTAMP:20260419T172415
CREATED:20250703T182150Z
LAST-MODIFIED:20250703T182150Z
UID:10022829-1833962400-1833969600@tillamookchamber.org
SUMMARY:Dungeons and Dragons at Tillamook Library
DESCRIPTION:Play a variety of tabletop RPGs with local storytellers at the library! Open to all!
URL:https://tillamookchamber.org/event/dungeons-and-dragons-at-tillamook-library-2/2028-02-12/
LOCATION:Tillamook County Library\, 1716 3rd Street Tillamook Oregon 97141
CATEGORIES:Community
ATTACH;FMTTYPE=image/png:https://tillamookchamber.org/wp-content/uploads/2025/07/Dungeons-Dragons-2025-TM.png
END:VEVENT
BEGIN:VEVENT
DTSTART;TZID=America/Los_Angeles:20280214T103000
DTEND;TZID=America/Los_Angeles:20280214T123000
DTSTAMP:20260419T172415
CREATED:20250703T182108Z
LAST-MODIFIED:20250703T182108Z
UID:10023090-1834137000-1834144200@tillamookchamber.org
SUMMARY:Dungeons and Dragons at Tillamook Library
DESCRIPTION:Play a variety of tabletop RPGs with local storytellers at the library! Open to all!
URL:https://tillamookchamber.org/event/dungeons-and-dragons-at-tillamook-library/2028-02-14/
LOCATION:Tillamook County Library\, 1716 3rd Street Tillamook Oregon 97141
CATEGORIES:Community
ATTACH;FMTTYPE=image/png:https://tillamookchamber.org/wp-content/uploads/2025/07/Dungeons-Dragons-2025-TM-1.png
END:VEVENT
BEGIN:VEVENT
DTSTART;TZID=America/Los_Angeles:20280219T100000
DTEND;TZID=America/Los_Angeles:20280219T120000
DTSTAMP:20260419T172415
CREATED:20250703T182150Z
LAST-MODIFIED:20250703T182150Z
UID:10022830-1834567200-1834574400@tillamookchamber.org
SUMMARY:Dungeons and Dragons at Tillamook Library
DESCRIPTION:Play a variety of tabletop RPGs with local storytellers at the library! Open to all!
URL:https://tillamookchamber.org/event/dungeons-and-dragons-at-tillamook-library-2/2028-02-19/
LOCATION:Tillamook County Library\, 1716 3rd Street Tillamook Oregon 97141
CATEGORIES:Community
ATTACH;FMTTYPE=image/png:https://tillamookchamber.org/wp-content/uploads/2025/07/Dungeons-Dragons-2025-TM.png
END:VEVENT
BEGIN:VEVENT
DTSTART;TZID=America/Los_Angeles:20280221T103000
DTEND;TZID=America/Los_Angeles:20280221T123000
DTSTAMP:20260419T172415
CREATED:20250703T182108Z
LAST-MODIFIED:20250703T182108Z
UID:10023091-1834741800-1834749000@tillamookchamber.org
SUMMARY:Dungeons and Dragons at Tillamook Library
DESCRIPTION:Play a variety of tabletop RPGs with local storytellers at the library! Open to all!
URL:https://tillamookchamber.org/event/dungeons-and-dragons-at-tillamook-library/2028-02-21/
LOCATION:Tillamook County Library\, 1716 3rd Street Tillamook Oregon 97141
CATEGORIES:Community
ATTACH;FMTTYPE=image/png:https://tillamookchamber.org/wp-content/uploads/2025/07/Dungeons-Dragons-2025-TM-1.png
END:VEVENT
BEGIN:VEVENT
DTSTART;TZID=America/Los_Angeles:20280226T100000
DTEND;TZID=America/Los_Angeles:20280226T120000
DTSTAMP:20260419T172415
CREATED:20250703T182150Z
LAST-MODIFIED:20250703T182150Z
UID:10022831-1835172000-1835179200@tillamookchamber.org
SUMMARY:Dungeons and Dragons at Tillamook Library
DESCRIPTION:Play a variety of tabletop RPGs with local storytellers at the library! Open to all!
URL:https://tillamookchamber.org/event/dungeons-and-dragons-at-tillamook-library-2/2028-02-26/
LOCATION:Tillamook County Library\, 1716 3rd Street Tillamook Oregon 97141
CATEGORIES:Community
ATTACH;FMTTYPE=image/png:https://tillamookchamber.org/wp-content/uploads/2025/07/Dungeons-Dragons-2025-TM.png
END:VEVENT
BEGIN:VEVENT
DTSTART;TZID=America/Los_Angeles:20280228T103000
DTEND;TZID=America/Los_Angeles:20280228T123000
DTSTAMP:20260419T172415
CREATED:20250703T182108Z
LAST-MODIFIED:20250703T182108Z
UID:10023092-1835346600-1835353800@tillamookchamber.org
SUMMARY:Dungeons and Dragons at Tillamook Library
DESCRIPTION:Play a variety of tabletop RPGs with local storytellers at the library! Open to all!
URL:https://tillamookchamber.org/event/dungeons-and-dragons-at-tillamook-library/2028-02-28/
LOCATION:Tillamook County Library\, 1716 3rd Street Tillamook Oregon 97141
CATEGORIES:Community
ATTACH;FMTTYPE=image/png:https://tillamookchamber.org/wp-content/uploads/2025/07/Dungeons-Dragons-2025-TM-1.png
END:VEVENT
BEGIN:VEVENT
DTSTART;TZID=America/Los_Angeles:20280304T100000
DTEND;TZID=America/Los_Angeles:20280304T120000
DTSTAMP:20260419T172415
CREATED:20250703T182150Z
LAST-MODIFIED:20250703T182150Z
UID:10022832-1835776800-1835784000@tillamookchamber.org
SUMMARY:Dungeons and Dragons at Tillamook Library
DESCRIPTION:Play a variety of tabletop RPGs with local storytellers at the library! Open to all!
URL:https://tillamookchamber.org/event/dungeons-and-dragons-at-tillamook-library-2/2028-03-04/
LOCATION:Tillamook County Library\, 1716 3rd Street Tillamook Oregon 97141
CATEGORIES:Community
ATTACH;FMTTYPE=image/png:https://tillamookchamber.org/wp-content/uploads/2025/07/Dungeons-Dragons-2025-TM.png
END:VEVENT
BEGIN:VEVENT
DTSTART;TZID=America/Los_Angeles:20280306T103000
DTEND;TZID=America/Los_Angeles:20280306T123000
DTSTAMP:20260419T172415
CREATED:20250703T182108Z
LAST-MODIFIED:20250703T182108Z
UID:10023093-1835951400-1835958600@tillamookchamber.org
SUMMARY:Dungeons and Dragons at Tillamook Library
DESCRIPTION:Play a variety of tabletop RPGs with local storytellers at the library! Open to all!
URL:https://tillamookchamber.org/event/dungeons-and-dragons-at-tillamook-library/2028-03-06/
LOCATION:Tillamook County Library\, 1716 3rd Street Tillamook Oregon 97141
CATEGORIES:Community
ATTACH;FMTTYPE=image/png:https://tillamookchamber.org/wp-content/uploads/2025/07/Dungeons-Dragons-2025-TM-1.png
END:VEVENT
BEGIN:VEVENT
DTSTART;TZID=America/Los_Angeles:20280311T100000
DTEND;TZID=America/Los_Angeles:20280311T120000
DTSTAMP:20260419T172415
CREATED:20250703T182150Z
LAST-MODIFIED:20250703T182150Z
UID:10022833-1836381600-1836388800@tillamookchamber.org
SUMMARY:Dungeons and Dragons at Tillamook Library
DESCRIPTION:Play a variety of tabletop RPGs with local storytellers at the library! Open to all!
URL:https://tillamookchamber.org/event/dungeons-and-dragons-at-tillamook-library-2/2028-03-11/
LOCATION:Tillamook County Library\, 1716 3rd Street Tillamook Oregon 97141
CATEGORIES:Community
ATTACH;FMTTYPE=image/png:https://tillamookchamber.org/wp-content/uploads/2025/07/Dungeons-Dragons-2025-TM.png
END:VEVENT
BEGIN:VEVENT
DTSTART;TZID=America/Los_Angeles:20280313T103000
DTEND;TZID=America/Los_Angeles:20280313T123000
DTSTAMP:20260419T172415
CREATED:20250703T182108Z
LAST-MODIFIED:20250703T182108Z
UID:10023094-1836556200-1836563400@tillamookchamber.org
SUMMARY:Dungeons and Dragons at Tillamook Library
DESCRIPTION:Play a variety of tabletop RPGs with local storytellers at the library! Open to all!
URL:https://tillamookchamber.org/event/dungeons-and-dragons-at-tillamook-library/2028-03-13/
LOCATION:Tillamook County Library\, 1716 3rd Street Tillamook Oregon 97141
CATEGORIES:Community
ATTACH;FMTTYPE=image/png:https://tillamookchamber.org/wp-content/uploads/2025/07/Dungeons-Dragons-2025-TM-1.png
END:VEVENT
BEGIN:VEVENT
DTSTART;TZID=America/Los_Angeles:20280318T100000
DTEND;TZID=America/Los_Angeles:20280318T120000
DTSTAMP:20260419T172415
CREATED:20250703T182150Z
LAST-MODIFIED:20250703T182150Z
UID:10022834-1836986400-1836993600@tillamookchamber.org
SUMMARY:Dungeons and Dragons at Tillamook Library
DESCRIPTION:Play a variety of tabletop RPGs with local storytellers at the library! Open to all!
URL:https://tillamookchamber.org/event/dungeons-and-dragons-at-tillamook-library-2/2028-03-18/
LOCATION:Tillamook County Library\, 1716 3rd Street Tillamook Oregon 97141
CATEGORIES:Community
ATTACH;FMTTYPE=image/png:https://tillamookchamber.org/wp-content/uploads/2025/07/Dungeons-Dragons-2025-TM.png
END:VEVENT
BEGIN:VEVENT
DTSTART;TZID=America/Los_Angeles:20280320T103000
DTEND;TZID=America/Los_Angeles:20280320T123000
DTSTAMP:20260419T172415
CREATED:20250703T182108Z
LAST-MODIFIED:20250703T182108Z
UID:10023095-1837161000-1837168200@tillamookchamber.org
SUMMARY:Dungeons and Dragons at Tillamook Library
DESCRIPTION:Play a variety of tabletop RPGs with local storytellers at the library! Open to all!
URL:https://tillamookchamber.org/event/dungeons-and-dragons-at-tillamook-library/2028-03-20/
LOCATION:Tillamook County Library\, 1716 3rd Street Tillamook Oregon 97141
CATEGORIES:Community
ATTACH;FMTTYPE=image/png:https://tillamookchamber.org/wp-content/uploads/2025/07/Dungeons-Dragons-2025-TM-1.png
END:VEVENT
BEGIN:VEVENT
DTSTART;TZID=America/Los_Angeles:20280325T100000
DTEND;TZID=America/Los_Angeles:20280325T120000
DTSTAMP:20260419T172415
CREATED:20250703T182150Z
LAST-MODIFIED:20250703T182150Z
UID:10022835-1837591200-1837598400@tillamookchamber.org
SUMMARY:Dungeons and Dragons at Tillamook Library
DESCRIPTION:Play a variety of tabletop RPGs with local storytellers at the library! Open to all!
URL:https://tillamookchamber.org/event/dungeons-and-dragons-at-tillamook-library-2/2028-03-25/
LOCATION:Tillamook County Library\, 1716 3rd Street Tillamook Oregon 97141
CATEGORIES:Community
ATTACH;FMTTYPE=image/png:https://tillamookchamber.org/wp-content/uploads/2025/07/Dungeons-Dragons-2025-TM.png
END:VEVENT
BEGIN:VEVENT
DTSTART;TZID=America/Los_Angeles:20280327T103000
DTEND;TZID=America/Los_Angeles:20280327T123000
DTSTAMP:20260419T172415
CREATED:20250703T182108Z
LAST-MODIFIED:20250703T182108Z
UID:10023096-1837765800-1837773000@tillamookchamber.org
SUMMARY:Dungeons and Dragons at Tillamook Library
DESCRIPTION:Play a variety of tabletop RPGs with local storytellers at the library! Open to all!
URL:https://tillamookchamber.org/event/dungeons-and-dragons-at-tillamook-library/2028-03-27/
LOCATION:Tillamook County Library\, 1716 3rd Street Tillamook Oregon 97141
CATEGORIES:Community
ATTACH;FMTTYPE=image/png:https://tillamookchamber.org/wp-content/uploads/2025/07/Dungeons-Dragons-2025-TM-1.png
END:VEVENT
BEGIN:VEVENT
DTSTART;TZID=America/Los_Angeles:20280401T100000
DTEND;TZID=America/Los_Angeles:20280401T120000
DTSTAMP:20260419T172415
CREATED:20250703T182150Z
LAST-MODIFIED:20250703T182150Z
UID:10022836-1838196000-1838203200@tillamookchamber.org
SUMMARY:Dungeons and Dragons at Tillamook Library
DESCRIPTION:Play a variety of tabletop RPGs with local storytellers at the library! Open to all!
URL:https://tillamookchamber.org/event/dungeons-and-dragons-at-tillamook-library-2/2028-04-01/
LOCATION:Tillamook County Library\, 1716 3rd Street Tillamook Oregon 97141
CATEGORIES:Community
ATTACH;FMTTYPE=image/png:https://tillamookchamber.org/wp-content/uploads/2025/07/Dungeons-Dragons-2025-TM.png
END:VEVENT
BEGIN:VEVENT
DTSTART;TZID=America/Los_Angeles:20280403T103000
DTEND;TZID=America/Los_Angeles:20280403T123000
DTSTAMP:20260419T172415
CREATED:20250703T182108Z
LAST-MODIFIED:20250703T182108Z
UID:10023097-1838370600-1838377800@tillamookchamber.org
SUMMARY:Dungeons and Dragons at Tillamook Library
DESCRIPTION:Play a variety of tabletop RPGs with local storytellers at the library! Open to all!
URL:https://tillamookchamber.org/event/dungeons-and-dragons-at-tillamook-library/2028-04-03/
LOCATION:Tillamook County Library\, 1716 3rd Street Tillamook Oregon 97141
CATEGORIES:Community
ATTACH;FMTTYPE=image/png:https://tillamookchamber.org/wp-content/uploads/2025/07/Dungeons-Dragons-2025-TM-1.png
END:VEVENT
BEGIN:VEVENT
DTSTART;TZID=America/Los_Angeles:20280408T100000
DTEND;TZID=America/Los_Angeles:20280408T120000
DTSTAMP:20260419T172415
CREATED:20250703T182150Z
LAST-MODIFIED:20250703T182150Z
UID:10022837-1838800800-1838808000@tillamookchamber.org
SUMMARY:Dungeons and Dragons at Tillamook Library
DESCRIPTION:Play a variety of tabletop RPGs with local storytellers at the library! Open to all!
URL:https://tillamookchamber.org/event/dungeons-and-dragons-at-tillamook-library-2/2028-04-08/
LOCATION:Tillamook County Library\, 1716 3rd Street Tillamook Oregon 97141
CATEGORIES:Community
ATTACH;FMTTYPE=image/png:https://tillamookchamber.org/wp-content/uploads/2025/07/Dungeons-Dragons-2025-TM.png
END:VEVENT
BEGIN:VEVENT
DTSTART;TZID=America/Los_Angeles:20280410T103000
DTEND;TZID=America/Los_Angeles:20280410T123000
DTSTAMP:20260419T172415
CREATED:20250703T182108Z
LAST-MODIFIED:20250703T182108Z
UID:10023098-1838975400-1838982600@tillamookchamber.org
SUMMARY:Dungeons and Dragons at Tillamook Library
DESCRIPTION:Play a variety of tabletop RPGs with local storytellers at the library! Open to all!
URL:https://tillamookchamber.org/event/dungeons-and-dragons-at-tillamook-library/2028-04-10/
LOCATION:Tillamook County Library\, 1716 3rd Street Tillamook Oregon 97141
CATEGORIES:Community
ATTACH;FMTTYPE=image/png:https://tillamookchamber.org/wp-content/uploads/2025/07/Dungeons-Dragons-2025-TM-1.png
END:VEVENT
BEGIN:VEVENT
DTSTART;TZID=America/Los_Angeles:20280415T100000
DTEND;TZID=America/Los_Angeles:20280415T120000
DTSTAMP:20260419T172415
CREATED:20250703T182150Z
LAST-MODIFIED:20250703T182150Z
UID:10022838-1839405600-1839412800@tillamookchamber.org
SUMMARY:Dungeons and Dragons at Tillamook Library
DESCRIPTION:Play a variety of tabletop RPGs with local storytellers at the library! Open to all!
URL:https://tillamookchamber.org/event/dungeons-and-dragons-at-tillamook-library-2/2028-04-15/
LOCATION:Tillamook County Library\, 1716 3rd Street Tillamook Oregon 97141
CATEGORIES:Community
ATTACH;FMTTYPE=image/png:https://tillamookchamber.org/wp-content/uploads/2025/07/Dungeons-Dragons-2025-TM.png
END:VEVENT
BEGIN:VEVENT
DTSTART;TZID=America/Los_Angeles:20280417T103000
DTEND;TZID=America/Los_Angeles:20280417T123000
DTSTAMP:20260419T172415
CREATED:20250703T182108Z
LAST-MODIFIED:20250703T182108Z
UID:10023099-1839580200-1839587400@tillamookchamber.org
SUMMARY:Dungeons and Dragons at Tillamook Library
DESCRIPTION:Play a variety of tabletop RPGs with local storytellers at the library! Open to all!
URL:https://tillamookchamber.org/event/dungeons-and-dragons-at-tillamook-library/2028-04-17/
LOCATION:Tillamook County Library\, 1716 3rd Street Tillamook Oregon 97141
CATEGORIES:Community
ATTACH;FMTTYPE=image/png:https://tillamookchamber.org/wp-content/uploads/2025/07/Dungeons-Dragons-2025-TM-1.png
END:VEVENT
BEGIN:VEVENT
DTSTART;TZID=America/Los_Angeles:20280422T100000
DTEND;TZID=America/Los_Angeles:20280422T120000
DTSTAMP:20260419T172415
CREATED:20250703T182150Z
LAST-MODIFIED:20250703T182150Z
UID:10022839-1840010400-1840017600@tillamookchamber.org
SUMMARY:Dungeons and Dragons at Tillamook Library
DESCRIPTION:Play a variety of tabletop RPGs with local storytellers at the library! Open to all!
URL:https://tillamookchamber.org/event/dungeons-and-dragons-at-tillamook-library-2/2028-04-22/
LOCATION:Tillamook County Library\, 1716 3rd Street Tillamook Oregon 97141
CATEGORIES:Community
ATTACH;FMTTYPE=image/png:https://tillamookchamber.org/wp-content/uploads/2025/07/Dungeons-Dragons-2025-TM.png
END:VEVENT
BEGIN:VEVENT
DTSTART;TZID=America/Los_Angeles:20280424T103000
DTEND;TZID=America/Los_Angeles:20280424T123000
DTSTAMP:20260419T172415
CREATED:20250703T182108Z
LAST-MODIFIED:20250703T182108Z
UID:10023100-1840185000-1840192200@tillamookchamber.org
SUMMARY:Dungeons and Dragons at Tillamook Library
DESCRIPTION:Play a variety of tabletop RPGs with local storytellers at the library! Open to all!
URL:https://tillamookchamber.org/event/dungeons-and-dragons-at-tillamook-library/2028-04-24/
LOCATION:Tillamook County Library\, 1716 3rd Street Tillamook Oregon 97141
CATEGORIES:Community
ATTACH;FMTTYPE=image/png:https://tillamookchamber.org/wp-content/uploads/2025/07/Dungeons-Dragons-2025-TM-1.png
END:VEVENT
END:VCALENDAR