BEGIN:VCALENDAR
VERSION:2.0
PRODID:-//Tillamook Area Chamber of Commerce - ECPv6.15.20//NONSGML v1.0//EN
CALSCALE:GREGORIAN
METHOD:PUBLISH
X-ORIGINAL-URL:https://tillamookchamber.org
X-WR-CALDESC:Events for Tillamook Area Chamber of Commerce
REFRESH-INTERVAL;VALUE=DURATION:PT1H
X-Robots-Tag:noindex
X-PUBLISHED-TTL:PT1H
BEGIN:VTIMEZONE
TZID:America/Los_Angeles
BEGIN:DAYLIGHT
TZOFFSETFROM:-0800
TZOFFSETTO:-0700
TZNAME:PDT
DTSTART:20240310T100000
END:DAYLIGHT
BEGIN:STANDARD
TZOFFSETFROM:-0700
TZOFFSETTO:-0800
TZNAME:PST
DTSTART:20241103T090000
END:STANDARD
BEGIN:DAYLIGHT
TZOFFSETFROM:-0800
TZOFFSETTO:-0700
TZNAME:PDT
DTSTART:20250309T100000
END:DAYLIGHT
BEGIN:STANDARD
TZOFFSETFROM:-0700
TZOFFSETTO:-0800
TZNAME:PST
DTSTART:20251102T090000
END:STANDARD
BEGIN:DAYLIGHT
TZOFFSETFROM:-0800
TZOFFSETTO:-0700
TZNAME:PDT
DTSTART:20260308T100000
END:DAYLIGHT
BEGIN:STANDARD
TZOFFSETFROM:-0700
TZOFFSETTO:-0800
TZNAME:PST
DTSTART:20261101T090000
END:STANDARD
END:VTIMEZONE
BEGIN:VEVENT
DTSTART;TZID=America/Los_Angeles:20250715T140000
DTEND;TZID=America/Los_Angeles:20250715T150000
DTSTAMP:20260422T095829
CREATED:20250703T203455Z
LAST-MODIFIED:20250703T203455Z
UID:10023220-1752588000-1752591600@tillamookchamber.org
SUMMARY:Power Play for the Planet with MNCH at Tillamook Library
DESCRIPTION:Join U of O’s Museum of Natural and Cultural History to play games\, solve puzzles\, and tackle wacky challenges! The whole family will enjoy exploring the environment\,\, designing solutions\, and imagining a brighter future!
URL:https://tillamookchamber.org/event/power-play-for-the-planet-with-mnch-at-tillamook-library/
LOCATION:Tillamook County Library\, 1716 3rd Street Tillamook Oregon 97141
CATEGORIES:Community,Family Fun
ATTACH;FMTTYPE=image/png:https://tillamookchamber.org/wp-content/uploads/2025/07/Powerplay-for-the-planet-071525-TM.png
END:VEVENT
BEGIN:VEVENT
DTSTART;TZID=America/Los_Angeles:20250714T103000
DTEND;TZID=America/Los_Angeles:20250714T123000
DTSTAMP:20260422T095829
CREATED:20250703T182108Z
LAST-MODIFIED:20250703T182108Z
UID:10022955-1752489000-1752496200@tillamookchamber.org
SUMMARY:Dungeons and Dragons at Tillamook Library
DESCRIPTION:Play a variety of tabletop RPGs with local storytellers at the library! Open to all!
URL:https://tillamookchamber.org/event/dungeons-and-dragons-at-tillamook-library/2025-07-14/
LOCATION:Tillamook County Library\, 1716 3rd Street Tillamook Oregon 97141
CATEGORIES:Community
ATTACH;FMTTYPE=image/png:https://tillamookchamber.org/wp-content/uploads/2025/07/Dungeons-Dragons-2025-TM-1.png
END:VEVENT
BEGIN:VEVENT
DTSTART;TZID=America/Los_Angeles:20250712T130000
DTEND;TZID=America/Los_Angeles:20250712T140000
DTSTAMP:20260422T095829
CREATED:20250626T233929Z
LAST-MODIFIED:20250626T233929Z
UID:10022676-1752325200-1752328800@tillamookchamber.org
SUMMARY:July Crafternoon at Tillamook Library
DESCRIPTION:Make pressed flower creations at the library on Saturday July 12th at 1 pm!\n\n 
URL:https://tillamookchamber.org/event/july-crafternoon-at-tillamook-library/
LOCATION:Tillamook County Library\, 1716 3rd Street Tillamook Oregon 97141
CATEGORIES:Classes and Workshops,Community
ATTACH;FMTTYPE=image/png:https://tillamookchamber.org/wp-content/uploads/2025/06/Crafternoon-071225-TM.png
END:VEVENT
BEGIN:VEVENT
DTSTART;TZID=America/Los_Angeles:20250712T100000
DTEND;TZID=America/Los_Angeles:20250712T120000
DTSTAMP:20260422T095829
CREATED:20250703T182150Z
LAST-MODIFIED:20250703T182150Z
UID:10022694-1752314400-1752321600@tillamookchamber.org
SUMMARY:Dungeons and Dragons at Tillamook Library
DESCRIPTION:Play a variety of tabletop RPGs with local storytellers at the library! Open to all!
URL:https://tillamookchamber.org/event/dungeons-and-dragons-at-tillamook-library-2/2025-07-12/
LOCATION:Tillamook County Library\, 1716 3rd Street Tillamook Oregon 97141
CATEGORIES:Community
ATTACH;FMTTYPE=image/png:https://tillamookchamber.org/wp-content/uploads/2025/07/Dungeons-Dragons-2025-TM.png
END:VEVENT
BEGIN:VEVENT
DTSTART;TZID=America/Los_Angeles:20250711T120000
DTEND;TZID=America/Los_Angeles:20250711T130000
DTSTAMP:20260422T095829
CREATED:20250703T203330Z
LAST-MODIFIED:20250703T203330Z
UID:10023222-1752235200-1752238800@tillamookchamber.org
SUMMARY:Summer Music Series at Tillamook Library
DESCRIPTION:We proudly present the the Summer 2025 Music Series. Shows will be Fridays at noon at the Maxwell Stage Library Park next to the Tillamook Main Library!\n\nSee details on all our performers here: https://www.tillabook.org/library/page/summer-2025-music-series
URL:https://tillamookchamber.org/event/summer-music-series-at-tillamook-library/2025-07-11/
LOCATION:Tillamook County Library\, 1716 3rd Street Tillamook Oregon 97141
CATEGORIES:Community,Live Music
ATTACH;FMTTYPE=image/png:https://tillamookchamber.org/wp-content/uploads/2025/07/Summer-Music-Series.png
END:VEVENT
BEGIN:VEVENT
DTSTART;TZID=America/Los_Angeles:20250710T140000
DTEND;TZID=America/Los_Angeles:20250710T150000
DTSTAMP:20260422T095829
CREATED:20250703T181910Z
LAST-MODIFIED:20250703T181910Z
UID:10023216-1752156000-1752159600@tillamookchamber.org
SUMMARY:Goat It Goat Visit at Tillamook Library
DESCRIPTION:Meet friendly and adorable Nigerian dwarf goats at the Tillamook Library!
URL:https://tillamookchamber.org/event/goat-it-goat-visit-at-tillamook-library/
LOCATION:Tillamook County Library\, 1716 3rd Street Tillamook Oregon 97141
CATEGORIES:Community,Family Fun
ATTACH;FMTTYPE=image/png:https://tillamookchamber.org/wp-content/uploads/2025/07/Goat-It-Goat-Visit-071025-TM.png
END:VEVENT
BEGIN:VEVENT
DTSTART;TZID=America/Los_Angeles:20250709T180000
DTEND;TZID=America/Los_Angeles:20250709T200000
DTSTAMP:20260422T095829
CREATED:20250626T234606Z
LAST-MODIFIED:20250626T234606Z
UID:10022677-1752084000-1752091200@tillamookchamber.org
SUMMARY:July Movies at Main: Crime
DESCRIPTION:Watch movies in the library Wednesdays at 6 pm!\n7/9 Laura (1944) \n7/16 Dick Tracy (1990) \n7/23 The Sting (1973) \n7/30 Oceans 8 (2018)
URL:https://tillamookchamber.org/event/july-movies-at-main-crime/2025-07-09/
LOCATION:Tillamook County Library\, 1716 3rd Street Tillamook Oregon 97141
CATEGORIES:Community
ATTACH;FMTTYPE=image/png:https://tillamookchamber.org/wp-content/uploads/2025/06/Crime-Movies-at-Main.png
END:VEVENT
BEGIN:VEVENT
DTSTART;TZID=America/Los_Angeles:20250708T150000
DTEND;TZID=America/Los_Angeles:20250708T160000
DTSTAMP:20260422T095829
CREATED:20250703T202623Z
LAST-MODIFIED:20250703T202623Z
UID:10023231-1751986800-1751990400@tillamookchamber.org
SUMMARY:Teen Chill Puzzles at Tillamook Library
DESCRIPTION:Relax and do a puzzle together at the library!
URL:https://tillamookchamber.org/event/teen-chill-puzzles-at-tillamook-library/
LOCATION:Tillamook County Library\, 1716 3rd Street Tillamook Oregon 97141
CATEGORIES:Family Fun
ATTACH;FMTTYPE=image/png:https://tillamookchamber.org/wp-content/uploads/2025/07/Teen-Chill-Puzzles-070825-TM.png
END:VEVENT
BEGIN:VEVENT
DTSTART;TZID=America/Los_Angeles:20250707T103000
DTEND;TZID=America/Los_Angeles:20250707T123000
DTSTAMP:20260422T095829
CREATED:20250703T182108Z
LAST-MODIFIED:20250703T182108Z
UID:10022954-1751884200-1751891400@tillamookchamber.org
SUMMARY:Dungeons and Dragons at Tillamook Library
DESCRIPTION:Play a variety of tabletop RPGs with local storytellers at the library! Open to all!
URL:https://tillamookchamber.org/event/dungeons-and-dragons-at-tillamook-library/2025-07-07/
LOCATION:Tillamook County Library\, 1716 3rd Street Tillamook Oregon 97141
CATEGORIES:Community
ATTACH;FMTTYPE=image/png:https://tillamookchamber.org/wp-content/uploads/2025/07/Dungeons-Dragons-2025-TM-1.png
END:VEVENT
BEGIN:VEVENT
DTSTART;TZID=America/Los_Angeles:20250705T100000
DTEND;TZID=America/Los_Angeles:20250705T120000
DTSTAMP:20260422T095829
CREATED:20250703T182150Z
LAST-MODIFIED:20250703T182150Z
UID:10022693-1751709600-1751716800@tillamookchamber.org
SUMMARY:Dungeons and Dragons at Tillamook Library
DESCRIPTION:Play a variety of tabletop RPGs with local storytellers at the library! Open to all!
URL:https://tillamookchamber.org/event/dungeons-and-dragons-at-tillamook-library-2/2025-07-05/
LOCATION:Tillamook County Library\, 1716 3rd Street Tillamook Oregon 97141
CATEGORIES:Community
ATTACH;FMTTYPE=image/png:https://tillamookchamber.org/wp-content/uploads/2025/07/Dungeons-Dragons-2025-TM.png
END:VEVENT
BEGIN:VEVENT
DTSTART;TZID=America/Los_Angeles:20250704T110000
DTEND;TZID=America/Los_Angeles:20250704T120000
DTSTAMP:20260422T095829
CREATED:20250625T224938Z
LAST-MODIFIED:20250625T224938Z
UID:10022669-1751626800-1751630400@tillamookchamber.org
SUMMARY:Celebrate July 4th with a reading of The Declaration of Independence
DESCRIPTION:Come and join us in celebrating July 4th with the reading of The Declaration of Independence at Maxwell Library Park next to the Tillamook Library beginning at 11:00 a.m.\n\nSponsored by TAPA and the Tillamook County Library
URL:https://tillamookchamber.org/event/celebrate-july-4th-with-a-reading-of-the-declaration-of-independence/
LOCATION:Tillamook County Library\, 1716 3rd Street Tillamook Oregon 97141
CATEGORIES:Community,Holiday
END:VEVENT
BEGIN:VEVENT
DTSTART;TZID=America/Los_Angeles:20250626T183000
DTEND;TZID=America/Los_Angeles:20250626T200000
DTSTAMP:20260422T095829
CREATED:20250604T170843Z
LAST-MODIFIED:20250604T170843Z
UID:10022088-1750962600-1750968000@tillamookchamber.org
SUMMARY:Let's Talk About Rights at Tillamook Library
DESCRIPTION:This program is a partnership between Tillamook County Library and Crossing Party Lines with the goal of equipping individuals to unlock curiosity about differing viewpoints through conversation and community building. This session’s topic is constitutional rights.
URL:https://tillamookchamber.org/event/lets-talk-about-rights-at-tillamook-library/
LOCATION:Tillamook County Library\, 1716 3rd Street Tillamook Oregon 97141
CATEGORIES:Community,Education
END:VEVENT
BEGIN:VEVENT
DTSTART;TZID=America/Los_Angeles:20250626T110000
DTEND;TZID=America/Los_Angeles:20250626T120000
DTSTAMP:20260422T095829
CREATED:20250604T171931Z
LAST-MODIFIED:20250604T171931Z
UID:10022079-1750935600-1750939200@tillamookchamber.org
SUMMARY:Heart of CARTM at Tillamook Library
DESCRIPTION:Join us for fun crafts and activities with recycled items!
URL:https://tillamookchamber.org/event/heart-of-cartm-at-tillamook-library/
LOCATION:Tillamook County Library\, 1716 3rd Street Tillamook Oregon 97141
CATEGORIES:Community,Family Fun
END:VEVENT
BEGIN:VEVENT
DTSTART;TZID=America/Los_Angeles:20250624T150000
DTEND;TZID=America/Los_Angeles:20250624T160000
DTSTAMP:20260422T095829
CREATED:20250604T171724Z
LAST-MODIFIED:20250604T171724Z
UID:10022082-1750777200-1750780800@tillamookchamber.org
SUMMARY:Mo Phillips Live at Tillamook Library
DESCRIPTION:Level up your fun with Mo! Sing\, dance\, make up new songs\, and have a great time in a terribly unsophisticated way!
URL:https://tillamookchamber.org/event/mo-phillips-live-at-tillamook-library/
LOCATION:Tillamook County Library\, 1716 3rd Street Tillamook Oregon 97141
CATEGORIES:Community,Family Fun
END:VEVENT
BEGIN:VEVENT
DTSTART;TZID=America/Los_Angeles:20250624T150000
DTEND;TZID=America/Los_Angeles:20250624T160000
DTSTAMP:20260422T095829
CREATED:20250604T170136Z
LAST-MODIFIED:20250604T170136Z
UID:10022095-1750777200-1750780800@tillamookchamber.org
SUMMARY:Teen Origami with Yuki at Tillamook Library
DESCRIPTION:Learn how a mere piece of paper can be folded into infinite possibilities with master paper shaper Yuki!
URL:https://tillamookchamber.org/event/teen-origami-with-yuki-at-tillamook-library/
LOCATION:Tillamook County Library\, 1716 3rd Street Tillamook Oregon 97141
CATEGORIES:Community,Family Fun
END:VEVENT
BEGIN:VEVENT
DTSTART;TZID=America/Los_Angeles:20250620T150000
DTEND;TZID=America/Los_Angeles:20250620T160000
DTSTAMP:20260422T095829
CREATED:20250604T170655Z
LAST-MODIFIED:20250604T170655Z
UID:10022091-1750431600-1750435200@tillamookchamber.org
SUMMARY:Teen Nerd Nite Afternoon
DESCRIPTION:Nerd out about your interests!
URL:https://tillamookchamber.org/event/teen-nerd-nite-afternoon/
LOCATION:Tillamook County Library\, 1716 3rd Street Tillamook Oregon 97141
CATEGORIES:Community,Family Fun
END:VEVENT
BEGIN:VEVENT
DTSTART;TZID=America/Los_Angeles:20250617T180000
DTEND;TZID=America/Los_Angeles:20250617T190000
DTSTAMP:20260422T095829
CREATED:20250604T170915Z
LAST-MODIFIED:20250604T170915Z
UID:10022087-1750183200-1750186800@tillamookchamber.org
SUMMARY:Teen IRL Pokemon at Tillamook Library
DESCRIPTION:Teens can find pokémon and engage in battle in the library!
URL:https://tillamookchamber.org/event/teen-irl-pokemon-at-tillamook-library/
LOCATION:Tillamook County Library\, 1716 3rd Street Tillamook Oregon 97141
CATEGORIES:Community,Family Fun
END:VEVENT
BEGIN:VEVENT
DTSTART;TZID=America/Los_Angeles:20250617T140000
DTEND;TZID=America/Los_Angeles:20250617T150000
DTSTAMP:20260422T095829
CREATED:20250604T170448Z
LAST-MODIFIED:20250604T170448Z
UID:10022093-1750168800-1750172400@tillamookchamber.org
SUMMARY:Vikki Gasko Green at Tillamook Library
DESCRIPTION:Vikki will delight with puppets\, ventriloquism\, and more in English and Spanish!
URL:https://tillamookchamber.org/event/vikki-gasko-green-at-tillamook-library/
LOCATION:Tillamook County Library\, 1716 3rd Street Tillamook Oregon 97141
CATEGORIES:Community,Education,Family Fun
END:VEVENT
BEGIN:VEVENT
DTSTART;TZID=America/Los_Angeles:20250614T130000
DTEND;TZID=America/Los_Angeles:20250614T140000
DTSTAMP:20260422T095829
CREATED:20250604T170812Z
LAST-MODIFIED:20250604T222933Z
UID:10022090-1749906000-1749909600@tillamookchamber.org
SUMMARY:Crafternoon at Tillamook Library
DESCRIPTION:Join us for a fun time decorating bird houses and tie-dying tiles!\n\n1:00 pm to 2:00 pm\n\n 
URL:https://tillamookchamber.org/event/crafternoon-at-tillamook-library-2/
LOCATION:Tillamook County Library\, 1716 3rd Street Tillamook Oregon 97141
CATEGORIES:Community,Family Fun
END:VEVENT
BEGIN:VEVENT
DTSTART;TZID=America/Los_Angeles:20250614T080000
DTEND;TZID=America/Los_Angeles:20250614T170000
DTSTAMP:20260422T095829
CREATED:20250604T170812Z
LAST-MODIFIED:20250604T222933Z
UID:10022089-1749888000-1749920400@tillamookchamber.org
SUMMARY:Crafternoon at Tillamook Library
DESCRIPTION:Join us for a fun time decorating bird houses and tie-dying tiles!\n\n1:00 pm to 2:00 pm\n\n 
URL:https://tillamookchamber.org/event/crafternoon-at-tillamook-library-2/
LOCATION:Tillamook County Library\, 1716 3rd Street Tillamook Oregon 97141
CATEGORIES:Community,Family Fun
END:VEVENT
BEGIN:VEVENT
DTSTART;TZID=America/Los_Angeles:20250613T170000
DTEND;TZID=America/Los_Angeles:20250613T180000
DTSTAMP:20260422T095829
CREATED:20250604T171852Z
LAST-MODIFIED:20250604T171852Z
UID:10022080-1749834000-1749837600@tillamookchamber.org
SUMMARY:Jane Kirkpatrick Author Talk at Tillamook Library
DESCRIPTION:Join award winning author Jane Kirkpatrick as she discusses her new book Across The Crying Sands. Co-sponsored by the Tillamook Branch of the American Association of University Women.
URL:https://tillamookchamber.org/event/jane-kirkpatrick-author-talk-at-tillamook-library/
LOCATION:Tillamook County Library\, 1716 3rd Street Tillamook Oregon 97141
CATEGORIES:Community,Education
ATTACH;FMTTYPE=image/png:https://tillamookchamber.org/wp-content/uploads/2025/06/Kirkpatrick-Author-Talk-061325-TM-2.png
END:VEVENT
BEGIN:VEVENT
DTSTART;TZID=America/Los_Angeles:20250612T200000
DTEND;TZID=America/Los_Angeles:20250612T200000
DTSTAMP:20260422T095829
CREATED:20250604T171528Z
LAST-MODIFIED:20250604T171554Z
UID:10022085-1749758400-1749758400@tillamookchamber.org
SUMMARY:Mz. Pearl's Circuspalooza at Tillamook Library
DESCRIPTION:Mz. Pearl will astound and surprise you!
URL:https://tillamookchamber.org/event/mz-pearls-circuspalooza-at-tillamook-library/
LOCATION:Tillamook County Library\, 1716 3rd Street Tillamook Oregon 97141
CATEGORIES:Community,Family Fun
END:VEVENT
BEGIN:VEVENT
DTSTART;TZID=America/Los_Angeles:20250610T140000
DTEND;TZID=America/Los_Angeles:20250610T150000
DTSTAMP:20260422T095829
CREATED:20250604T171024Z
LAST-MODIFIED:20250604T171024Z
UID:10022086-1749564000-1749567600@tillamookchamber.org
SUMMARY:Oregon's Civil Rights Years with Oregon Black Pioneers at Tillamook Library
DESCRIPTION:Learn about Oregon during the civil rights movement with Mariah Rocker!
URL:https://tillamookchamber.org/event/oregons-civil-rights-years-with-oregon-black-pioneers-at-tillamook-library/
LOCATION:Tillamook County Library\, 1716 3rd Street Tillamook Oregon 97141
CATEGORIES:Arts and Culture,Community,Education
END:VEVENT
BEGIN:VEVENT
DTSTART;TZID=America/Los_Angeles:20250604T173000
DTEND;TZID=America/Los_Angeles:20250604T193000
DTSTAMP:20260422T095829
CREATED:20250425T194134Z
LAST-MODIFIED:20250425T194134Z
UID:10021243-1749058200-1749065400@tillamookchamber.org
SUMMARY:Tsunami 101 Roadshow - Central County Stop
DESCRIPTION:Join us for a free\, two-hour session of expert-driven discussion and practical steps you can take to stay safe before\, during\, and after a disaster!\n\nThe Oregon Department of Emergency Management (OEM) has teamed up with the Oregon Department of Geology and Mineral Industries (DOGAMI) and the National Weather Service (NWS) to bring a comprehensive overview of earthquakes and tsunamis to Tillamook County.\n\nThis session will feature expert-led presentations on the science behind earthquakes and tsunamis\, how alerts are triggered and broadcasted\, and what you can do now to be better prepared when a disaster strikes.\n\nThere will be time for questions and open discussion after the presentations—so bring your curiosity and take advantage of this opportunity to learn from the experts and connect with the people working to keep Oregon safe.
URL:https://tillamookchamber.org/event/tsunami-101-roadshow-central-county-stop/
LOCATION:Tillamook County Library\, 1716 3rd Street Tillamook Oregon 97141
CATEGORIES:Community,Education
ATTACH;FMTTYPE=image/png:https://tillamookchamber.org/wp-content/uploads/2025/04/Tsunami101RoadShow_TILLAMOOKb-1-1.png
END:VEVENT
BEGIN:VEVENT
DTSTART;TZID=America/Los_Angeles:20250531T133000
DTEND;TZID=America/Los_Angeles:20250531T153000
DTSTAMP:20260422T095829
CREATED:20250430T220255Z
LAST-MODIFIED:20250430T220255Z
UID:10021256-1748698200-1748705400@tillamookchamber.org
SUMMARY:How To Talk with Friends & Family about Politics & Religion
DESCRIPTION:Join us for a FREE hands-on workshop at Tillamook’s Main Library on May 31st from 1:30-3:20 to learn valuable skills that will help you navigate those difficult conversations around politics and religion with your friends and family. During this interactive session\, you will have the opportunity to practice these skills with an expert coach.\n\nThis workshop is brought to the community by Tillamook Office of Mediation (TOM) – tillamookmediation.org
URL:https://tillamookchamber.org/event/how-to-talk-with-friends-family-about-politics-religion/
LOCATION:Tillamook County Library\, 1716 3rd Street Tillamook Oregon 97141
CATEGORIES:Community,Education
END:VEVENT
BEGIN:VEVENT
DTSTART;TZID=America/Los_Angeles:20250528T180000
DTEND;TZID=America/Los_Angeles:20250528T200000
DTSTAMP:20260422T095829
CREATED:20250404T174929Z
LAST-MODIFIED:20250404T174929Z
UID:10020322-1748455200-1748462400@tillamookchamber.org
SUMMARY:May Movies at Main: Alfred Hitchcock
DESCRIPTION:Join us Wednesday nights at Tillamook Main for movies and popcorn at 6 pm in the Hatfield Room! Themes change monthly.\n\nMay Movies: Alfred Hitchcock\n5/7 Rear Window (1954) \n5/14 Rebecca (1940) \n5/21 Spellbound (1945) \n5/28 Strangers on the Train (1951)
URL:https://tillamookchamber.org/event/may-movies-at-main-alfred-hitchcock/2025-05-28/
LOCATION:Tillamook County Library\, 1716 3rd Street Tillamook Oregon 97141
CATEGORIES:Community,Family Fun
END:VEVENT
BEGIN:VEVENT
DTSTART;TZID=America/Los_Angeles:20250521T180000
DTEND;TZID=America/Los_Angeles:20250521T200000
DTSTAMP:20260422T095829
CREATED:20250404T174929Z
LAST-MODIFIED:20250404T174929Z
UID:10020321-1747850400-1747857600@tillamookchamber.org
SUMMARY:May Movies at Main: Alfred Hitchcock
DESCRIPTION:Join us Wednesday nights at Tillamook Main for movies and popcorn at 6 pm in the Hatfield Room! Themes change monthly.\n\nMay Movies: Alfred Hitchcock\n5/7 Rear Window (1954) \n5/14 Rebecca (1940) \n5/21 Spellbound (1945) \n5/28 Strangers on the Train (1951)
URL:https://tillamookchamber.org/event/may-movies-at-main-alfred-hitchcock/2025-05-21/
LOCATION:Tillamook County Library\, 1716 3rd Street Tillamook Oregon 97141
CATEGORIES:Community,Family Fun
END:VEVENT
BEGIN:VEVENT
DTSTART;TZID=America/Los_Angeles:20250521T140000
DTEND;TZID=America/Los_Angeles:20250521T160000
DTSTAMP:20260422T095829
CREATED:20250404T175633Z
LAST-MODIFIED:20250404T175633Z
UID:10020318-1747836000-1747843200@tillamookchamber.org
SUMMARY:Craft Supply Swap at Tillamook Library
DESCRIPTION:Bring your unused or abandoned craft supplies in and find them a new home! Or come pick up some new craft supplies from the swap pile!
URL:https://tillamookchamber.org/event/craft-supply-swap-at-tillamook-library/
LOCATION:Tillamook County Library\, 1716 3rd Street Tillamook Oregon 97141
CATEGORIES:Arts and Culture,Community
END:VEVENT
BEGIN:VEVENT
DTSTART;TZID=America/Los_Angeles:20250520T140000
DTEND;TZID=America/Los_Angeles:20250520T150000
DTSTAMP:20260422T095829
CREATED:20250404T175738Z
LAST-MODIFIED:20250404T175738Z
UID:10020317-1747749600-1747753200@tillamookchamber.org
SUMMARY:Kay Smith-Blum Author Talk at Pacific City Library
DESCRIPTION:Author talk at the Pacific City branch library on May 20th at 2pm. Join Kay Smith-Blum as she discusses her historical fiction novel\, Tangles.\nTangles \nA Cold War Love Story Wrapped Inside an Environmental Thriller \nA quietly fierce secretary\, a brash young scientist\, \na small town cloaked in secrecy…and \nan entire region under threat
URL:https://tillamookchamber.org/event/kay-smith-blum-author-talk-at-pacific-city-library/
LOCATION:Tillamook County Library\, 1716 3rd Street Tillamook Oregon 97141
CATEGORIES:Community,Education
END:VEVENT
BEGIN:VEVENT
DTSTART;TZID=America/Los_Angeles:20250515T160000
DTEND;TZID=America/Los_Angeles:20250515T170000
DTSTAMP:20260422T095829
CREATED:20250331T171657Z
LAST-MODIFIED:20250331T171657Z
UID:10019328-1747324800-1747328400@tillamookchamber.org
SUMMARY:Oregon Humanities Conversation Project: Softening Sharp Teeth with Emily Squires
DESCRIPTION:Interpersonal conflict and disagreement are part of being in relationship with others\, but many of us fear conflict. Motivated by many factors\, including cultural norms\, concern for social consequences\, and personal safety\, many of us avoid it. What might we learn and how might we grow by making more room for conflict? What skills do we need to responsibly engage in conflict? How can shifting our relationship to conflict offer us new perspectives about ourselves and the groups we belong to? This community conversation is an opportunity to reflect on our relationships to interpersonal conflict outside of where we might most often encounter it\, like the heated context of an argument at the dinner table or online. Facilitator Emily Squires will lead a judgement- and jargon-free discussion of what we mean when we say conflict\, considering how interpersonal conflict shapes our lives and tools to use when experiencing it.
URL:https://tillamookchamber.org/event/oregon-humanities-conversation-project-softening-sharp-teeth-with-emily-squires/
LOCATION:Tillamook County Library\, 1716 3rd Street Tillamook Oregon 97141
CATEGORIES:Community,Education
END:VEVENT
END:VCALENDAR