BEGIN:VCALENDAR
VERSION:2.0
PRODID:-//Tillamook Area Chamber of Commerce - ECPv6.15.20//NONSGML v1.0//EN
CALSCALE:GREGORIAN
METHOD:PUBLISH
X-ORIGINAL-URL:https://tillamookchamber.org
X-WR-CALDESC:Events for Tillamook Area Chamber of Commerce
REFRESH-INTERVAL;VALUE=DURATION:PT1H
X-Robots-Tag:noindex
X-PUBLISHED-TTL:PT1H
BEGIN:VTIMEZONE
TZID:America/Los_Angeles
BEGIN:DAYLIGHT
TZOFFSETFROM:-0800
TZOFFSETTO:-0700
TZNAME:PDT
DTSTART:20240310T100000
END:DAYLIGHT
BEGIN:STANDARD
TZOFFSETFROM:-0700
TZOFFSETTO:-0800
TZNAME:PST
DTSTART:20241103T090000
END:STANDARD
BEGIN:DAYLIGHT
TZOFFSETFROM:-0800
TZOFFSETTO:-0700
TZNAME:PDT
DTSTART:20250309T100000
END:DAYLIGHT
BEGIN:STANDARD
TZOFFSETFROM:-0700
TZOFFSETTO:-0800
TZNAME:PST
DTSTART:20251102T090000
END:STANDARD
BEGIN:DAYLIGHT
TZOFFSETFROM:-0800
TZOFFSETTO:-0700
TZNAME:PDT
DTSTART:20260308T100000
END:DAYLIGHT
BEGIN:STANDARD
TZOFFSETFROM:-0700
TZOFFSETTO:-0800
TZNAME:PST
DTSTART:20261101T090000
END:STANDARD
END:VTIMEZONE
BEGIN:VEVENT
DTSTART;TZID=America/Los_Angeles:20250913T080000
DTEND;TZID=America/Los_Angeles:20250913T170000
DTSTAMP:20260421T205135
CREATED:20250902T183638Z
LAST-MODIFIED:20250902T183638Z
UID:10025486-1757750400-1757782800@tillamookchamber.org
SUMMARY:Chalk Poetry in the Park at Tillamook Library
DESCRIPTION:Write poems (your own originals or favorites) on the library park in chalk!
URL:https://tillamookchamber.org/event/chalk-poetry-in-the-park-at-tillamook-library/2025-09-13/1/
LOCATION:Tillamook County Library\, 1716 3rd Street Tillamook Oregon 97141
CATEGORIES:Community,Family Fun
END:VEVENT
BEGIN:VEVENT
DTSTART;TZID=America/Los_Angeles:20250912T160000
DTEND;TZID=America/Los_Angeles:20250912T170000
DTSTAMP:20260421T205135
CREATED:20250902T183844Z
LAST-MODIFIED:20250902T183844Z
UID:10025484-1757692800-1757696400@tillamookchamber.org
SUMMARY:Body Scan Mindfulness with Morgan Motsinger at Tillamook Library
DESCRIPTION:Discover how to systematically relax your body from head to toe with speaker Morgan Motsinger at the library!
URL:https://tillamookchamber.org/event/body-scan-mindfulness-with-morgan-motsinger-at-tillamook-library/
LOCATION:Tillamook County Library\, 1716 3rd Street Tillamook Oregon 97141
CATEGORIES:Classes and Workshops,Community
ATTACH;FMTTYPE=image/png:https://tillamookchamber.org/wp-content/uploads/2025/08/Body-Scan-Mindfulness-091225-TM.png
END:VEVENT
BEGIN:VEVENT
DTSTART;TZID=America/Los_Angeles:20250912T140000
DTEND;TZID=America/Los_Angeles:20250912T150000
DTSTAMP:20260421T205135
CREATED:20250902T183745Z
LAST-MODIFIED:20250902T183745Z
UID:10025485-1757685600-1757689200@tillamookchamber.org
SUMMARY:Book Release Party at Tillamook Library
DESCRIPTION:Join us to celebrate the release of local author Neal Lemery’s new book “Recharging Ourselves: Strengthening Our Community Through Kindness” at the library!
URL:https://tillamookchamber.org/event/book-release-party-at-tillamook-library/
LOCATION:Tillamook County Library\, 1716 3rd Street Tillamook Oregon 97141
CATEGORIES:Community,Education
ATTACH;FMTTYPE=image/png:https://tillamookchamber.org/wp-content/uploads/2025/08/Book-Release-Party-091225-TM.png
END:VEVENT
BEGIN:VEVENT
DTSTART;TZID=America/Los_Angeles:20250910T180000
DTEND;TZID=America/Los_Angeles:20250910T200000
DTSTAMP:20260421T205135
CREATED:20250902T183455Z
LAST-MODIFIED:20250902T183455Z
UID:10025490-1757527200-1757534400@tillamookchamber.org
SUMMARY:September Movies At Main: Music and Musicals
DESCRIPTION:Join us every Wednesday evening at the Tillamook Main Library for movie night at 6 pm!\n\n9/3 Gold Diggers of 1935 (1935)\n\n9/10 Viva Las Vegas (1964)\n\n9/17 A Damsel In Distress (1937)\n\n9/24 Hairspray (1988)
URL:https://tillamookchamber.org/event/september-movies-at-main-music-and-musicals/2025-09-10/
LOCATION:Tillamook County Library\, 1716 3rd Street Tillamook Oregon 97141
CATEGORIES:Community,Family Fun
END:VEVENT
BEGIN:VEVENT
DTSTART;TZID=America/Los_Angeles:20250910T173000
DTEND;TZID=America/Los_Angeles:20250910T200000
DTSTAMP:20260421T205135
CREATED:20250903T201333Z
LAST-MODIFIED:20250903T201333Z
UID:10025500-1757525400-1757534400@tillamookchamber.org
SUMMARY:Suicide Prevention and Self-Care with TFCC at Tillamook Library
DESCRIPTION:Join Tillamook Family Counseling Center for an evening of learning about suicide prevention and self-care at the library!
URL:https://tillamookchamber.org/event/suicide-prevention-and-self-care-with-tfcc-at-tillamook-library/
LOCATION:Tillamook County Library\, 1716 3rd Street Tillamook Oregon 97141
CATEGORIES:Community,Education
ATTACH;FMTTYPE=image/png:https://tillamookchamber.org/wp-content/uploads/2025/09/Suicide-prevention-TFCC-091025.png
END:VEVENT
BEGIN:VEVENT
DTSTART;TZID=America/Los_Angeles:20250908T103000
DTEND;TZID=America/Los_Angeles:20250908T123000
DTSTAMP:20260421T205135
CREATED:20250703T182108Z
LAST-MODIFIED:20250703T182108Z
UID:10022963-1757327400-1757334600@tillamookchamber.org
SUMMARY:Dungeons and Dragons at Tillamook Library
DESCRIPTION:Play a variety of tabletop RPGs with local storytellers at the library! Open to all!
URL:https://tillamookchamber.org/event/dungeons-and-dragons-at-tillamook-library/2025-09-08/
LOCATION:Tillamook County Library\, 1716 3rd Street Tillamook Oregon 97141
CATEGORIES:Community
ATTACH;FMTTYPE=image/png:https://tillamookchamber.org/wp-content/uploads/2025/07/Dungeons-Dragons-2025-TM-1.png
END:VEVENT
BEGIN:VEVENT
DTSTART;TZID=America/Los_Angeles:20250906T140000
DTEND;TZID=America/Los_Angeles:20250906T150000
DTSTAMP:20260421T205135
CREATED:20250902T183926Z
LAST-MODIFIED:20250902T183926Z
UID:10025483-1757167200-1757170800@tillamookchamber.org
SUMMARY:5 Rings of Gravity at Tillamook Library
DESCRIPTION:Join Shanda button to save planet Earth in this interactive and fun program involving various volunteer challenges\, hula hoop\, and juggling tricks!\n\n 
URL:https://tillamookchamber.org/event/5-rings-of-gravity-at-tillamook-library/
LOCATION:Tillamook County Library\, 1716 3rd Street Tillamook Oregon 97141
CATEGORIES:Community,Education,Family Fun
ATTACH;FMTTYPE=image/png:https://tillamookchamber.org/wp-content/uploads/2025/08/5-Rings-of-Gravity-090625-TM.png
END:VEVENT
BEGIN:VEVENT
DTSTART;TZID=America/Los_Angeles:20250906T100000
DTEND;TZID=America/Los_Angeles:20250906T120000
DTSTAMP:20260421T205135
CREATED:20250703T182150Z
LAST-MODIFIED:20250703T182150Z
UID:10022702-1757152800-1757160000@tillamookchamber.org
SUMMARY:Dungeons and Dragons at Tillamook Library
DESCRIPTION:Play a variety of tabletop RPGs with local storytellers at the library! Open to all!
URL:https://tillamookchamber.org/event/dungeons-and-dragons-at-tillamook-library-2/2025-09-06/
LOCATION:Tillamook County Library\, 1716 3rd Street Tillamook Oregon 97141
CATEGORIES:Community
ATTACH;FMTTYPE=image/png:https://tillamookchamber.org/wp-content/uploads/2025/07/Dungeons-Dragons-2025-TM.png
END:VEVENT
BEGIN:VEVENT
DTSTART;TZID=America/Los_Angeles:20250905T160000
DTEND;TZID=America/Los_Angeles:20250905T170000
DTSTAMP:20260421T205135
CREATED:20250903T201448Z
LAST-MODIFIED:20250903T201448Z
UID:10025499-1757088000-1757091600@tillamookchamber.org
SUMMARY:Staying Centered In Challenging Times with Morgan Motsinger at Tillamook Library
DESCRIPTION:Learn to maintain your inner peace when the world feels chaotic and develop practices for staying grounded and responsive rather than reactive during difficult personal or global circumstances with speaker Morgan Motsinger at the Tillamook Main Library!
URL:https://tillamookchamber.org/event/staying-centered-in-challenging-times-with-morgan-motsinger-at-tillamook-library/
LOCATION:Tillamook County Library\, 1716 3rd Street Tillamook Oregon 97141
CATEGORIES:Community,Education
ATTACH;FMTTYPE=image/png:https://tillamookchamber.org/wp-content/uploads/2025/09/Staying-Centered-in-Challenging-Times-090525-TM.png
END:VEVENT
BEGIN:VEVENT
DTSTART;TZID=America/Los_Angeles:20250903T180000
DTEND;TZID=America/Los_Angeles:20250903T200000
DTSTAMP:20260421T205135
CREATED:20250902T183455Z
LAST-MODIFIED:20250902T183455Z
UID:10025489-1756922400-1756929600@tillamookchamber.org
SUMMARY:September Movies At Main: Music and Musicals
DESCRIPTION:Join us every Wednesday evening at the Tillamook Main Library for movie night at 6 pm!\n\n9/3 Gold Diggers of 1935 (1935)\n\n9/10 Viva Las Vegas (1964)\n\n9/17 A Damsel In Distress (1937)\n\n9/24 Hairspray (1988)
URL:https://tillamookchamber.org/event/september-movies-at-main-music-and-musicals/2025-09-03/
LOCATION:Tillamook County Library\, 1716 3rd Street Tillamook Oregon 97141
CATEGORIES:Community,Family Fun
END:VEVENT
BEGIN:VEVENT
DTSTART;TZID=America/Los_Angeles:20250901T103000
DTEND;TZID=America/Los_Angeles:20250901T123000
DTSTAMP:20260421T205135
CREATED:20250703T182108Z
LAST-MODIFIED:20250703T182108Z
UID:10022962-1756722600-1756729800@tillamookchamber.org
SUMMARY:Dungeons and Dragons at Tillamook Library
DESCRIPTION:Play a variety of tabletop RPGs with local storytellers at the library! Open to all!
URL:https://tillamookchamber.org/event/dungeons-and-dragons-at-tillamook-library/2025-09-01/
LOCATION:Tillamook County Library\, 1716 3rd Street Tillamook Oregon 97141
CATEGORIES:Community
ATTACH;FMTTYPE=image/png:https://tillamookchamber.org/wp-content/uploads/2025/07/Dungeons-Dragons-2025-TM-1.png
END:VEVENT
BEGIN:VEVENT
DTSTART;TZID=America/Los_Angeles:20250831T140000
DTEND;TZID=America/Los_Angeles:20250831T140000
DTSTAMP:20260421T205135
CREATED:20250826T173059Z
LAST-MODIFIED:20250826T173059Z
UID:10025279-1756648800-1756648800@tillamookchamber.org
SUMMARY:Original Practice Shakespeare Festival in the Library Park
DESCRIPTION:Join us on Saturday and Sunday at 2 pm for productions of As You Like It and Much Ado About Nothing!\n\n 
URL:https://tillamookchamber.org/event/original-practice-shakespeare-festival-in-the-library-park/2025-08-31/
LOCATION:Tillamook County Library\, 1716 3rd Street Tillamook Oregon 97141
CATEGORIES:Arts and Culture,Community
END:VEVENT
BEGIN:VEVENT
DTSTART;TZID=America/Los_Angeles:20250830T140000
DTEND;TZID=America/Los_Angeles:20250830T140000
DTSTAMP:20260421T205135
CREATED:20250826T173059Z
LAST-MODIFIED:20250826T173059Z
UID:10025278-1756562400-1756562400@tillamookchamber.org
SUMMARY:Original Practice Shakespeare Festival in the Library Park
DESCRIPTION:Join us on Saturday and Sunday at 2 pm for productions of As You Like It and Much Ado About Nothing!\n\n 
URL:https://tillamookchamber.org/event/original-practice-shakespeare-festival-in-the-library-park/2025-08-30/
LOCATION:Tillamook County Library\, 1716 3rd Street Tillamook Oregon 97141
CATEGORIES:Arts and Culture,Community
END:VEVENT
BEGIN:VEVENT
DTSTART;TZID=America/Los_Angeles:20250830T100000
DTEND;TZID=America/Los_Angeles:20250830T120000
DTSTAMP:20260421T205135
CREATED:20250703T182150Z
LAST-MODIFIED:20250703T182150Z
UID:10022701-1756548000-1756555200@tillamookchamber.org
SUMMARY:Dungeons and Dragons at Tillamook Library
DESCRIPTION:Play a variety of tabletop RPGs with local storytellers at the library! Open to all!
URL:https://tillamookchamber.org/event/dungeons-and-dragons-at-tillamook-library-2/2025-08-30/
LOCATION:Tillamook County Library\, 1716 3rd Street Tillamook Oregon 97141
CATEGORIES:Community
ATTACH;FMTTYPE=image/png:https://tillamookchamber.org/wp-content/uploads/2025/07/Dungeons-Dragons-2025-TM.png
END:VEVENT
BEGIN:VEVENT
DTSTART;TZID=America/Los_Angeles:20250829T120000
DTEND;TZID=America/Los_Angeles:20250829T130000
DTSTAMP:20260421T205135
CREATED:20250703T203330Z
LAST-MODIFIED:20250703T203330Z
UID:10023228-1756468800-1756472400@tillamookchamber.org
SUMMARY:Summer Music Series at Tillamook Library
DESCRIPTION:We proudly present the the Summer 2025 Music Series. Shows will be Fridays at noon at the Maxwell Stage Library Park next to the Tillamook Main Library!\n\nSee details on all our performers here: https://www.tillabook.org/library/page/summer-2025-music-series
URL:https://tillamookchamber.org/event/summer-music-series-at-tillamook-library/2025-08-29/
LOCATION:Tillamook County Library\, 1716 3rd Street Tillamook Oregon 97141
CATEGORIES:Community,Live Music
ATTACH;FMTTYPE=image/png:https://tillamookchamber.org/wp-content/uploads/2025/07/Summer-Music-Series.png
END:VEVENT
BEGIN:VEVENT
DTSTART;TZID=America/Los_Angeles:20250825T103000
DTEND;TZID=America/Los_Angeles:20250825T123000
DTSTAMP:20260421T205135
CREATED:20250703T182108Z
LAST-MODIFIED:20250703T182108Z
UID:10022961-1756117800-1756125000@tillamookchamber.org
SUMMARY:Dungeons and Dragons at Tillamook Library
DESCRIPTION:Play a variety of tabletop RPGs with local storytellers at the library! Open to all!
URL:https://tillamookchamber.org/event/dungeons-and-dragons-at-tillamook-library/2025-08-25/
LOCATION:Tillamook County Library\, 1716 3rd Street Tillamook Oregon 97141
CATEGORIES:Community
ATTACH;FMTTYPE=image/png:https://tillamookchamber.org/wp-content/uploads/2025/07/Dungeons-Dragons-2025-TM-1.png
END:VEVENT
BEGIN:VEVENT
DTSTART;TZID=America/Los_Angeles:20250823T100000
DTEND;TZID=America/Los_Angeles:20250823T120000
DTSTAMP:20260421T205135
CREATED:20250703T182150Z
LAST-MODIFIED:20250703T182150Z
UID:10022700-1755943200-1755950400@tillamookchamber.org
SUMMARY:Dungeons and Dragons at Tillamook Library
DESCRIPTION:Play a variety of tabletop RPGs with local storytellers at the library! Open to all!
URL:https://tillamookchamber.org/event/dungeons-and-dragons-at-tillamook-library-2/2025-08-23/
LOCATION:Tillamook County Library\, 1716 3rd Street Tillamook Oregon 97141
CATEGORIES:Community
ATTACH;FMTTYPE=image/png:https://tillamookchamber.org/wp-content/uploads/2025/07/Dungeons-Dragons-2025-TM.png
END:VEVENT
BEGIN:VEVENT
DTSTART;TZID=America/Los_Angeles:20250822T120000
DTEND;TZID=America/Los_Angeles:20250822T130000
DTSTAMP:20260421T205135
CREATED:20250703T203330Z
LAST-MODIFIED:20250703T203330Z
UID:10023227-1755864000-1755867600@tillamookchamber.org
SUMMARY:Summer Music Series at Tillamook Library
DESCRIPTION:We proudly present the the Summer 2025 Music Series. Shows will be Fridays at noon at the Maxwell Stage Library Park next to the Tillamook Main Library!\n\nSee details on all our performers here: https://www.tillabook.org/library/page/summer-2025-music-series
URL:https://tillamookchamber.org/event/summer-music-series-at-tillamook-library/2025-08-22/
LOCATION:Tillamook County Library\, 1716 3rd Street Tillamook Oregon 97141
CATEGORIES:Community,Live Music
ATTACH;FMTTYPE=image/png:https://tillamookchamber.org/wp-content/uploads/2025/07/Summer-Music-Series.png
END:VEVENT
BEGIN:VEVENT
DTSTART;TZID=America/Los_Angeles:20250819T150000
DTEND;TZID=America/Los_Angeles:20250819T160000
DTSTAMP:20260421T205135
CREATED:20250703T202647Z
LAST-MODIFIED:20250703T202647Z
UID:10023230-1755615600-1755619200@tillamookchamber.org
SUMMARY:Teen Board Games at Tillamook Library
DESCRIPTION:Play board games at the library!
URL:https://tillamookchamber.org/event/teen-board-games-at-tillamook-library/
LOCATION:Tillamook County Library\, 1716 3rd Street Tillamook Oregon 97141
CATEGORIES:Family Fun
ATTACH;FMTTYPE=image/png:https://tillamookchamber.org/wp-content/uploads/2025/07/Teen-Board-Games-081625-TM.png
END:VEVENT
BEGIN:VEVENT
DTSTART;TZID=America/Los_Angeles:20250818T103000
DTEND;TZID=America/Los_Angeles:20250818T123000
DTSTAMP:20260421T205135
CREATED:20250703T182108Z
LAST-MODIFIED:20250703T182108Z
UID:10022960-1755513000-1755520200@tillamookchamber.org
SUMMARY:Dungeons and Dragons at Tillamook Library
DESCRIPTION:Play a variety of tabletop RPGs with local storytellers at the library! Open to all!
URL:https://tillamookchamber.org/event/dungeons-and-dragons-at-tillamook-library/2025-08-18/
LOCATION:Tillamook County Library\, 1716 3rd Street Tillamook Oregon 97141
CATEGORIES:Community
ATTACH;FMTTYPE=image/png:https://tillamookchamber.org/wp-content/uploads/2025/07/Dungeons-Dragons-2025-TM-1.png
END:VEVENT
BEGIN:VEVENT
DTSTART;TZID=America/Los_Angeles:20250816T100000
DTEND;TZID=America/Los_Angeles:20250816T120000
DTSTAMP:20260421T205135
CREATED:20250703T182150Z
LAST-MODIFIED:20250703T182150Z
UID:10022699-1755338400-1755345600@tillamookchamber.org
SUMMARY:Dungeons and Dragons at Tillamook Library
DESCRIPTION:Play a variety of tabletop RPGs with local storytellers at the library! Open to all!
URL:https://tillamookchamber.org/event/dungeons-and-dragons-at-tillamook-library-2/2025-08-16/
LOCATION:Tillamook County Library\, 1716 3rd Street Tillamook Oregon 97141
CATEGORIES:Community
ATTACH;FMTTYPE=image/png:https://tillamookchamber.org/wp-content/uploads/2025/07/Dungeons-Dragons-2025-TM.png
END:VEVENT
BEGIN:VEVENT
DTSTART;TZID=America/Los_Angeles:20250815T120000
DTEND;TZID=America/Los_Angeles:20250815T130000
DTSTAMP:20260421T205135
CREATED:20250703T203330Z
LAST-MODIFIED:20250703T203330Z
UID:10023226-1755259200-1755262800@tillamookchamber.org
SUMMARY:Summer Music Series at Tillamook Library
DESCRIPTION:We proudly present the the Summer 2025 Music Series. Shows will be Fridays at noon at the Maxwell Stage Library Park next to the Tillamook Main Library!\n\nSee details on all our performers here: https://www.tillabook.org/library/page/summer-2025-music-series
URL:https://tillamookchamber.org/event/summer-music-series-at-tillamook-library/2025-08-15/
LOCATION:Tillamook County Library\, 1716 3rd Street Tillamook Oregon 97141
CATEGORIES:Community,Live Music
ATTACH;FMTTYPE=image/png:https://tillamookchamber.org/wp-content/uploads/2025/07/Summer-Music-Series.png
END:VEVENT
BEGIN:VEVENT
DTSTART;TZID=America/Los_Angeles:20250814T140000
DTEND;TZID=America/Los_Angeles:20250814T160000
DTSTAMP:20260421T205135
CREATED:20250812T211934Z
LAST-MODIFIED:20250812T211934Z
UID:10024853-1755180000-1755187200@tillamookchamber.org
SUMMARY:Grupo Ritual Azteca Huitzilopochtli at Tillamook Library
DESCRIPTION:Experience the beauty and energy as Ritual Azteca Huitzilopochtli performers relive the ancient practices of the indigenous peoples of Anáhuac through music and dance on Thursday August 14th at 2 pm in the library!
URL:https://tillamookchamber.org/event/grupo-ritual-azteca-huitzilopochtli-at-tillamook-library/
LOCATION:Tillamook County Library\, 1716 3rd Street Tillamook Oregon 97141
CATEGORIES:Community,Family Fun,Festivals and Events
ATTACH;FMTTYPE=image/png:https://tillamookchamber.org/wp-content/uploads/2025/08/Grupo-Ritual-Azteca-Huitzilopochtli-081425-TM.png
END:VEVENT
BEGIN:VEVENT
DTSTART;TZID=America/Los_Angeles:20250813T110000
DTEND;TZID=America/Los_Angeles:20250813T120000
DTSTAMP:20260421T205135
CREATED:20250626T233558Z
LAST-MODIFIED:20250626T233558Z
UID:10022685-1755082800-1755086400@tillamookchamber.org
SUMMARY:Drop In Tech Help at Tillamook Main Library
DESCRIPTION:Drop in at the library for help with technology! Se habla español también
URL:https://tillamookchamber.org/event/drop-in-tech-help-at-tillamook-main-library-6/2025-08-13/
LOCATION:Tillamook County Library\, 1716 3rd Street Tillamook Oregon 97141
CATEGORIES:Community,Education
ATTACH;FMTTYPE=image/png:https://tillamookchamber.org/wp-content/uploads/2025/06/Drop-In-Tech-Help-071625-Eng-TM.png
END:VEVENT
BEGIN:VEVENT
DTSTART;TZID=America/Los_Angeles:20250811T103000
DTEND;TZID=America/Los_Angeles:20250811T123000
DTSTAMP:20260421T205135
CREATED:20250703T182108Z
LAST-MODIFIED:20250703T182108Z
UID:10022959-1754908200-1754915400@tillamookchamber.org
SUMMARY:Dungeons and Dragons at Tillamook Library
DESCRIPTION:Play a variety of tabletop RPGs with local storytellers at the library! Open to all!
URL:https://tillamookchamber.org/event/dungeons-and-dragons-at-tillamook-library/2025-08-11/
LOCATION:Tillamook County Library\, 1716 3rd Street Tillamook Oregon 97141
CATEGORIES:Community
ATTACH;FMTTYPE=image/png:https://tillamookchamber.org/wp-content/uploads/2025/07/Dungeons-Dragons-2025-TM-1.png
END:VEVENT
BEGIN:VEVENT
DTSTART;TZID=America/Los_Angeles:20250809T100000
DTEND;TZID=America/Los_Angeles:20250809T120000
DTSTAMP:20260421T205135
CREATED:20250703T182150Z
LAST-MODIFIED:20250703T182150Z
UID:10022698-1754733600-1754740800@tillamookchamber.org
SUMMARY:Dungeons and Dragons at Tillamook Library
DESCRIPTION:Play a variety of tabletop RPGs with local storytellers at the library! Open to all!
URL:https://tillamookchamber.org/event/dungeons-and-dragons-at-tillamook-library-2/2025-08-09/
LOCATION:Tillamook County Library\, 1716 3rd Street Tillamook Oregon 97141
CATEGORIES:Community
ATTACH;FMTTYPE=image/png:https://tillamookchamber.org/wp-content/uploads/2025/07/Dungeons-Dragons-2025-TM.png
END:VEVENT
BEGIN:VEVENT
DTSTART;TZID=America/Los_Angeles:20250804T103000
DTEND;TZID=America/Los_Angeles:20250804T123000
DTSTAMP:20260421T205135
CREATED:20250703T182108Z
LAST-MODIFIED:20250703T182108Z
UID:10022958-1754303400-1754310600@tillamookchamber.org
SUMMARY:Dungeons and Dragons at Tillamook Library
DESCRIPTION:Play a variety of tabletop RPGs with local storytellers at the library! Open to all!
URL:https://tillamookchamber.org/event/dungeons-and-dragons-at-tillamook-library/2025-08-04/
LOCATION:Tillamook County Library\, 1716 3rd Street Tillamook Oregon 97141
CATEGORIES:Community
ATTACH;FMTTYPE=image/png:https://tillamookchamber.org/wp-content/uploads/2025/07/Dungeons-Dragons-2025-TM-1.png
END:VEVENT
BEGIN:VEVENT
DTSTART;TZID=America/Los_Angeles:20250802T150000
DTEND;TZID=America/Los_Angeles:20250802T170000
DTSTAMP:20260421T205135
CREATED:20250709T232743Z
LAST-MODIFIED:20250709T232743Z
UID:10023237-1754146800-1754154000@tillamookchamber.org
SUMMARY:Raptor Confidential with Marilyn Ellis at Tillamook Library
DESCRIPTION:Join Oregon Master Naturalist Marilyn Ellis at the library and learn! \nWhat makes a raptor a raptor?  How does it hunt?  How does it live?  Touch a talon\, wave a feather and feel its “lift”.   Experience the silent flight of owls. \nIn this fun\, interactive\, and informative presentation you: \n\n\n 	\nUncover the secrets of how to identify the amazing Birds of Prey that fly overhead every day. \n\n 	\nRecognize their behavior and find a new sense of appreciation and wonder for these amazing Lords of the Sky. \n\n 	\nNever mistake a Turkey Vulture for a Red-Tailed Hawk again!
URL:https://tillamookchamber.org/event/raptor-confidential-with-marilyn-ellis-at-tillamook-library/
LOCATION:Tillamook County Library\, 1716 3rd Street Tillamook Oregon 97141
CATEGORIES:Community,Education
END:VEVENT
BEGIN:VEVENT
DTSTART;TZID=America/Los_Angeles:20250802T100000
DTEND;TZID=America/Los_Angeles:20250802T120000
DTSTAMP:20260421T205135
CREATED:20250703T182150Z
LAST-MODIFIED:20250703T182150Z
UID:10022697-1754128800-1754136000@tillamookchamber.org
SUMMARY:Dungeons and Dragons at Tillamook Library
DESCRIPTION:Play a variety of tabletop RPGs with local storytellers at the library! Open to all!
URL:https://tillamookchamber.org/event/dungeons-and-dragons-at-tillamook-library-2/2025-08-02/
LOCATION:Tillamook County Library\, 1716 3rd Street Tillamook Oregon 97141
CATEGORIES:Community
ATTACH;FMTTYPE=image/png:https://tillamookchamber.org/wp-content/uploads/2025/07/Dungeons-Dragons-2025-TM.png
END:VEVENT
BEGIN:VEVENT
DTSTART;TZID=America/Los_Angeles:20250801T120000
DTEND;TZID=America/Los_Angeles:20250801T130000
DTSTAMP:20260421T205135
CREATED:20250703T203330Z
LAST-MODIFIED:20250703T203330Z
UID:10023225-1754049600-1754053200@tillamookchamber.org
SUMMARY:Summer Music Series at Tillamook Library
DESCRIPTION:We proudly present the the Summer 2025 Music Series. Shows will be Fridays at noon at the Maxwell Stage Library Park next to the Tillamook Main Library!\n\nSee details on all our performers here: https://www.tillabook.org/library/page/summer-2025-music-series
URL:https://tillamookchamber.org/event/summer-music-series-at-tillamook-library/2025-08-01/
LOCATION:Tillamook County Library\, 1716 3rd Street Tillamook Oregon 97141
CATEGORIES:Community,Live Music
ATTACH;FMTTYPE=image/png:https://tillamookchamber.org/wp-content/uploads/2025/07/Summer-Music-Series.png
END:VEVENT
END:VCALENDAR