BEGIN:VCALENDAR
VERSION:2.0
PRODID:-//Tillamook Area Chamber of Commerce - ECPv6.15.20//NONSGML v1.0//EN
CALSCALE:GREGORIAN
METHOD:PUBLISH
X-ORIGINAL-URL:https://tillamookchamber.org
X-WR-CALDESC:Events for Tillamook Area Chamber of Commerce
REFRESH-INTERVAL;VALUE=DURATION:PT1H
X-Robots-Tag:noindex
X-PUBLISHED-TTL:PT1H
BEGIN:VTIMEZONE
TZID:America/Los_Angeles
BEGIN:DAYLIGHT
TZOFFSETFROM:-0800
TZOFFSETTO:-0700
TZNAME:PDT
DTSTART:20230312T100000
END:DAYLIGHT
BEGIN:STANDARD
TZOFFSETFROM:-0700
TZOFFSETTO:-0800
TZNAME:PST
DTSTART:20231105T090000
END:STANDARD
BEGIN:DAYLIGHT
TZOFFSETFROM:-0800
TZOFFSETTO:-0700
TZNAME:PDT
DTSTART:20240310T100000
END:DAYLIGHT
BEGIN:STANDARD
TZOFFSETFROM:-0700
TZOFFSETTO:-0800
TZNAME:PST
DTSTART:20241103T090000
END:STANDARD
BEGIN:DAYLIGHT
TZOFFSETFROM:-0800
TZOFFSETTO:-0700
TZNAME:PDT
DTSTART:20250309T100000
END:DAYLIGHT
BEGIN:STANDARD
TZOFFSETFROM:-0700
TZOFFSETTO:-0800
TZNAME:PST
DTSTART:20251102T090000
END:STANDARD
BEGIN:DAYLIGHT
TZOFFSETFROM:-0800
TZOFFSETTO:-0700
TZNAME:PDT
DTSTART:20260308T100000
END:DAYLIGHT
BEGIN:STANDARD
TZOFFSETFROM:-0700
TZOFFSETTO:-0800
TZNAME:PST
DTSTART:20261101T090000
END:STANDARD
END:VTIMEZONE
BEGIN:VEVENT
DTSTART;TZID=America/Los_Angeles:20251121T120000
DTEND;TZID=America/Los_Angeles:20251121T190000
DTSTAMP:20260423T032952
CREATED:20250925T182422Z
LAST-MODIFIED:20250925T182422Z
UID:10025626-1763726400-1763751600@tillamookchamber.org
SUMMARY:Holiday Bazaar
DESCRIPTION:Please join us for the Holiday Bazaar\, featuring homemade items\, holiday and home décor\, gift ideas\, food concessions\, and more.
URL:https://tillamookchamber.org/event/holiday-bazaar/2025-11-21/
LOCATION:Tillamook County Fairgrounds\, 4603 3rd St\, Tillamook\, OR\, 97141\, United States
CATEGORIES:Community,Family Fun,Shopping and Sales
ATTACH;FMTTYPE=image/png:https://tillamookchamber.org/wp-content/uploads/2025/09/Holiday-Bazaar.png
END:VEVENT
BEGIN:VEVENT
DTSTART;TZID=America/Los_Angeles:20251115T090000
DTEND;TZID=America/Los_Angeles:20251115T170000
DTSTAMP:20260423T032952
CREATED:20250925T182422Z
LAST-MODIFIED:20250925T182422Z
UID:10025625-1763197200-1763226000@tillamookchamber.org
SUMMARY:Holiday Bazaar
DESCRIPTION:Please join us for the Holiday Bazaar\, featuring homemade items\, holiday and home décor\, gift ideas\, food concessions\, and more.
URL:https://tillamookchamber.org/event/holiday-bazaar/2025-11-15/
LOCATION:Tillamook County Fairgrounds\, 4603 3rd St\, Tillamook\, OR\, 97141\, United States
CATEGORIES:Community,Family Fun,Shopping and Sales
ATTACH;FMTTYPE=image/png:https://tillamookchamber.org/wp-content/uploads/2025/09/Holiday-Bazaar.png
END:VEVENT
BEGIN:VEVENT
DTSTART;TZID=America/Los_Angeles:20251114T120000
DTEND;TZID=America/Los_Angeles:20251114T190000
DTSTAMP:20260423T032952
CREATED:20250925T182422Z
LAST-MODIFIED:20250925T182422Z
UID:10025624-1763121600-1763146800@tillamookchamber.org
SUMMARY:Holiday Bazaar
DESCRIPTION:Please join us for the Holiday Bazaar\, featuring homemade items\, holiday and home décor\, gift ideas\, food concessions\, and more.
URL:https://tillamookchamber.org/event/holiday-bazaar/2025-11-14/
LOCATION:Tillamook County Fairgrounds\, 4603 3rd St\, Tillamook\, OR\, 97141\, United States
CATEGORIES:Community,Family Fun,Shopping and Sales
ATTACH;FMTTYPE=image/png:https://tillamookchamber.org/wp-content/uploads/2025/09/Holiday-Bazaar.png
END:VEVENT
BEGIN:VEVENT
DTSTART;TZID=America/Los_Angeles:20251101T190000
DTEND;TZID=America/Los_Angeles:20251101T233000
DTSTAMP:20260423T032952
CREATED:20251014T194657Z
LAST-MODIFIED:20251014T194657Z
UID:10026219-1762023600-1762039800@tillamookchamber.org
SUMMARY:Costumes + Cocktails
DESCRIPTION:Come enjoy an evening of dancing\, skating\, savory bites and delicious cocktails! Prizes for best costume\, coupes costumes and more!
URL:https://tillamookchamber.org/event/costumes-cocktails/
LOCATION:Tillamook County Fairgrounds\, 4603 3rd St\, Tillamook\, OR\, 97141\, United States
CATEGORIES:Community,Festivals and Events
ATTACH;FMTTYPE=image/jpeg:https://tillamookchamber.org/wp-content/uploads/2025/10/IMG_8754.jpeg
END:VEVENT
BEGIN:VEVENT
DTSTART;TZID=America/Los_Angeles:20251010T100000
DTEND;TZID=America/Los_Angeles:20251010T150000
DTSTAMP:20260423T032952
CREATED:20250923T210840Z
LAST-MODIFIED:20250923T210840Z
UID:10025618-1760090400-1760108400@tillamookchamber.org
SUMMARY:Veterans Convention
DESCRIPTION:All Veterans are invited to the Tillamook County Fair Grounds from 10:00AM to 3pm on October 10th. Their will be food\, giveaways\, raffles\, services\, and comradery. Hope to see you there.
URL:https://tillamookchamber.org/event/veterans-convention/
LOCATION:Tillamook County Fairgrounds\, 4603 3rd St\, Tillamook\, OR\, 97141\, United States
CATEGORIES:Community,Holiday
ATTACH;FMTTYPE=image/png:https://tillamookchamber.org/wp-content/uploads/2025/09/Veterans-Convention-Flyer.png
END:VEVENT
BEGIN:VEVENT
DTSTART;TZID=America/Los_Angeles:20250906T120000
DTEND;TZID=America/Los_Angeles:20250906T200000
DTSTAMP:20260423T032952
CREATED:20250904T190031Z
LAST-MODIFIED:20250904T190031Z
UID:10025502-1757160000-1757188800@tillamookchamber.org
SUMMARY:Back to School Banger
DESCRIPTION:Kids/Family Fun\, Bouncy Houses\, Food\, Drinks\, Games\, Car Show\, Sxs Racing\, Burnouts\, Demolition Derby’s\, and more\nGates open at 12pm\nVendors\, Kids/Family fun\, and Car Show starting at 12pm-close\nMotorsports action starting at 3:30pm-close\n\nEntry fees\n$15 Adult/teen\n$10 First Responders/ Veterans\nKids 12 and under FREE\nBOX SEATING available $100( Seats 8 bring your own chairs first come first serve at the gate only)
URL:https://tillamookchamber.org/event/back-to-school-banger/
LOCATION:Tillamook County Fairgrounds\, 4603 3rd St\, Tillamook\, OR\, 97141\, United States
CATEGORIES:Community,Family Fun,Shopping and Sales
ATTACH;FMTTYPE=image/jpeg:https://tillamookchamber.org/wp-content/uploads/2025/09/Derby.jpg
END:VEVENT
BEGIN:VEVENT
DTSTART;TZID=America/Los_Angeles:20250722T140000
DTEND;TZID=America/Los_Angeles:20250722T160000
DTSTAMP:20260423T032952
CREATED:20250701T212247Z
LAST-MODIFIED:20250701T212247Z
UID:10022690-1753192800-1753200000@tillamookchamber.org
SUMMARY:Open Skate
DESCRIPTION:Ready to roll?  Open Skate is happening at the Tillamook Fairgrounds throughout July! Whether you’re steady on wheels or just learning\, it’s the perfect time to get out and glide. All ages\, all skill levels\, come have some fun on the Tillaskate rink!  $5 if your use our skates\, $4 if you bring your own. (socks required if you use our skates )
URL:https://tillamookchamber.org/event/open-skate/2025-07-22/
LOCATION:Tillamook County Fairgrounds\, 4603 3rd St\, Tillamook\, OR\, 97141\, United States
CATEGORIES:Community,Family Fun
ATTACH;FMTTYPE=image/jpeg:https://tillamookchamber.org/wp-content/uploads/2025/07/Skating.jpg
END:VEVENT
BEGIN:VEVENT
DTSTART;TZID=America/Los_Angeles:20250716T140000
DTEND;TZID=America/Los_Angeles:20250716T160000
DTSTAMP:20260423T032952
CREATED:20250701T212247Z
LAST-MODIFIED:20250701T212247Z
UID:10022689-1752674400-1752681600@tillamookchamber.org
SUMMARY:Open Skate
DESCRIPTION:Ready to roll?  Open Skate is happening at the Tillamook Fairgrounds throughout July! Whether you’re steady on wheels or just learning\, it’s the perfect time to get out and glide. All ages\, all skill levels\, come have some fun on the Tillaskate rink!  $5 if your use our skates\, $4 if you bring your own. (socks required if you use our skates )
URL:https://tillamookchamber.org/event/open-skate/2025-07-16/
LOCATION:Tillamook County Fairgrounds\, 4603 3rd St\, Tillamook\, OR\, 97141\, United States
CATEGORIES:Community,Family Fun
ATTACH;FMTTYPE=image/jpeg:https://tillamookchamber.org/wp-content/uploads/2025/07/Skating.jpg
END:VEVENT
BEGIN:VEVENT
DTSTART;TZID=America/Los_Angeles:20250708T140000
DTEND;TZID=America/Los_Angeles:20250708T160000
DTSTAMP:20260423T032952
CREATED:20250701T212247Z
LAST-MODIFIED:20250701T212247Z
UID:10022688-1751983200-1751990400@tillamookchamber.org
SUMMARY:Open Skate
DESCRIPTION:Ready to roll?  Open Skate is happening at the Tillamook Fairgrounds throughout July! Whether you’re steady on wheels or just learning\, it’s the perfect time to get out and glide. All ages\, all skill levels\, come have some fun on the Tillaskate rink!  $5 if your use our skates\, $4 if you bring your own. (socks required if you use our skates )
URL:https://tillamookchamber.org/event/open-skate/2025-07-08/
LOCATION:Tillamook County Fairgrounds\, 4603 3rd St\, Tillamook\, OR\, 97141\, United States
CATEGORIES:Community,Family Fun
ATTACH;FMTTYPE=image/jpeg:https://tillamookchamber.org/wp-content/uploads/2025/07/Skating.jpg
END:VEVENT
BEGIN:VEVENT
DTSTART;TZID=America/Los_Angeles:20250503T120000
DTEND;TZID=America/Los_Angeles:20250503T180000
DTSTAMP:20260423T032952
CREATED:20250313T224112Z
LAST-MODIFIED:20250313T224126Z
UID:10019080-1746273600-1746295200@tillamookchamber.org
SUMMARY:de Garde's 12th Anniversary Invitational
DESCRIPTION:We’re throwing a party like no other.\n\nThe event will be a celebration of place\, as well as of beer. There will be live music performed by some of the best regional artists throughout the event\, as well as excellent food vendors representing the diverse culinary delights of our area.\n\nMore details & tickets available here: https://12thanniversaryinvitational.eventbrite.com/
URL:https://tillamookchamber.org/event/de-gardes-12th-anniversary-invitational/
LOCATION:Tillamook County Fairgrounds\, 4603 3rd St\, Tillamook\, OR\, 97141\, United States
CATEGORIES:Community,Festivals and Events,Live Music
END:VEVENT
BEGIN:VEVENT
DTSTART;TZID=America/Los_Angeles:20250427T110000
DTEND;TZID=America/Los_Angeles:20250427T160000
DTSTAMP:20260423T032952
CREATED:20250301T002235Z
LAST-MODIFIED:20250301T002235Z
UID:10018302-1745751600-1745769600@tillamookchamber.org
SUMMARY:Tillamook Headlight Herald Home & Garden Show
DESCRIPTION:https://www.tillamookheadlightherald.com/2025_tillamook_county_oregon_home_and_garden_show/
URL:https://tillamookchamber.org/event/tillamook-headlight-herald-home-garden-show/2025-04-27/
LOCATION:Tillamook County Fairgrounds\, 4603 3rd St\, Tillamook\, OR\, 97141\, United States
CATEGORIES:Community,Shopping and Sales
END:VEVENT
BEGIN:VEVENT
DTSTART;TZID=America/Los_Angeles:20250426T090000
DTEND;TZID=America/Los_Angeles:20250426T160000
DTSTAMP:20260423T032952
CREATED:20250301T002235Z
LAST-MODIFIED:20250301T002235Z
UID:10018301-1745658000-1745683200@tillamookchamber.org
SUMMARY:Tillamook Headlight Herald Home & Garden Show
DESCRIPTION:https://www.tillamookheadlightherald.com/2025_tillamook_county_oregon_home_and_garden_show/
URL:https://tillamookchamber.org/event/tillamook-headlight-herald-home-garden-show/2025-04-26/
LOCATION:Tillamook County Fairgrounds\, 4603 3rd St\, Tillamook\, OR\, 97141\, United States
CATEGORIES:Community,Shopping and Sales
END:VEVENT
BEGIN:VEVENT
DTSTART;TZID=America/Los_Angeles:20250327T130000
DTEND;TZID=America/Los_Angeles:20250327T150000
DTSTAMP:20260423T032952
CREATED:20250117T224650Z
LAST-MODIFIED:20250117T224650Z
UID:10017767-1743080400-1743087600@tillamookchamber.org
SUMMARY:Open Skate
DESCRIPTION:Join us for open skate. $5 if you use our skate\, $4 if you bring your own
URL:https://tillamookchamber.org/event/open-skate-9/2025-03-27/
LOCATION:Tillamook County Fairgrounds\, 4603 3rd St\, Tillamook\, OR\, 97141\, United States
CATEGORIES:Family Fun
ATTACH;FMTTYPE=image/jpeg:https://tillamookchamber.org/wp-content/uploads/2025/01/istockphoto-645173512-612x612-1.jpg
END:VEVENT
BEGIN:VEVENT
DTSTART;TZID=America/Los_Angeles:20250326T130000
DTEND;TZID=America/Los_Angeles:20250326T150000
DTSTAMP:20260423T032952
CREATED:20250117T224650Z
LAST-MODIFIED:20250117T224650Z
UID:10017766-1742994000-1743001200@tillamookchamber.org
SUMMARY:Open Skate
DESCRIPTION:Join us for open skate. $5 if you use our skate\, $4 if you bring your own
URL:https://tillamookchamber.org/event/open-skate-9/2025-03-26/
LOCATION:Tillamook County Fairgrounds\, 4603 3rd St\, Tillamook\, OR\, 97141\, United States
CATEGORIES:Family Fun
ATTACH;FMTTYPE=image/jpeg:https://tillamookchamber.org/wp-content/uploads/2025/01/istockphoto-645173512-612x612-1.jpg
END:VEVENT
BEGIN:VEVENT
DTSTART;TZID=America/Los_Angeles:20250325T130000
DTEND;TZID=America/Los_Angeles:20250325T150000
DTSTAMP:20260423T032952
CREATED:20250117T224650Z
LAST-MODIFIED:20250117T224650Z
UID:10017765-1742907600-1742914800@tillamookchamber.org
SUMMARY:Open Skate
DESCRIPTION:Join us for open skate. $5 if you use our skate\, $4 if you bring your own
URL:https://tillamookchamber.org/event/open-skate-9/2025-03-25/
LOCATION:Tillamook County Fairgrounds\, 4603 3rd St\, Tillamook\, OR\, 97141\, United States
CATEGORIES:Family Fun
ATTACH;FMTTYPE=image/jpeg:https://tillamookchamber.org/wp-content/uploads/2025/01/istockphoto-645173512-612x612-1.jpg
END:VEVENT
BEGIN:VEVENT
DTSTART;TZID=America/Los_Angeles:20250322T110000
DTEND;TZID=America/Los_Angeles:20250322T170000
DTSTAMP:20260423T032952
CREATED:20250115T230228Z
LAST-MODIFIED:20250115T230728Z
UID:10017764-1742641200-1742662800@tillamookchamber.org
SUMMARY:North Coast Throwdown Cornhole Tournament
DESCRIPTION:Please join us at the Tillamook County Fairgrounds for the North Coast Throwdown Cornhole Tournament! Bring your competitive spirit and be prepared for a day filled with fun\, games\, music\, and cash prizes.\n\nFamilies are encouraged to attend and cheer on their favorite duos. For those 21+\, grab a cool beer as refreshment — let’s be honest\, what is a cornhole tournament without a cool beverage in hand?\nProceeds from the day will benefit the Career-to-Career scholarship fund. The scholarship benefits those returning to education after a break of 5 years or more.\n\n\nSIGN UP & TICKETS\n\nInterested in becoming a sponsor? Get in touch with Britta Lawrence\, Executive Director of Advancement & Foundation. Send her an email at brittalawrence@tillamookbaycc.edu
URL:https://tillamookchamber.org/event/north-coast-throwdown-cornhole-tournament-3/
LOCATION:Tillamook County Fairgrounds\, 4603 3rd St\, Tillamook\, OR\, 97141\, United States
CATEGORIES:Community,Family Fun
END:VEVENT
BEGIN:VEVENT
DTSTART;TZID=America/Los_Angeles:20250315T100000
DTEND;TZID=America/Los_Angeles:20250315T170000
DTSTAMP:20260423T032952
CREATED:20250218T181307Z
LAST-MODIFIED:20250218T190828Z
UID:10018257-1742032800-1742058000@tillamookchamber.org
SUMMARY:Spring Bazaar
DESCRIPTION:The Tillamook County Fair Board would like to invite you to their annual Spring Bazaar to be held at the Tillamook County Fairgrounds\, March 14th\, 12:00pm – 7:00pm and March 15th\, 10:00am – 5:00pm.\n\n 
URL:https://tillamookchamber.org/event/spring-bazaar-3/2025-03-15/
LOCATION:Tillamook County Fairgrounds\, 4603 3rd St\, Tillamook\, OR\, 97141\, United States
CATEGORIES:Community,Family Fun,Shopping and Sales
END:VEVENT
BEGIN:VEVENT
DTSTART;TZID=America/Los_Angeles:20250314T120000
DTEND;TZID=America/Los_Angeles:20250314T190000
DTSTAMP:20260423T032952
CREATED:20250218T181307Z
LAST-MODIFIED:20250218T190828Z
UID:10018256-1741953600-1741978800@tillamookchamber.org
SUMMARY:Spring Bazaar
DESCRIPTION:The Tillamook County Fair Board would like to invite you to their annual Spring Bazaar to be held at the Tillamook County Fairgrounds\, March 14th\, 12:00pm – 7:00pm and March 15th\, 10:00am – 5:00pm.\n\n 
URL:https://tillamookchamber.org/event/spring-bazaar-3/2025-03-14/
LOCATION:Tillamook County Fairgrounds\, 4603 3rd St\, Tillamook\, OR\, 97141\, United States
CATEGORIES:Community,Family Fun,Shopping and Sales
END:VEVENT
BEGIN:VEVENT
DTSTART;TZID=America/Los_Angeles:20250308T173000
DTEND;TZID=America/Los_Angeles:20250308T220000
DTSTAMP:20260423T032952
CREATED:20250212T190520Z
LAST-MODIFIED:20250212T190520Z
UID:10017870-1741455000-1741471200@tillamookchamber.org
SUMMARY:Bulls n Broncs
DESCRIPTION:Hold onto your hats\, folks! We’re wrangling the wild broncs and bulls back for a coastal bash like no other! Get ready for a rip-roaring good time featuring tasty grub\, fun merch\, and giveaways! Buy your tickets online before they are sold out.
URL:https://tillamookchamber.org/event/bulls-n-broncs-2/
LOCATION:Tillamook County Fairgrounds\, 4603 3rd St\, Tillamook\, OR\, 97141\, United States
CATEGORIES:Community,Family Fun
END:VEVENT
BEGIN:VEVENT
DTSTART;TZID=America/Los_Angeles:20250308T173000
DTEND;TZID=America/Los_Angeles:20250308T213000
DTSTAMP:20260423T032952
CREATED:20250120T230618Z
LAST-MODIFIED:20250120T230618Z
UID:10017774-1741455000-1741469400@tillamookchamber.org
SUMMARY:Bulls & Broncs
DESCRIPTION:Hold onto your hats\, folks! We’re wrangling the wild broncs and bulls back for a coastal bash like no other! Get ready for a rip-roaring good time featuring tasty grub\, fun merch\, and giveaways! And the best part? You’ll have a front-row seat to all the action at the Pavilion Indoor Arena—where every seat feels like VIP!\n\nGet your tickets today! https://aftontickets.com/bullsandbroncs\n*all sales are final and non-refundable*
URL:https://tillamookchamber.org/event/bulls-broncs-2/
LOCATION:Tillamook County Fairgrounds\, 4603 3rd St\, Tillamook\, OR\, 97141\, United States
CATEGORIES:Community,Family Fun
ATTACH;FMTTYPE=image/jpeg:https://tillamookchamber.org/wp-content/uploads/2025/01/BullsBroncs-logo.jpg
END:VEVENT
BEGIN:VEVENT
DTSTART;TZID=America/Los_Angeles:20241227T130000
DTEND;TZID=America/Los_Angeles:20241227T160000
DTSTAMP:20260423T032952
CREATED:20241216T223026Z
LAST-MODIFIED:20241216T223026Z
UID:10017442-1735304400-1735315200@tillamookchamber.org
SUMMARY:Open Skate
DESCRIPTION:Come join us for Open Skate\, $5 if you use our skates\, $4 if you have your own.
URL:https://tillamookchamber.org/event/open-skate-8/
LOCATION:Tillamook County Fairgrounds\, 4603 3rd St\, Tillamook\, OR\, 97141\, United States
CATEGORIES:Community,Family Fun
ATTACH;FMTTYPE=image/jpeg:https://tillamookchamber.org/wp-content/uploads/2024/12/Skating.jpg
END:VEVENT
END:VCALENDAR