BEGIN:VCALENDAR
VERSION:2.0
PRODID:-//Tillamook Area Chamber of Commerce - ECPv6.15.20//NONSGML v1.0//EN
CALSCALE:GREGORIAN
METHOD:PUBLISH
X-WR-CALNAME:Tillamook Area Chamber of Commerce
X-ORIGINAL-URL:https://tillamookchamber.org
X-WR-CALDESC:Events for Tillamook Area Chamber of Commerce
REFRESH-INTERVAL;VALUE=DURATION:PT1H
X-Robots-Tag:noindex
X-PUBLISHED-TTL:PT1H
BEGIN:VTIMEZONE
TZID:America/Los_Angeles
BEGIN:DAYLIGHT
TZOFFSETFROM:-0800
TZOFFSETTO:-0700
TZNAME:PDT
DTSTART:20240310T100000
END:DAYLIGHT
BEGIN:STANDARD
TZOFFSETFROM:-0700
TZOFFSETTO:-0800
TZNAME:PST
DTSTART:20241103T090000
END:STANDARD
BEGIN:DAYLIGHT
TZOFFSETFROM:-0800
TZOFFSETTO:-0700
TZNAME:PDT
DTSTART:20250309T100000
END:DAYLIGHT
BEGIN:STANDARD
TZOFFSETFROM:-0700
TZOFFSETTO:-0800
TZNAME:PST
DTSTART:20251102T090000
END:STANDARD
BEGIN:DAYLIGHT
TZOFFSETFROM:-0800
TZOFFSETTO:-0700
TZNAME:PDT
DTSTART:20260308T100000
END:DAYLIGHT
BEGIN:STANDARD
TZOFFSETFROM:-0700
TZOFFSETTO:-0800
TZNAME:PST
DTSTART:20261101T090000
END:STANDARD
END:VTIMEZONE
BEGIN:VEVENT
DTSTART;TZID=America/Los_Angeles:20250921T130000
DTEND;TZID=America/Los_Angeles:20250921T150000
DTSTAMP:20260421T135825
CREATED:20250915T161240Z
LAST-MODIFIED:20250915T161240Z
UID:10025523-1758459600-1758466800@tillamookchamber.org
SUMMARY:The Goonies at Tillamook Coliseum
DESCRIPTION:Grab your friends and family for a special big-screen showing of the beloved classic The Goonies\, filmed right here on the Oregon Coast! \nThis community event will be held at the Tillamook Coliseum\, with all proceeds supporting an unforgettable educational trip to Washington\, D.C. for local 8th graders. \nDon’t miss this chance to relive the adventure\, support our students\, and celebrate a movie that put our coast on the map!
URL:https://tillamookchamber.org/event/the-goonies-at-tillamook-coliseum/
LOCATION:Tillamook Coliseum Theater\, 310 Main Ave. Tillamook
CATEGORIES:Community,Family Fun,Fundraisers
ATTACH;FMTTYPE=image/png:https://tillamookchamber.org/wp-content/uploads/2025/09/Goonies-movie-takeover.png
END:VEVENT
BEGIN:VEVENT
DTSTART;TZID=America/Los_Angeles:20250822T150000
DTEND;TZID=America/Los_Angeles:20250822T170000
DTSTAMP:20260421T135825
CREATED:20250722T234626Z
LAST-MODIFIED:20250722T234626Z
UID:10023256-1755874800-1755882000@tillamookchamber.org
SUMMARY:End of Summer Reading Movie Celebration
DESCRIPTION:To celebrate the end of this year’s Summer Reading Program we present a special screening of Minecraft (2025) at the Tillamook Coliseum movie theater!\n\nParticipants can claim a ticket (good for them and a plus one) by showing their game board at the desk at any Tillamook County Library! Supplies limited!
URL:https://tillamookchamber.org/event/end-of-summer-reading-movie-celebration/
LOCATION:Tillamook Coliseum Theater\, 310 Main Ave. Tillamook
CATEGORIES:Community,Family Fun
ATTACH;FMTTYPE=image/png:https://tillamookchamber.org/wp-content/uploads/2025/07/SRP-at-Coliseum-Theater1.png
END:VEVENT
BEGIN:VEVENT
DTSTART;TZID=America/Los_Angeles:20250202T180000
DTEND;TZID=America/Los_Angeles:20250202T193000
DTSTAMP:20260421T135825
CREATED:20250124T002159Z
LAST-MODIFIED:20250124T002159Z
UID:10017779-1738519200-1738524600@tillamookchamber.org
SUMMARY:Worship at the Coliseum Theater
DESCRIPTION:Worship at the Coliseum is Back! \n\n\n\nWe’re so excited to announce our next Worship at the Coliseum event—a night dedicated to worship and celebrating God’s goodness! \n\n\n When: February 2nd at 6 PM\n Where: Tillamook Coliseum\n\n\n\nThis isn’t just a church event—it’s a chance for those who might not come to a church but would come to a movie theater instead. \n\n\n\nOur goal:\n Encourage believers with powerful worship.\n Convict and challenge people through the life-changing love of Jesus.\n\n\n\nStart inviting now!\n\nLet’s fill the theater with hearts ready to encounter God. \n\n\nFor more info on Living Water Fellowship the church putting this event on head to livingwatercoast.com
URL:https://tillamookchamber.org/event/worship-at-the-coliseum-theater/
LOCATION:Tillamook Coliseum Theater\, 310 Main Ave. Tillamook
CATEGORIES:Community
ATTACH;FMTTYPE=image/png:https://tillamookchamber.org/wp-content/uploads/2025/01/IMG_7249-copy.png
END:VEVENT
END:VCALENDAR