BEGIN:VCALENDAR
VERSION:2.0
PRODID:-//Tillamook Area Chamber of Commerce - ECPv6.15.20//NONSGML v1.0//EN
CALSCALE:GREGORIAN
METHOD:PUBLISH
X-WR-CALNAME:Tillamook Area Chamber of Commerce
X-ORIGINAL-URL:https://tillamookchamber.org
X-WR-CALDESC:Events for Tillamook Area Chamber of Commerce
REFRESH-INTERVAL;VALUE=DURATION:PT1H
X-Robots-Tag:noindex
X-PUBLISHED-TTL:PT1H
BEGIN:VTIMEZONE
TZID:America/Los_Angeles
BEGIN:DAYLIGHT
TZOFFSETFROM:-0800
TZOFFSETTO:-0700
TZNAME:PDT
DTSTART:20290311T100000
END:DAYLIGHT
BEGIN:STANDARD
TZOFFSETFROM:-0700
TZOFFSETTO:-0800
TZNAME:PST
DTSTART:20291104T090000
END:STANDARD
BEGIN:DAYLIGHT
TZOFFSETFROM:-0800
TZOFFSETTO:-0700
TZNAME:PDT
DTSTART:20300310T100000
END:DAYLIGHT
BEGIN:STANDARD
TZOFFSETFROM:-0700
TZOFFSETTO:-0800
TZNAME:PST
DTSTART:20301103T090000
END:STANDARD
BEGIN:DAYLIGHT
TZOFFSETFROM:-0800
TZOFFSETTO:-0700
TZNAME:PDT
DTSTART:20310309T100000
END:DAYLIGHT
BEGIN:STANDARD
TZOFFSETFROM:-0700
TZOFFSETTO:-0800
TZNAME:PST
DTSTART:20311102T090000
END:STANDARD
END:VTIMEZONE
BEGIN:VEVENT
DTSTART;TZID=America/Los_Angeles:20300521T080000
DTEND;TZID=America/Los_Angeles:20300521T090000
DTSTAMP:20260425T031914
CREATED:20260109T005453Z
LAST-MODIFIED:20260109T005454Z
UID:10021511-1905580800-1905584400@tillamookchamber.org
SUMMARY:Mornings on Main Street
DESCRIPTION:Join the Chamber for our monthly neighbor chat\, an informal coffee and discussion of things happening around town. Conversations range from events to new business opening and who is looking for help. This is a great opportunity to get in touch with our business and retail community\, as well as many of the non-profits\, government officials\, service groups and community leaders. Conversations are always casual and fun\, and there is always plenty of coffee and some breakfast treats. Doors open at 8 a.m.\, and typically come to an end by 9 a.m. Feel free to swing in at any time within the hour. We would be happy to see you pop in.\n\nMornings on Main Street is proudly sponsored by the Tillamook branch of Columbia Bank.
URL:https://tillamookchamber.org/event/mornings-on-main-street-7-2-2/2030-05-21/
LOCATION:Tillamook Area Chamber of Commerce\, 208 Main Ave.\, Tillamook\, OR\, 97141\, United States
CATEGORIES:Business,Community,Public Meetings
ATTACH;FMTTYPE=image/jpeg:https://tillamookchamber.org/wp-content/uploads/2025/08/MOrnings-Instagram-Post.jpg
END:VEVENT
BEGIN:VEVENT
DTSTART;TZID=America/Los_Angeles:20300618T080000
DTEND;TZID=America/Los_Angeles:20300618T090000
DTSTAMP:20260425T031914
CREATED:20260109T005453Z
LAST-MODIFIED:20260109T005454Z
UID:10025262-1908000000-1908003600@tillamookchamber.org
SUMMARY:Mornings on Main Street
DESCRIPTION:Join the Chamber for our monthly neighbor chat\, an informal coffee and discussion of things happening around town. Conversations range from events to new business opening and who is looking for help. This is a great opportunity to get in touch with our business and retail community\, as well as many of the non-profits\, government officials\, service groups and community leaders. Conversations are always casual and fun\, and there is always plenty of coffee and some breakfast treats. Doors open at 8 a.m.\, and typically come to an end by 9 a.m. Feel free to swing in at any time within the hour. We would be happy to see you pop in.\n\nMornings on Main Street is proudly sponsored by the Tillamook branch of Columbia Bank.
URL:https://tillamookchamber.org/event/mornings-on-main-street-7-2-2/2030-06-18/
LOCATION:Tillamook Area Chamber of Commerce\, 208 Main Ave.\, Tillamook\, OR\, 97141\, United States
CATEGORIES:Business,Community,Public Meetings
ATTACH;FMTTYPE=image/jpeg:https://tillamookchamber.org/wp-content/uploads/2025/08/MOrnings-Instagram-Post.jpg
END:VEVENT
BEGIN:VEVENT
DTSTART;TZID=America/Los_Angeles:20300716T080000
DTEND;TZID=America/Los_Angeles:20300716T090000
DTSTAMP:20260425T031914
CREATED:20260109T005453Z
LAST-MODIFIED:20260109T005454Z
UID:10025263-1910419200-1910422800@tillamookchamber.org
SUMMARY:Mornings on Main Street
DESCRIPTION:Join the Chamber for our monthly neighbor chat\, an informal coffee and discussion of things happening around town. Conversations range from events to new business opening and who is looking for help. This is a great opportunity to get in touch with our business and retail community\, as well as many of the non-profits\, government officials\, service groups and community leaders. Conversations are always casual and fun\, and there is always plenty of coffee and some breakfast treats. Doors open at 8 a.m.\, and typically come to an end by 9 a.m. Feel free to swing in at any time within the hour. We would be happy to see you pop in.\n\nMornings on Main Street is proudly sponsored by the Tillamook branch of Columbia Bank.
URL:https://tillamookchamber.org/event/mornings-on-main-street-7-2-2/2030-07-16/
LOCATION:Tillamook Area Chamber of Commerce\, 208 Main Ave.\, Tillamook\, OR\, 97141\, United States
CATEGORIES:Business,Community,Public Meetings
ATTACH;FMTTYPE=image/jpeg:https://tillamookchamber.org/wp-content/uploads/2025/08/MOrnings-Instagram-Post.jpg
END:VEVENT
BEGIN:VEVENT
DTSTART;TZID=America/Los_Angeles:20300820T080000
DTEND;TZID=America/Los_Angeles:20300820T090000
DTSTAMP:20260425T031914
CREATED:20260109T005453Z
LAST-MODIFIED:20260109T005454Z
UID:10029328-1913443200-1913446800@tillamookchamber.org
SUMMARY:Mornings on Main Street
DESCRIPTION:Join the Chamber for our monthly neighbor chat\, an informal coffee and discussion of things happening around town. Conversations range from events to new business opening and who is looking for help. This is a great opportunity to get in touch with our business and retail community\, as well as many of the non-profits\, government officials\, service groups and community leaders. Conversations are always casual and fun\, and there is always plenty of coffee and some breakfast treats. Doors open at 8 a.m.\, and typically come to an end by 9 a.m. Feel free to swing in at any time within the hour. We would be happy to see you pop in.\n\nMornings on Main Street is proudly sponsored by the Tillamook branch of Columbia Bank.
URL:https://tillamookchamber.org/event/mornings-on-main-street-7-2-2/2030-08-20/
LOCATION:Tillamook Area Chamber of Commerce\, 208 Main Ave.\, Tillamook\, OR\, 97141\, United States
CATEGORIES:Business,Community,Public Meetings
ATTACH;FMTTYPE=image/jpeg:https://tillamookchamber.org/wp-content/uploads/2025/08/MOrnings-Instagram-Post.jpg
END:VEVENT
BEGIN:VEVENT
DTSTART;TZID=America/Los_Angeles:20300917T080000
DTEND;TZID=America/Los_Angeles:20300917T090000
DTSTAMP:20260425T031914
CREATED:20260109T005453Z
LAST-MODIFIED:20260109T005454Z
UID:10029329-1915862400-1915866000@tillamookchamber.org
SUMMARY:Mornings on Main Street
DESCRIPTION:Join the Chamber for our monthly neighbor chat\, an informal coffee and discussion of things happening around town. Conversations range from events to new business opening and who is looking for help. This is a great opportunity to get in touch with our business and retail community\, as well as many of the non-profits\, government officials\, service groups and community leaders. Conversations are always casual and fun\, and there is always plenty of coffee and some breakfast treats. Doors open at 8 a.m.\, and typically come to an end by 9 a.m. Feel free to swing in at any time within the hour. We would be happy to see you pop in.\n\nMornings on Main Street is proudly sponsored by the Tillamook branch of Columbia Bank.
URL:https://tillamookchamber.org/event/mornings-on-main-street-7-2-2/2030-09-17/
LOCATION:Tillamook Area Chamber of Commerce\, 208 Main Ave.\, Tillamook\, OR\, 97141\, United States
CATEGORIES:Business,Community,Public Meetings
ATTACH;FMTTYPE=image/jpeg:https://tillamookchamber.org/wp-content/uploads/2025/08/MOrnings-Instagram-Post.jpg
END:VEVENT
BEGIN:VEVENT
DTSTART;TZID=America/Los_Angeles:20301015T080000
DTEND;TZID=America/Los_Angeles:20301015T090000
DTSTAMP:20260425T031914
CREATED:20260109T005453Z
LAST-MODIFIED:20260109T005454Z
UID:10029330-1918281600-1918285200@tillamookchamber.org
SUMMARY:Mornings on Main Street
DESCRIPTION:Join the Chamber for our monthly neighbor chat\, an informal coffee and discussion of things happening around town. Conversations range from events to new business opening and who is looking for help. This is a great opportunity to get in touch with our business and retail community\, as well as many of the non-profits\, government officials\, service groups and community leaders. Conversations are always casual and fun\, and there is always plenty of coffee and some breakfast treats. Doors open at 8 a.m.\, and typically come to an end by 9 a.m. Feel free to swing in at any time within the hour. We would be happy to see you pop in.\n\nMornings on Main Street is proudly sponsored by the Tillamook branch of Columbia Bank.
URL:https://tillamookchamber.org/event/mornings-on-main-street-7-2-2/2030-10-15/
LOCATION:Tillamook Area Chamber of Commerce\, 208 Main Ave.\, Tillamook\, OR\, 97141\, United States
CATEGORIES:Business,Community,Public Meetings
ATTACH;FMTTYPE=image/jpeg:https://tillamookchamber.org/wp-content/uploads/2025/08/MOrnings-Instagram-Post.jpg
END:VEVENT
BEGIN:VEVENT
DTSTART;TZID=America/Los_Angeles:20301119T080000
DTEND;TZID=America/Los_Angeles:20301119T090000
DTSTAMP:20260425T031914
CREATED:20260109T005453Z
LAST-MODIFIED:20260109T005454Z
UID:10029331-1921305600-1921309200@tillamookchamber.org
SUMMARY:Mornings on Main Street
DESCRIPTION:Join the Chamber for our monthly neighbor chat\, an informal coffee and discussion of things happening around town. Conversations range from events to new business opening and who is looking for help. This is a great opportunity to get in touch with our business and retail community\, as well as many of the non-profits\, government officials\, service groups and community leaders. Conversations are always casual and fun\, and there is always plenty of coffee and some breakfast treats. Doors open at 8 a.m.\, and typically come to an end by 9 a.m. Feel free to swing in at any time within the hour. We would be happy to see you pop in.\n\nMornings on Main Street is proudly sponsored by the Tillamook branch of Columbia Bank.
URL:https://tillamookchamber.org/event/mornings-on-main-street-7-2-2/2030-11-19/
LOCATION:Tillamook Area Chamber of Commerce\, 208 Main Ave.\, Tillamook\, OR\, 97141\, United States
CATEGORIES:Business,Community,Public Meetings
ATTACH;FMTTYPE=image/jpeg:https://tillamookchamber.org/wp-content/uploads/2025/08/MOrnings-Instagram-Post.jpg
END:VEVENT
BEGIN:VEVENT
DTSTART;TZID=America/Los_Angeles:20301217T080000
DTEND;TZID=America/Los_Angeles:20301217T090000
DTSTAMP:20260425T031914
CREATED:20260109T005453Z
LAST-MODIFIED:20260109T005454Z
UID:10029332-1923724800-1923728400@tillamookchamber.org
SUMMARY:Mornings on Main Street
DESCRIPTION:Join the Chamber for our monthly neighbor chat\, an informal coffee and discussion of things happening around town. Conversations range from events to new business opening and who is looking for help. This is a great opportunity to get in touch with our business and retail community\, as well as many of the non-profits\, government officials\, service groups and community leaders. Conversations are always casual and fun\, and there is always plenty of coffee and some breakfast treats. Doors open at 8 a.m.\, and typically come to an end by 9 a.m. Feel free to swing in at any time within the hour. We would be happy to see you pop in.\n\nMornings on Main Street is proudly sponsored by the Tillamook branch of Columbia Bank.
URL:https://tillamookchamber.org/event/mornings-on-main-street-7-2-2/2030-12-17/
LOCATION:Tillamook Area Chamber of Commerce\, 208 Main Ave.\, Tillamook\, OR\, 97141\, United States
CATEGORIES:Business,Community,Public Meetings
ATTACH;FMTTYPE=image/jpeg:https://tillamookchamber.org/wp-content/uploads/2025/08/MOrnings-Instagram-Post.jpg
END:VEVENT
END:VCALENDAR