BEGIN:VCALENDAR
VERSION:2.0
PRODID:-//Tillamook Area Chamber of Commerce - ECPv6.15.20//NONSGML v1.0//EN
CALSCALE:GREGORIAN
METHOD:PUBLISH
X-WR-CALNAME:Tillamook Area Chamber of Commerce
X-ORIGINAL-URL:https://tillamookchamber.org
X-WR-CALDESC:Events for Tillamook Area Chamber of Commerce
REFRESH-INTERVAL;VALUE=DURATION:PT1H
X-Robots-Tag:noindex
X-PUBLISHED-TTL:PT1H
BEGIN:VTIMEZONE
TZID:America/Los_Angeles
BEGIN:DAYLIGHT
TZOFFSETFROM:-0800
TZOFFSETTO:-0700
TZNAME:PDT
DTSTART:20250309T100000
END:DAYLIGHT
BEGIN:STANDARD
TZOFFSETFROM:-0700
TZOFFSETTO:-0800
TZNAME:PST
DTSTART:20251102T090000
END:STANDARD
BEGIN:DAYLIGHT
TZOFFSETFROM:-0800
TZOFFSETTO:-0700
TZNAME:PDT
DTSTART:20260308T100000
END:DAYLIGHT
BEGIN:STANDARD
TZOFFSETFROM:-0700
TZOFFSETTO:-0800
TZNAME:PST
DTSTART:20261101T090000
END:STANDARD
BEGIN:DAYLIGHT
TZOFFSETFROM:-0800
TZOFFSETTO:-0700
TZNAME:PDT
DTSTART:20270314T100000
END:DAYLIGHT
BEGIN:STANDARD
TZOFFSETFROM:-0700
TZOFFSETTO:-0800
TZNAME:PST
DTSTART:20271107T090000
END:STANDARD
END:VTIMEZONE
BEGIN:VEVENT
DTSTART;TZID=America/Los_Angeles:20260404T190000
DTEND;TZID=America/Los_Angeles:20260404T210000
DTSTAMP:20260423T111642
CREATED:20260331T215515Z
LAST-MODIFIED:20260331T215515Z
UID:10029678-1775329200-1775336400@tillamookchamber.org
SUMMARY:N.E. Daynow at the Tie Breaker in Rockaway
DESCRIPTION:If you’ve ever been to the Tie Breaker in Rockaway Beach\, you’ve probably seen Nancy working her tail off to service customers. She’s a power house and one of a kind and we’re here to help celebrate her birthday! Come on down and join the party…We’re gonna have a good time tonight!
URL:https://tillamookchamber.org/event/n-e-daynow-at-the-tie-breaker-in-rockaway/
LOCATION:Tie Breaker\, 194 Hwy 101\, Rockaway Beach\, 97136
CATEGORIES:Community,Live Music
ATTACH;FMTTYPE=image/jpeg:https://tillamookchamber.org/wp-content/uploads/2026/03/Tie-Breaker-4-4-26.jpg
END:VEVENT
END:VCALENDAR