BEGIN:VCALENDAR
VERSION:2.0
PRODID:-//Tillamook Area Chamber of Commerce - ECPv6.15.20//NONSGML v1.0//EN
CALSCALE:GREGORIAN
METHOD:PUBLISH
X-WR-CALNAME:Tillamook Area Chamber of Commerce
X-ORIGINAL-URL:https://tillamookchamber.org
X-WR-CALDESC:Events for Tillamook Area Chamber of Commerce
REFRESH-INTERVAL;VALUE=DURATION:PT1H
X-Robots-Tag:noindex
X-PUBLISHED-TTL:PT1H
BEGIN:VTIMEZONE
TZID:America/Los_Angeles
BEGIN:DAYLIGHT
TZOFFSETFROM:-0800
TZOFFSETTO:-0700
TZNAME:PDT
DTSTART:20240310T100000
END:DAYLIGHT
BEGIN:STANDARD
TZOFFSETFROM:-0700
TZOFFSETTO:-0800
TZNAME:PST
DTSTART:20241103T090000
END:STANDARD
BEGIN:DAYLIGHT
TZOFFSETFROM:-0800
TZOFFSETTO:-0700
TZNAME:PDT
DTSTART:20250309T100000
END:DAYLIGHT
BEGIN:STANDARD
TZOFFSETFROM:-0700
TZOFFSETTO:-0800
TZNAME:PST
DTSTART:20251102T090000
END:STANDARD
BEGIN:DAYLIGHT
TZOFFSETFROM:-0800
TZOFFSETTO:-0700
TZNAME:PDT
DTSTART:20260308T100000
END:DAYLIGHT
BEGIN:STANDARD
TZOFFSETFROM:-0700
TZOFFSETTO:-0800
TZNAME:PST
DTSTART:20261101T090000
END:STANDARD
END:VTIMEZONE
BEGIN:VEVENT
DTSTART;TZID=America/Los_Angeles:20250427T030000
DTEND;TZID=America/Los_Angeles:20250427T170000
DTSTAMP:20260420T182629
CREATED:20250418T224224Z
LAST-MODIFIED:20250418T224224Z
UID:10020346-1745722800-1745773200@tillamookchamber.org
SUMMARY:2025 Spring Cannon Beach Chorus Concert in Tillamook
DESCRIPTION:Cannon Beach Chorus’s 2025 spring concert celebrates its 37th year of performing fine choral music.   The “Dancing Through Life” concert will be held at St Johns Church of Christ at 602 Laurel Avenue.\n\nThe program will include Dancing Through Life (from “Wicked”)\, Both Sides Now\, When I Am 64\, and many more family-friendly musical favorites. Several pieces feature chorus members as soloists.  Roy Sieber directs and Carson Schulte provides piano accompaniment. The chorus’s singers hail from Astoria to Oceanside.\n\nAn intermission with light refreshments will be offered. Donation tickets are sold at the door:  $15 adults\, children under 16 free.
URL:https://tillamookchamber.org/event/2025-spring-cannon-beach-chorus-concert-in-tillamook/
LOCATION:St John’s Church of Christ\, 602 Laurel Avenue\, Tillamook\, OR 97141
CATEGORIES:Community,Live Music
END:VEVENT
END:VCALENDAR