BEGIN:VCALENDAR
VERSION:2.0
PRODID:-//Tillamook Area Chamber of Commerce - ECPv6.15.20//NONSGML v1.0//EN
CALSCALE:GREGORIAN
METHOD:PUBLISH
X-ORIGINAL-URL:https://tillamookchamber.org
X-WR-CALDESC:Events for Tillamook Area Chamber of Commerce
REFRESH-INTERVAL;VALUE=DURATION:PT1H
X-Robots-Tag:noindex
X-PUBLISHED-TTL:PT1H
BEGIN:VTIMEZONE
TZID:America/Los_Angeles
BEGIN:DAYLIGHT
TZOFFSETFROM:-0800
TZOFFSETTO:-0700
TZNAME:PDT
DTSTART:20240310T100000
END:DAYLIGHT
BEGIN:STANDARD
TZOFFSETFROM:-0700
TZOFFSETTO:-0800
TZNAME:PST
DTSTART:20241103T090000
END:STANDARD
BEGIN:DAYLIGHT
TZOFFSETFROM:-0800
TZOFFSETTO:-0700
TZNAME:PDT
DTSTART:20250309T100000
END:DAYLIGHT
BEGIN:STANDARD
TZOFFSETFROM:-0700
TZOFFSETTO:-0800
TZNAME:PST
DTSTART:20251102T090000
END:STANDARD
BEGIN:DAYLIGHT
TZOFFSETFROM:-0800
TZOFFSETTO:-0700
TZNAME:PDT
DTSTART:20260308T100000
END:DAYLIGHT
BEGIN:STANDARD
TZOFFSETFROM:-0700
TZOFFSETTO:-0800
TZNAME:PST
DTSTART:20261101T090000
END:STANDARD
END:VTIMEZONE
BEGIN:VEVENT
DTSTART;TZID=America/Los_Angeles:20250205T180000
DTEND;TZID=America/Los_Angeles:20250205T190000
DTSTAMP:20260423T131235
CREATED:20250128T184854Z
LAST-MODIFIED:20250128T184854Z
UID:10017786-1738778400-1738782000@tillamookchamber.org
SUMMARY:Rockaway Beach Emergency Preparedness Monthly Class
DESCRIPTION:Did you know? Approximately 40% of trauma-related deaths worldwide are due to bleeding or its consequences and uncontrolled bleeding is a major cause of preventable deaths.\n\nJoin Rockaway Beach Fire Rescue and Rockaway Beach Emergency Preparedness and learn this important life saving skill.\n\nClass presented by Rockaway Beach Fire Rescue Captain Paramedic Geoff Grace.
URL:https://tillamookchamber.org/event/rockaway-beach-emergency-preparedness-monthly-class/
LOCATION:Rockaway Beach City Hall\, 276 Hwy 101 S. Rockaway Beach OR 97136
CATEGORIES:Business,Classes and Workshops,Community
ATTACH;FMTTYPE=image/jpeg:https://tillamookchamber.org/wp-content/uploads/2025/01/Image-1-28-25-at-9.38 AM.jpeg
END:VEVENT
END:VCALENDAR