BEGIN:VCALENDAR
VERSION:2.0
PRODID:-//Tillamook Area Chamber of Commerce - ECPv6.15.20//NONSGML v1.0//EN
CALSCALE:GREGORIAN
METHOD:PUBLISH
X-ORIGINAL-URL:https://tillamookchamber.org
X-WR-CALDESC:Events for Tillamook Area Chamber of Commerce
REFRESH-INTERVAL;VALUE=DURATION:PT1H
X-Robots-Tag:noindex
X-PUBLISHED-TTL:PT1H
BEGIN:VTIMEZONE
TZID:America/Los_Angeles
BEGIN:DAYLIGHT
TZOFFSETFROM:-0800
TZOFFSETTO:-0700
TZNAME:PDT
DTSTART:20240310T100000
END:DAYLIGHT
BEGIN:STANDARD
TZOFFSETFROM:-0700
TZOFFSETTO:-0800
TZNAME:PST
DTSTART:20241103T090000
END:STANDARD
BEGIN:DAYLIGHT
TZOFFSETFROM:-0800
TZOFFSETTO:-0700
TZNAME:PDT
DTSTART:20250309T100000
END:DAYLIGHT
BEGIN:STANDARD
TZOFFSETFROM:-0700
TZOFFSETTO:-0800
TZNAME:PST
DTSTART:20251102T090000
END:STANDARD
BEGIN:DAYLIGHT
TZOFFSETFROM:-0800
TZOFFSETTO:-0700
TZNAME:PDT
DTSTART:20260308T100000
END:DAYLIGHT
BEGIN:STANDARD
TZOFFSETFROM:-0700
TZOFFSETTO:-0800
TZNAME:PST
DTSTART:20261101T090000
END:STANDARD
END:VTIMEZONE
BEGIN:VEVENT
DTSTART;TZID=America/Los_Angeles:20250803T130000
DTEND;TZID=America/Los_Angeles:20250803T160000
DTSTAMP:20260419T230119
CREATED:20250724T213340Z
LAST-MODIFIED:20250724T213340Z
UID:10023258-1754226000-1754236800@tillamookchamber.org
SUMMARY:Coast Guard Appreciation Day
DESCRIPTION:Join us in Garibaldi to honor\, celebrate and show our gratitude to the brave men and women of the United States Coast Guard for their dedication and service.\n\nThis is a family friendly event with welcome ceremony\, national anthem and live music\, food and drinks\, water balloon toss and other fun outdoor games and the 2nd “annual” Bubble Ball Soccer Match between local USCG and Fire Department members (begins at 2PM).
URL:https://tillamookchamber.org/event/coast-guard-appreciation-day/
LOCATION:Port of Garibaldi Event Tent\, 107 Jerry Creasy\, Garibaldi\, OR 97118\, OR\, United States
CATEGORIES:Community,Family Fun
ATTACH;FMTTYPE=image/png:https://tillamookchamber.org/wp-content/uploads/2025/07/Copy-of-Coast-Guard-Week-Schedule_20250723_121753_0000.png
END:VEVENT
END:VCALENDAR