BEGIN:VCALENDAR
VERSION:2.0
PRODID:-//Tillamook Area Chamber of Commerce - ECPv6.15.20//NONSGML v1.0//EN
CALSCALE:GREGORIAN
METHOD:PUBLISH
X-WR-CALNAME:Tillamook Area Chamber of Commerce
X-ORIGINAL-URL:https://tillamookchamber.org
X-WR-CALDESC:Events for Tillamook Area Chamber of Commerce
REFRESH-INTERVAL;VALUE=DURATION:PT1H
X-Robots-Tag:noindex
X-PUBLISHED-TTL:PT1H
BEGIN:VTIMEZONE
TZID:America/Los_Angeles
BEGIN:DAYLIGHT
TZOFFSETFROM:-0800
TZOFFSETTO:-0700
TZNAME:PDT
DTSTART:20240310T100000
END:DAYLIGHT
BEGIN:STANDARD
TZOFFSETFROM:-0700
TZOFFSETTO:-0800
TZNAME:PST
DTSTART:20241103T090000
END:STANDARD
BEGIN:DAYLIGHT
TZOFFSETFROM:-0800
TZOFFSETTO:-0700
TZNAME:PDT
DTSTART:20250309T100000
END:DAYLIGHT
BEGIN:STANDARD
TZOFFSETFROM:-0700
TZOFFSETTO:-0800
TZNAME:PST
DTSTART:20251102T090000
END:STANDARD
BEGIN:DAYLIGHT
TZOFFSETFROM:-0800
TZOFFSETTO:-0700
TZNAME:PDT
DTSTART:20260308T100000
END:DAYLIGHT
BEGIN:STANDARD
TZOFFSETFROM:-0700
TZOFFSETTO:-0800
TZNAME:PST
DTSTART:20261101T090000
END:STANDARD
END:VTIMEZONE
BEGIN:VEVENT
DTSTART;TZID=America/Los_Angeles:20251004T120000
DTEND;TZID=America/Los_Angeles:20251004T173000
DTSTAMP:20260421T140156
CREATED:20250613T232311Z
LAST-MODIFIED:20250613T232311Z
UID:10022100-1759579200-1759599000@tillamookchamber.org
SUMMARY:Manzanita Film Festival
DESCRIPTION:The inaugural Manzanita Film Festival is dedicated to celebrating the rich cinematic heritage of the Pacific Northwest region. \nA one day in-person event held in the picturesque coastal town of Manzanita\, Oregon\, this festival aims to showcase films that capture the essence\, culture\, crafts\, and stories unique to the Pacific Northwest with a special consideration for the Oregon coast. \nBy highlighting the creative achievements of filmmakers from our region\, we aim to foster community pride\, inspire creativity\, and provide a platform for local filmmakers to share their work with a broader audience.
URL:https://tillamookchamber.org/event/manzanita-film-festival/
LOCATION:Pine Grove Community House\, 225 Laneda Ave\, Manzanita\, OR\, 97130\, United States
CATEGORIES:Community
ATTACH;FMTTYPE=image/png:https://tillamookchamber.org/wp-content/uploads/2025/06/manzanitafilmfestival-logo.png
END:VEVENT
BEGIN:VEVENT
DTSTART;TZID=America/Los_Angeles:20250604T110000
DTEND;TZID=America/Los_Angeles:20250604T130000
DTSTAMP:20260421T140156
CREATED:20250430T214423Z
LAST-MODIFIED:20250430T214423Z
UID:10021241-1749034800-1749042000@tillamookchamber.org
SUMMARY:Tsunami 101 Roadshow - North County Stop
DESCRIPTION:Join us for a free\, two-hour session of expert-driven discussion and practical steps you can take to stay safe before\, during\, and after a disaster! \nThe Oregon Department of Emergency Management (OEM) has teamed up with the Oregon Department of Geology and Mineral Industries (DOGAMI) and the National Weather Service (NWS) to bring a comprehensive overview of earthquakes and tsunamis to Tillamook County. \nThis session will feature expert-led presentations on the science behind earthquakes and tsunamis\, how alerts are triggered and broadcasted\, and what you can do now to be better prepared when a disaster strikes. \nThere will be time for questions and open discussion after the presentations—so bring your curiosity and take advantage of this opportunity to learn from the experts and connect with the people working to keep Oregon safe.
URL:https://tillamookchamber.org/event/tsunami-101-roadshow-north-county-stop-2/2025-06-04/2/
LOCATION:Pine Grove Community House\, 225 Laneda Ave\, Manzanita\, OR\, 97130\, United States
CATEGORIES:Community,Education
END:VEVENT
BEGIN:VEVENT
DTSTART;TZID=America/Los_Angeles:20250604T110000
DTEND;TZID=America/Los_Angeles:20250604T130000
DTSTAMP:20260421T140156
CREATED:20250425T194907Z
LAST-MODIFIED:20250425T194907Z
UID:10021242-1749034800-1749042000@tillamookchamber.org
SUMMARY:Tsunami 101 Roadshow - North County Stop
DESCRIPTION:Join us for a free\, two-hour session of expert-driven discussion and practical steps you can take to stay safe before\, during\, and after a disaster!\n\nThe Oregon Department of Emergency Management (OEM) has teamed up with the Oregon Department of Geology and Mineral Industries (DOGAMI) and the National Weather Service (NWS) to bring a comprehensive overview of earthquakes and tsunamis to Tillamook County.\n\nThis session will feature expert-led presentations on the science behind earthquakes and tsunamis\, how alerts are triggered and broadcasted\, and what you can do now to be better prepared when a disaster strikes.\n\nThere will be time for questions and open discussion after the presentations—so bring your curiosity and take advantage of this opportunity to learn from the experts and connect with the people working to keep Oregon safe.
URL:https://tillamookchamber.org/event/tsunami-101-roadshow-north-county-stop/
LOCATION:Pine Grove Community House\, 225 Laneda Ave\, Manzanita\, OR\, 97130\, United States
CATEGORIES:Community,Education
ATTACH;FMTTYPE=image/png:https://tillamookchamber.org/wp-content/uploads/2025/04/Tsunami101RoadShow_TILLAMOOKb-1.png
END:VEVENT
BEGIN:VEVENT
DTSTART;TZID=America/Los_Angeles:20250604T080000
DTEND;TZID=America/Los_Angeles:20250604T170000
DTSTAMP:20260421T140156
CREATED:20250430T214423Z
LAST-MODIFIED:20250430T214423Z
UID:10021240-1749024000-1749056400@tillamookchamber.org
SUMMARY:Tsunami 101 Roadshow - North County Stop
DESCRIPTION:Join us for a free\, two-hour session of expert-driven discussion and practical steps you can take to stay safe before\, during\, and after a disaster! \nThe Oregon Department of Emergency Management (OEM) has teamed up with the Oregon Department of Geology and Mineral Industries (DOGAMI) and the National Weather Service (NWS) to bring a comprehensive overview of earthquakes and tsunamis to Tillamook County. \nThis session will feature expert-led presentations on the science behind earthquakes and tsunamis\, how alerts are triggered and broadcasted\, and what you can do now to be better prepared when a disaster strikes. \nThere will be time for questions and open discussion after the presentations—so bring your curiosity and take advantage of this opportunity to learn from the experts and connect with the people working to keep Oregon safe.
URL:https://tillamookchamber.org/event/tsunami-101-roadshow-north-county-stop-2/2025-06-04/1/
LOCATION:Pine Grove Community House\, 225 Laneda Ave\, Manzanita\, OR\, 97130\, United States
CATEGORIES:Community,Education
END:VEVENT
END:VCALENDAR