BEGIN:VCALENDAR
VERSION:2.0
PRODID:-//Tillamook Area Chamber of Commerce - ECPv6.15.20//NONSGML v1.0//EN
CALSCALE:GREGORIAN
METHOD:PUBLISH
X-ORIGINAL-URL:https://tillamookchamber.org
X-WR-CALDESC:Events for Tillamook Area Chamber of Commerce
REFRESH-INTERVAL;VALUE=DURATION:PT1H
X-Robots-Tag:noindex
X-PUBLISHED-TTL:PT1H
BEGIN:VTIMEZONE
TZID:America/Los_Angeles
BEGIN:DAYLIGHT
TZOFFSETFROM:-0800
TZOFFSETTO:-0700
TZNAME:PDT
DTSTART:20250309T100000
END:DAYLIGHT
BEGIN:STANDARD
TZOFFSETFROM:-0700
TZOFFSETTO:-0800
TZNAME:PST
DTSTART:20251102T090000
END:STANDARD
BEGIN:DAYLIGHT
TZOFFSETFROM:-0800
TZOFFSETTO:-0700
TZNAME:PDT
DTSTART:20260308T100000
END:DAYLIGHT
BEGIN:STANDARD
TZOFFSETFROM:-0700
TZOFFSETTO:-0800
TZNAME:PST
DTSTART:20261101T090000
END:STANDARD
BEGIN:DAYLIGHT
TZOFFSETFROM:-0800
TZOFFSETTO:-0700
TZNAME:PDT
DTSTART:20270314T100000
END:DAYLIGHT
BEGIN:STANDARD
TZOFFSETFROM:-0700
TZOFFSETTO:-0800
TZNAME:PST
DTSTART:20271107T090000
END:STANDARD
END:VTIMEZONE
BEGIN:VEVENT
DTSTART;TZID=America/Los_Angeles:20260314T180000
DTEND;TZID=America/Los_Angeles:20260314T210000
DTSTAMP:20260425T074744
CREATED:20260216T185712Z
LAST-MODIFIED:20260216T185712Z
UID:10029536-1773511200-1773522000@tillamookchamber.org
SUMMARY:Mr. Lager's Brewers Dinner at Pelican Brewing
DESCRIPTION:Join us for an oceanfront Brewers Dinner\, celebrating a collaborative beer crafted by Pelican’s Darron Welch and Grand Fir’s Whitney Burnside. The evening’s 5-cours menu will be perfected by the two breweries’ talented chefs\, Sabrina Chapman and Doug Adams. Together\, they will be pairing thoughtful\, seasonal cuisine with a light lager focus from both breweries to highlight this exceptional team of craft and culinary artists.\n\nAge 21+\n\nTo reserve your tickets\, contact events@pelicanbrewing.com or 503-965-3674
URL:https://tillamookchamber.org/event/mr-lagers-brewers-dinner-at-pelican-brewing/
LOCATION:Pelican Brewing\, 33180 Cape Kiwanda Drive
CATEGORIES:Community
ATTACH;FMTTYPE=image/png:https://tillamookchamber.org/wp-content/uploads/2026/02/Brewers-Dinner-Mr-Lager-3.14.26-1.png
END:VEVENT
END:VCALENDAR