BEGIN:VCALENDAR
VERSION:2.0
PRODID:-//Tillamook Area Chamber of Commerce - ECPv6.15.20//NONSGML v1.0//EN
CALSCALE:GREGORIAN
METHOD:PUBLISH
X-ORIGINAL-URL:https://tillamookchamber.org
X-WR-CALDESC:Events for Tillamook Area Chamber of Commerce
REFRESH-INTERVAL;VALUE=DURATION:PT1H
X-Robots-Tag:noindex
X-PUBLISHED-TTL:PT1H
BEGIN:VTIMEZONE
TZID:America/Los_Angeles
BEGIN:DAYLIGHT
TZOFFSETFROM:-0800
TZOFFSETTO:-0700
TZNAME:PDT
DTSTART:20240310T100000
END:DAYLIGHT
BEGIN:STANDARD
TZOFFSETFROM:-0700
TZOFFSETTO:-0800
TZNAME:PST
DTSTART:20241103T090000
END:STANDARD
BEGIN:DAYLIGHT
TZOFFSETFROM:-0800
TZOFFSETTO:-0700
TZNAME:PDT
DTSTART:20250309T100000
END:DAYLIGHT
BEGIN:STANDARD
TZOFFSETFROM:-0700
TZOFFSETTO:-0800
TZNAME:PST
DTSTART:20251102T090000
END:STANDARD
BEGIN:DAYLIGHT
TZOFFSETFROM:-0800
TZOFFSETTO:-0700
TZNAME:PDT
DTSTART:20260308T100000
END:DAYLIGHT
BEGIN:STANDARD
TZOFFSETFROM:-0700
TZOFFSETTO:-0800
TZNAME:PST
DTSTART:20261101T090000
END:STANDARD
BEGIN:DAYLIGHT
TZOFFSETFROM:-0800
TZOFFSETTO:-0700
TZNAME:PDT
DTSTART:20270314T100000
END:DAYLIGHT
BEGIN:STANDARD
TZOFFSETFROM:-0700
TZOFFSETTO:-0800
TZNAME:PST
DTSTART:20271107T090000
END:STANDARD
END:VTIMEZONE
BEGIN:VEVENT
DTSTART;TZID=America/Los_Angeles:20260421T180000
DTEND;TZID=America/Los_Angeles:20260421T210000
DTSTAMP:20260424T043154
CREATED:20251205T223722Z
LAST-MODIFIED:20251205T223722Z
UID:10028597-1776794400-1776805200@tillamookchamber.org
SUMMARY:Trivia at Pelican Brewing- Pacific City
DESCRIPTION:Join us for trivia night every Tuesday! Win cool prizes and show your knowledge. Blackout dates apply.
URL:https://tillamookchamber.org/event/trivia-at-pelican-brewing-pacific-city/2026-04-21/
LOCATION:Pelican Brewing Company\, 33180 Cape Kiwanda Drive
CATEGORIES:Community
ATTACH;FMTTYPE=image/jpeg:https://tillamookchamber.org/wp-content/uploads/2025/12/TRivia.jpg
END:VEVENT
BEGIN:VEVENT
DTSTART;TZID=America/Los_Angeles:20260414T180000
DTEND;TZID=America/Los_Angeles:20260414T210000
DTSTAMP:20260424T043154
CREATED:20251205T223722Z
LAST-MODIFIED:20251205T223722Z
UID:10028596-1776189600-1776200400@tillamookchamber.org
SUMMARY:Trivia at Pelican Brewing- Pacific City
DESCRIPTION:Join us for trivia night every Tuesday! Win cool prizes and show your knowledge. Blackout dates apply.
URL:https://tillamookchamber.org/event/trivia-at-pelican-brewing-pacific-city/2026-04-14/
LOCATION:Pelican Brewing Company\, 33180 Cape Kiwanda Drive
CATEGORIES:Community
ATTACH;FMTTYPE=image/jpeg:https://tillamookchamber.org/wp-content/uploads/2025/12/TRivia.jpg
END:VEVENT
BEGIN:VEVENT
DTSTART;TZID=America/Los_Angeles:20260407T180000
DTEND;TZID=America/Los_Angeles:20260407T210000
DTSTAMP:20260424T043154
CREATED:20251205T223722Z
LAST-MODIFIED:20251205T223722Z
UID:10028595-1775584800-1775595600@tillamookchamber.org
SUMMARY:Trivia at Pelican Brewing- Pacific City
DESCRIPTION:Join us for trivia night every Tuesday! Win cool prizes and show your knowledge. Blackout dates apply.
URL:https://tillamookchamber.org/event/trivia-at-pelican-brewing-pacific-city/2026-04-07/
LOCATION:Pelican Brewing Company\, 33180 Cape Kiwanda Drive
CATEGORIES:Community
ATTACH;FMTTYPE=image/jpeg:https://tillamookchamber.org/wp-content/uploads/2025/12/TRivia.jpg
END:VEVENT
BEGIN:VEVENT
DTSTART;TZID=America/Los_Angeles:20260331T180000
DTEND;TZID=America/Los_Angeles:20260331T210000
DTSTAMP:20260424T043154
CREATED:20251205T223722Z
LAST-MODIFIED:20251205T223722Z
UID:10028594-1774980000-1774990800@tillamookchamber.org
SUMMARY:Trivia at Pelican Brewing- Pacific City
DESCRIPTION:Join us for trivia night every Tuesday! Win cool prizes and show your knowledge. Blackout dates apply.
URL:https://tillamookchamber.org/event/trivia-at-pelican-brewing-pacific-city/2026-03-31/
LOCATION:Pelican Brewing Company\, 33180 Cape Kiwanda Drive
CATEGORIES:Community
ATTACH;FMTTYPE=image/jpeg:https://tillamookchamber.org/wp-content/uploads/2025/12/TRivia.jpg
END:VEVENT
BEGIN:VEVENT
DTSTART;TZID=America/Los_Angeles:20260324T180000
DTEND;TZID=America/Los_Angeles:20260324T210000
DTSTAMP:20260424T043154
CREATED:20251205T223722Z
LAST-MODIFIED:20251205T223722Z
UID:10028593-1774375200-1774386000@tillamookchamber.org
SUMMARY:Trivia at Pelican Brewing- Pacific City
DESCRIPTION:Join us for trivia night every Tuesday! Win cool prizes and show your knowledge. Blackout dates apply.
URL:https://tillamookchamber.org/event/trivia-at-pelican-brewing-pacific-city/2026-03-24/
LOCATION:Pelican Brewing Company\, 33180 Cape Kiwanda Drive
CATEGORIES:Community
ATTACH;FMTTYPE=image/jpeg:https://tillamookchamber.org/wp-content/uploads/2025/12/TRivia.jpg
END:VEVENT
BEGIN:VEVENT
DTSTART;TZID=America/Los_Angeles:20260317T180000
DTEND;TZID=America/Los_Angeles:20260317T210000
DTSTAMP:20260424T043154
CREATED:20251205T223722Z
LAST-MODIFIED:20251205T223722Z
UID:10028592-1773770400-1773781200@tillamookchamber.org
SUMMARY:Trivia at Pelican Brewing- Pacific City
DESCRIPTION:Join us for trivia night every Tuesday! Win cool prizes and show your knowledge. Blackout dates apply.
URL:https://tillamookchamber.org/event/trivia-at-pelican-brewing-pacific-city/2026-03-17/
LOCATION:Pelican Brewing Company\, 33180 Cape Kiwanda Drive
CATEGORIES:Community
ATTACH;FMTTYPE=image/jpeg:https://tillamookchamber.org/wp-content/uploads/2025/12/TRivia.jpg
END:VEVENT
BEGIN:VEVENT
DTSTART;TZID=America/Los_Angeles:20260310T180000
DTEND;TZID=America/Los_Angeles:20260310T210000
DTSTAMP:20260424T043154
CREATED:20251205T223722Z
LAST-MODIFIED:20251205T223722Z
UID:10028591-1773165600-1773176400@tillamookchamber.org
SUMMARY:Trivia at Pelican Brewing- Pacific City
DESCRIPTION:Join us for trivia night every Tuesday! Win cool prizes and show your knowledge. Blackout dates apply.
URL:https://tillamookchamber.org/event/trivia-at-pelican-brewing-pacific-city/2026-03-10/
LOCATION:Pelican Brewing Company\, 33180 Cape Kiwanda Drive
CATEGORIES:Community
ATTACH;FMTTYPE=image/jpeg:https://tillamookchamber.org/wp-content/uploads/2025/12/TRivia.jpg
END:VEVENT
BEGIN:VEVENT
DTSTART;TZID=America/Los_Angeles:20260303T180000
DTEND;TZID=America/Los_Angeles:20260303T210000
DTSTAMP:20260424T043154
CREATED:20251205T223722Z
LAST-MODIFIED:20251205T223722Z
UID:10028590-1772560800-1772571600@tillamookchamber.org
SUMMARY:Trivia at Pelican Brewing- Pacific City
DESCRIPTION:Join us for trivia night every Tuesday! Win cool prizes and show your knowledge. Blackout dates apply.
URL:https://tillamookchamber.org/event/trivia-at-pelican-brewing-pacific-city/2026-03-03/
LOCATION:Pelican Brewing Company\, 33180 Cape Kiwanda Drive
CATEGORIES:Community
ATTACH;FMTTYPE=image/jpeg:https://tillamookchamber.org/wp-content/uploads/2025/12/TRivia.jpg
END:VEVENT
BEGIN:VEVENT
DTSTART;TZID=America/Los_Angeles:20260224T180000
DTEND;TZID=America/Los_Angeles:20260224T210000
DTSTAMP:20260424T043154
CREATED:20251205T223722Z
LAST-MODIFIED:20251205T223722Z
UID:10028589-1771956000-1771966800@tillamookchamber.org
SUMMARY:Trivia at Pelican Brewing- Pacific City
DESCRIPTION:Join us for trivia night every Tuesday! Win cool prizes and show your knowledge. Blackout dates apply.
URL:https://tillamookchamber.org/event/trivia-at-pelican-brewing-pacific-city/2026-02-24/
LOCATION:Pelican Brewing Company\, 33180 Cape Kiwanda Drive
CATEGORIES:Community
ATTACH;FMTTYPE=image/jpeg:https://tillamookchamber.org/wp-content/uploads/2025/12/TRivia.jpg
END:VEVENT
BEGIN:VEVENT
DTSTART;TZID=America/Los_Angeles:20260219T183000
DTEND;TZID=America/Los_Angeles:20260219T200000
DTSTAMP:20260424T043154
CREATED:20260123T190713Z
LAST-MODIFIED:20260123T190713Z
UID:10029369-1771525800-1771531200@tillamookchamber.org
SUMMARY:Paint & Sip
DESCRIPTION:Join us for a fun night of art and community. All proceeds benefit the Nestucca 2026 Senior Class is hosting Paint & Sip with painting instruction hosted by Molly Ricks\, art teacher at Nestucca High School.\n\nRegistration fee includes all art supplies. Food and beverages are available for purchase from Pelican Brewing. All ages are welcome.\n\nDate: February 19 at 6:30pm\nLocation: Pelican Brewing- Pacific City\n\nCost: $35 Pre-payment\, $40 at door\, Group of 3 for $90\nPrepayment can be taken at the NHS concessions booth or by contacting Shannon at 503-965-6135
URL:https://tillamookchamber.org/event/paint-sip/
LOCATION:Pelican Brewing Company\, 33180 Cape Kiwanda Drive
CATEGORIES:Community,Fundraisers
ATTACH;FMTTYPE=image/png:https://tillamookchamber.org/wp-content/uploads/2026/01/paint-and-sip.png
END:VEVENT
BEGIN:VEVENT
DTSTART;TZID=America/Los_Angeles:20260217T180000
DTEND;TZID=America/Los_Angeles:20260217T210000
DTSTAMP:20260424T043154
CREATED:20251205T223722Z
LAST-MODIFIED:20251205T223722Z
UID:10028588-1771351200-1771362000@tillamookchamber.org
SUMMARY:Trivia at Pelican Brewing- Pacific City
DESCRIPTION:Join us for trivia night every Tuesday! Win cool prizes and show your knowledge. Blackout dates apply.
URL:https://tillamookchamber.org/event/trivia-at-pelican-brewing-pacific-city/2026-02-17/
LOCATION:Pelican Brewing Company\, 33180 Cape Kiwanda Drive
CATEGORIES:Community
ATTACH;FMTTYPE=image/jpeg:https://tillamookchamber.org/wp-content/uploads/2025/12/TRivia.jpg
END:VEVENT
BEGIN:VEVENT
DTSTART;TZID=America/Los_Angeles:20260214T190000
DTEND;TZID=America/Los_Angeles:20260214T210000
DTSTAMP:20260424T043154
CREATED:20260123T190839Z
LAST-MODIFIED:20260123T190839Z
UID:10029368-1771095600-1771102800@tillamookchamber.org
SUMMARY:Comedy on the Coast
DESCRIPTION:Pelican Brewing hosts Comedy on the Coast!\n\nWhether you need an exciting date night on Valentine’s Day\, you’re a die-hard comedy fan\, or you’re just looking for a fun night out\, Next Stop Comedy guarantees big laughs\, great vibes\, and an experience you won’t want to miss.\n\nPlease Note: Food and beverage served throughout show!\n\nPre-Purchase of Tickets Available: Pelican Brewing Company – Pacific City – Next Stop Comedy 2026-02-14 19:00
URL:https://tillamookchamber.org/event/comedy-on-the-coast-3/
LOCATION:Pelican Brewing Company\, 33180 Cape Kiwanda Drive
CATEGORIES:Community
ATTACH;FMTTYPE=image/png:https://tillamookchamber.org/wp-content/uploads/2026/01/Pelican-Brewing-Company-Pacific-City-FEB-14-Social1.png
END:VEVENT
BEGIN:VEVENT
DTSTART;TZID=America/Los_Angeles:20260214T190000
DTEND;TZID=America/Los_Angeles:20260214T210000
DTSTAMP:20260424T043154
CREATED:20260103T010236Z
LAST-MODIFIED:20260103T010236Z
UID:10029244-1771095600-1771102800@tillamookchamber.org
SUMMARY:Comedy on the Coast
DESCRIPTION:Next Stop Comedy brings the best comedians\, with new lineups every time\, straight to your neighborhood for an unforgettable night of laughter! Our shows feature top-tier talent from across the country\, delivering high-energy performances in intimate\, local venues. Whether you need an exciting date night\, you’re a die-hard comedy fan\, or you’re just looking for a fun night out\, Next Stop Comedy guarantees big laughs\, great vibes\, and an experience you won’t want to miss.\nPlease Note: Food and beverage served throughout show!\n\nLink to purchase tickets.
URL:https://tillamookchamber.org/event/comedy-on-the-coast-2/
LOCATION:Pelican Brewing Company\, 33180 Cape Kiwanda Drive
CATEGORIES:Community
END:VEVENT
BEGIN:VEVENT
DTSTART;TZID=America/Los_Angeles:20260210T180000
DTEND;TZID=America/Los_Angeles:20260210T210000
DTSTAMP:20260424T043154
CREATED:20251205T223722Z
LAST-MODIFIED:20251205T223722Z
UID:10028587-1770746400-1770757200@tillamookchamber.org
SUMMARY:Trivia at Pelican Brewing- Pacific City
DESCRIPTION:Join us for trivia night every Tuesday! Win cool prizes and show your knowledge. Blackout dates apply.
URL:https://tillamookchamber.org/event/trivia-at-pelican-brewing-pacific-city/2026-02-10/
LOCATION:Pelican Brewing Company\, 33180 Cape Kiwanda Drive
CATEGORIES:Community
ATTACH;FMTTYPE=image/jpeg:https://tillamookchamber.org/wp-content/uploads/2025/12/TRivia.jpg
END:VEVENT
BEGIN:VEVENT
DTSTART;TZID=America/Los_Angeles:20260203T180000
DTEND;TZID=America/Los_Angeles:20260203T210000
DTSTAMP:20260424T043154
CREATED:20251205T223722Z
LAST-MODIFIED:20251205T223722Z
UID:10028586-1770141600-1770152400@tillamookchamber.org
SUMMARY:Trivia at Pelican Brewing- Pacific City
DESCRIPTION:Join us for trivia night every Tuesday! Win cool prizes and show your knowledge. Blackout dates apply.
URL:https://tillamookchamber.org/event/trivia-at-pelican-brewing-pacific-city/2026-02-03/
LOCATION:Pelican Brewing Company\, 33180 Cape Kiwanda Drive
CATEGORIES:Community
ATTACH;FMTTYPE=image/jpeg:https://tillamookchamber.org/wp-content/uploads/2025/12/TRivia.jpg
END:VEVENT
BEGIN:VEVENT
DTSTART;TZID=America/Los_Angeles:20260127T180000
DTEND;TZID=America/Los_Angeles:20260127T210000
DTSTAMP:20260424T043154
CREATED:20251205T223722Z
LAST-MODIFIED:20251205T223722Z
UID:10028585-1769536800-1769547600@tillamookchamber.org
SUMMARY:Trivia at Pelican Brewing- Pacific City
DESCRIPTION:Join us for trivia night every Tuesday! Win cool prizes and show your knowledge. Blackout dates apply.
URL:https://tillamookchamber.org/event/trivia-at-pelican-brewing-pacific-city/2026-01-27/
LOCATION:Pelican Brewing Company\, 33180 Cape Kiwanda Drive
CATEGORIES:Community
ATTACH;FMTTYPE=image/jpeg:https://tillamookchamber.org/wp-content/uploads/2025/12/TRivia.jpg
END:VEVENT
BEGIN:VEVENT
DTSTART;TZID=America/Los_Angeles:20260120T180000
DTEND;TZID=America/Los_Angeles:20260120T210000
DTSTAMP:20260424T043154
CREATED:20251205T223722Z
LAST-MODIFIED:20251205T223722Z
UID:10028584-1768932000-1768942800@tillamookchamber.org
SUMMARY:Trivia at Pelican Brewing- Pacific City
DESCRIPTION:Join us for trivia night every Tuesday! Win cool prizes and show your knowledge. Blackout dates apply.
URL:https://tillamookchamber.org/event/trivia-at-pelican-brewing-pacific-city/2026-01-20/
LOCATION:Pelican Brewing Company\, 33180 Cape Kiwanda Drive
CATEGORIES:Community
ATTACH;FMTTYPE=image/jpeg:https://tillamookchamber.org/wp-content/uploads/2025/12/TRivia.jpg
END:VEVENT
BEGIN:VEVENT
DTSTART;TZID=America/Los_Angeles:20260113T180000
DTEND;TZID=America/Los_Angeles:20260113T210000
DTSTAMP:20260424T043155
CREATED:20251205T223722Z
LAST-MODIFIED:20251205T223722Z
UID:10028583-1768327200-1768338000@tillamookchamber.org
SUMMARY:Trivia at Pelican Brewing- Pacific City
DESCRIPTION:Join us for trivia night every Tuesday! Win cool prizes and show your knowledge. Blackout dates apply.
URL:https://tillamookchamber.org/event/trivia-at-pelican-brewing-pacific-city/2026-01-13/
LOCATION:Pelican Brewing Company\, 33180 Cape Kiwanda Drive
CATEGORIES:Community
ATTACH;FMTTYPE=image/jpeg:https://tillamookchamber.org/wp-content/uploads/2025/12/TRivia.jpg
END:VEVENT
BEGIN:VEVENT
DTSTART;TZID=America/Los_Angeles:20260106T180000
DTEND;TZID=America/Los_Angeles:20260106T210000
DTSTAMP:20260424T043155
CREATED:20251205T223722Z
LAST-MODIFIED:20251205T223722Z
UID:10028582-1767722400-1767733200@tillamookchamber.org
SUMMARY:Trivia at Pelican Brewing- Pacific City
DESCRIPTION:Join us for trivia night every Tuesday! Win cool prizes and show your knowledge. Blackout dates apply.
URL:https://tillamookchamber.org/event/trivia-at-pelican-brewing-pacific-city/2026-01-06/
LOCATION:Pelican Brewing Company\, 33180 Cape Kiwanda Drive
CATEGORIES:Community
ATTACH;FMTTYPE=image/jpeg:https://tillamookchamber.org/wp-content/uploads/2025/12/TRivia.jpg
END:VEVENT
BEGIN:VEVENT
DTSTART;TZID=America/Los_Angeles:20251231T190000
DTEND;TZID=America/Los_Angeles:20251231T203000
DTSTAMP:20260424T043155
CREATED:20251205T223100Z
LAST-MODIFIED:20251205T223100Z
UID:10028577-1767207600-1767213000@tillamookchamber.org
SUMMARY:Comedy on the Coast
DESCRIPTION:Next Stop Comedy brings the best comedians\, with new lineups every time\, straight to your neighborhood for an unforgettable night of laughter! Our shows feature top-tier talent from across the country\, delivering high-energy performances in intimate\, local venues. Whether you need an exciting date night\, you’re a die-hard comedy fan\, or you’re just looking for a fun night out\, Next Stop Comedy guarantees big laughs\, great vibes\, and an experience you won’t want to miss.\nPlease Note: Food and beverage served throughout show!
URL:https://tillamookchamber.org/event/comedy-on-the-coast/
LOCATION:Pelican Brewing Company\, 33180 Cape Kiwanda Drive
CATEGORIES:Community
END:VEVENT
BEGIN:VEVENT
DTSTART;TZID=America/Los_Angeles:20251230T180000
DTEND;TZID=America/Los_Angeles:20251230T210000
DTSTAMP:20260424T043155
CREATED:20251205T223722Z
LAST-MODIFIED:20251205T223722Z
UID:10028581-1767117600-1767128400@tillamookchamber.org
SUMMARY:Trivia at Pelican Brewing- Pacific City
DESCRIPTION:Join us for trivia night every Tuesday! Win cool prizes and show your knowledge. Blackout dates apply.
URL:https://tillamookchamber.org/event/trivia-at-pelican-brewing-pacific-city/2025-12-30/
LOCATION:Pelican Brewing Company\, 33180 Cape Kiwanda Drive
CATEGORIES:Community
ATTACH;FMTTYPE=image/jpeg:https://tillamookchamber.org/wp-content/uploads/2025/12/TRivia.jpg
END:VEVENT
BEGIN:VEVENT
DTSTART;TZID=America/Los_Angeles:20251223T180000
DTEND;TZID=America/Los_Angeles:20251223T210000
DTSTAMP:20260424T043155
CREATED:20251205T223722Z
LAST-MODIFIED:20251205T223722Z
UID:10028580-1766512800-1766523600@tillamookchamber.org
SUMMARY:Trivia at Pelican Brewing- Pacific City
DESCRIPTION:Join us for trivia night every Tuesday! Win cool prizes and show your knowledge. Blackout dates apply.
URL:https://tillamookchamber.org/event/trivia-at-pelican-brewing-pacific-city/2025-12-23/
LOCATION:Pelican Brewing Company\, 33180 Cape Kiwanda Drive
CATEGORIES:Community
ATTACH;FMTTYPE=image/jpeg:https://tillamookchamber.org/wp-content/uploads/2025/12/TRivia.jpg
END:VEVENT
BEGIN:VEVENT
DTSTART;TZID=America/Los_Angeles:20251216T180000
DTEND;TZID=America/Los_Angeles:20251216T210000
DTSTAMP:20260424T043155
CREATED:20251205T223722Z
LAST-MODIFIED:20251205T223722Z
UID:10028579-1765908000-1765918800@tillamookchamber.org
SUMMARY:Trivia at Pelican Brewing- Pacific City
DESCRIPTION:Join us for trivia night every Tuesday! Win cool prizes and show your knowledge. Blackout dates apply.
URL:https://tillamookchamber.org/event/trivia-at-pelican-brewing-pacific-city/2025-12-16/
LOCATION:Pelican Brewing Company\, 33180 Cape Kiwanda Drive
CATEGORIES:Community
ATTACH;FMTTYPE=image/jpeg:https://tillamookchamber.org/wp-content/uploads/2025/12/TRivia.jpg
END:VEVENT
BEGIN:VEVENT
DTSTART;TZID=America/Los_Angeles:20251209T180000
DTEND;TZID=America/Los_Angeles:20251209T210000
DTSTAMP:20260424T043155
CREATED:20251205T223722Z
LAST-MODIFIED:20251205T223722Z
UID:10028578-1765303200-1765314000@tillamookchamber.org
SUMMARY:Trivia at Pelican Brewing- Pacific City
DESCRIPTION:Join us for trivia night every Tuesday! Win cool prizes and show your knowledge. Blackout dates apply.
URL:https://tillamookchamber.org/event/trivia-at-pelican-brewing-pacific-city/2025-12-09/
LOCATION:Pelican Brewing Company\, 33180 Cape Kiwanda Drive
CATEGORIES:Community
ATTACH;FMTTYPE=image/jpeg:https://tillamookchamber.org/wp-content/uploads/2025/12/TRivia.jpg
END:VEVENT
BEGIN:VEVENT
DTSTART;TZID=America/Los_Angeles:20250219T180000
DTEND;TZID=America/Los_Angeles:20250219T200000
DTSTAMP:20260424T043155
CREATED:20250128T184733Z
LAST-MODIFIED:20250128T184733Z
UID:10017785-1739988000-1739995200@tillamookchamber.org
SUMMARY:Sea Otter Trivia Night (Science on Tap)
DESCRIPTION:The Nestucca\, Neskowin & Sand Lake Watersheds Council is partnering with the Pelican Brewing Company and the Elakha Alliance to host Sea Otter Trivia Night! This will be an awesome event learn more about sea otters and a chance to win prizes! The event is free and open to the public\, and food and drinks are available for purchase. This event is taking place instead of Pelican’s Tuesday night trivia. We hope to see you there!\n\n 
URL:https://tillamookchamber.org/event/sea-otter-trivia-night-science-on-tap/
LOCATION:Pelican Brewing Company\, 33180 Cape Kiwanda Drive
CATEGORIES:Community
ATTACH;FMTTYPE=image/jpeg:https://tillamookchamber.org/wp-content/uploads/2025/01/2.19.25-SOT.jpg
END:VEVENT
END:VCALENDAR