BEGIN:VCALENDAR
VERSION:2.0
PRODID:-//Tillamook Area Chamber of Commerce - ECPv6.15.20//NONSGML v1.0//EN
CALSCALE:GREGORIAN
METHOD:PUBLISH
X-WR-CALNAME:Tillamook Area Chamber of Commerce
X-ORIGINAL-URL:https://tillamookchamber.org
X-WR-CALDESC:Events for Tillamook Area Chamber of Commerce
REFRESH-INTERVAL;VALUE=DURATION:PT1H
X-Robots-Tag:noindex
X-PUBLISHED-TTL:PT1H
BEGIN:VTIMEZONE
TZID:America/Los_Angeles
BEGIN:DAYLIGHT
TZOFFSETFROM:-0800
TZOFFSETTO:-0700
TZNAME:PDT
DTSTART:20240310T100000
END:DAYLIGHT
BEGIN:STANDARD
TZOFFSETFROM:-0700
TZOFFSETTO:-0800
TZNAME:PST
DTSTART:20241103T090000
END:STANDARD
BEGIN:DAYLIGHT
TZOFFSETFROM:-0800
TZOFFSETTO:-0700
TZNAME:PDT
DTSTART:20250309T100000
END:DAYLIGHT
BEGIN:STANDARD
TZOFFSETFROM:-0700
TZOFFSETTO:-0800
TZNAME:PST
DTSTART:20251102T090000
END:STANDARD
BEGIN:DAYLIGHT
TZOFFSETFROM:-0800
TZOFFSETTO:-0700
TZNAME:PDT
DTSTART:20260308T100000
END:DAYLIGHT
BEGIN:STANDARD
TZOFFSETFROM:-0700
TZOFFSETTO:-0800
TZNAME:PST
DTSTART:20261101T090000
END:STANDARD
BEGIN:DAYLIGHT
TZOFFSETFROM:-0800
TZOFFSETTO:-0700
TZNAME:PDT
DTSTART:20270314T100000
END:DAYLIGHT
BEGIN:STANDARD
TZOFFSETFROM:-0700
TZOFFSETTO:-0800
TZNAME:PST
DTSTART:20271107T090000
END:STANDARD
END:VTIMEZONE
BEGIN:VEVENT
DTSTART;TZID=America/Los_Angeles:20260408T120000
DTEND;TZID=America/Los_Angeles:20260408T133000
DTSTAMP:20260419T155621
CREATED:20260331T234613Z
LAST-MODIFIED:20260331T234613Z
UID:10029679-1775649600-1775655000@tillamookchamber.org
SUMMARY:Estate Planning and Finance
DESCRIPTION:Are your affairs in order? \n\nDo your loved ones know your wishes?\n\n\nEstate planning helps you avoid uncertainty and gives your family peace of mind. Come learn the essential steps to building a solid estate plan—even if you’re just getting started.
URL:https://tillamookchamber.org/event/estate-planning-and-finance-2/
LOCATION:Pacific Restaurant\, 205 Main Ave\, Tillamook\, Or
CATEGORIES:Community,Education
END:VEVENT
BEGIN:VEVENT
DTSTART;TZID=America/Los_Angeles:20260317T163000
DTEND;TZID=America/Los_Angeles:20260317T210000
DTSTAMP:20260419T155621
CREATED:20260305T192220Z
LAST-MODIFIED:20260305T192220Z
UID:10029571-1773765000-1773781200@tillamookchamber.org
SUMMARY:St. Patty's Day Dinner and Fund Raiser for the Tillamook County Composite Squadron\, CAP
DESCRIPTION:On March 17th from 4:30 PM until 9:00 PM\, your local Tillamook County Composite Squadron of the Civil Air Patrol is taking over the Pacific Restaurant for a fund-raising dinner.  The Civil Air Patrol is a national organization composed of local squadrons who perform search and rescue missions\, train youth to become the future leaders of our country and engage in aerospace education activities across the county and state. The organization’s members are all volunteers and must raise funds for squadron activities. \nSo come join the Tillamook County Composite Squadron members for a traditional Irish meal on St. Patrick’s Day. Only $20.00 for Irish corned beef and cabbage\, potatoes\, traditional soda bread\, salad and some great dessert. Help support your local squadron and have a great meal. You might even want to purchase a raffle ticket for something very special!
URL:https://tillamookchamber.org/event/st-pattys-day-dinner-and-fund-raiser-for-the-tillamook-county-composite-squadron-cap/
LOCATION:Pacific Restaurant\, 205 Main Ave\, Tillamook\, Or
CATEGORIES:Community,Fundraisers
ATTACH;FMTTYPE=image/png:https://tillamookchamber.org/wp-content/uploads/2026/03/St-Patty-Dinner.png
END:VEVENT
BEGIN:VEVENT
DTSTART;TZID=America/Los_Angeles:20260314T160000
DTEND;TZID=America/Los_Angeles:20260314T190000
DTSTAMP:20260419T155621
CREATED:20260223T224804Z
LAST-MODIFIED:20260223T224804Z
UID:10029550-1773504000-1773514800@tillamookchamber.org
SUMMARY:Friends of Tillamook Bay Fire & Rescue Dinner
DESCRIPTION:Come support the initiative of creating Tillamook Bay Fire & Rescue District! The proposed creation of a new fire district will go to Tillamook and Bay City voters in May. _Fundraiser dinner at the Pacific Restaurant includes: corned beef\, cabbage\, potatoes\, and soda bread. Dinner tickets are $20/person and can be purchased at Pacific Restaurant\, Valvoline Oil\, or by calling: 503-801-2235._Dinner to benefit the work of Friends of Tillamook Bay Fire & Rescue PAC.
URL:https://tillamookchamber.org/event/friends-of-tillamook-bay-fire-rescue-dinner/
LOCATION:Pacific Restaurant\, 205 Main Ave\, Tillamook\, Or
CATEGORIES:Community,Fundraisers
ATTACH;FMTTYPE=image/png:https://tillamookchamber.org/wp-content/uploads/2026/02/3bc986fe-0448-4568-9132-e97b8d76279a.png
END:VEVENT
BEGIN:VEVENT
DTSTART;TZID=America/Los_Angeles:20260314T160000
DTEND;TZID=America/Los_Angeles:20260314T190000
DTSTAMP:20260419T155621
CREATED:20260216T185431Z
LAST-MODIFIED:20260216T185431Z
UID:10029538-1773504000-1773514800@tillamookchamber.org
SUMMARY:Friends of Tillamook Bay Fire & Rescue Fundraiser Dinner
DESCRIPTION:Come support the initiative of creating Tillamook Bay Fire & Rescue District! The proposed creation of a new fire district will go to Tillamook and Bay City voters on the 2026 May ballot._Fundraiser dinner at the Pacific Restaurant includes: corned beef\, cabbage\, potatoes\, and soda bread. Dinner tickets are $20/person and can be purchased at Pacific Restaurant\, Valvoline Oil\, or by calling: 503-801-2235._Dinner to benefit the work of Friends of Tillamook Bay Fire & Rescue PAC.
URL:https://tillamookchamber.org/event/friends-of-tillamook-bay-fire-rescue-fundraiser-dinner/
LOCATION:Pacific Restaurant\, 205 Main Ave\, Tillamook\, Or
CATEGORIES:Community,Fundraisers
END:VEVENT
BEGIN:VEVENT
DTSTART;TZID=America/Los_Angeles:20260107T120000
DTEND;TZID=America/Los_Angeles:20260107T140000
DTSTAMP:20260419T155621
CREATED:20251223T213544Z
LAST-MODIFIED:20251223T213544Z
UID:10028684-1767787200-1767794400@tillamookchamber.org
SUMMARY:Medicare and finance
DESCRIPTION:Are you turning 65 soon? Already on Medicare? Leaving your employer coverage? \n\nCome get all your questions answered. \n\nJoin us for our Medicare Seminar to learn what you need to know for 2026!
URL:https://tillamookchamber.org/event/medicare-and-finance/
LOCATION:Pacific Restaurant\, 205 Main Ave\, Tillamook\, Or
CATEGORIES:Classes and Workshops
ATTACH;FMTTYPE=image/jpeg:https://tillamookchamber.org/wp-content/uploads/2025/12/Medicare-and-finance-2.jpg
END:VEVENT
BEGIN:VEVENT
DTSTART;TZID=America/Los_Angeles:20251213T110000
DTEND;TZID=America/Los_Angeles:20251213T140000
DTSTAMP:20260419T155621
CREATED:20251204T173427Z
LAST-MODIFIED:20251204T173427Z
UID:10028575-1765623600-1765634400@tillamookchamber.org
SUMMARY:Santaland
DESCRIPTION:Tillamook Revitalization Association is sponsoring 5th annual Santaland at Pacific Restaurant. Event is open to all Tillamook Residents and is free.\n\nWreath making\, cookie decorating and gongerbread house making and special musical performances.\n\nPlus photos w/ Santa
URL:https://tillamookchamber.org/event/santaland/
LOCATION:Pacific Restaurant\, 205 Main Ave\, Tillamook\, Or
CATEGORIES:Community,Family Fun,Holiday
ATTACH;FMTTYPE=image/jpeg:https://tillamookchamber.org/wp-content/uploads/2025/12/IMG_2318.jpeg
END:VEVENT
BEGIN:VEVENT
DTSTART;TZID=America/Los_Angeles:20250904T120000
DTEND;TZID=America/Los_Angeles:20250904T140000
DTSTAMP:20260419T155621
CREATED:20250902T184503Z
LAST-MODIFIED:20250902T184503Z
UID:10025472-1756987200-1756994400@tillamookchamber.org
SUMMARY:Social Security and finance
DESCRIPTION:Edwards Jones seminar with special guest Casey Miller\, APMA from Hardford Funds\, expert on Social Security will be doing a presentation and answering any questions you may have regarding the topic.\n\nPlease call 503 842 3695 to reserve space for yourself and a guest.\n\nSee you there!
URL:https://tillamookchamber.org/event/social-security-and-finance-2/
LOCATION:Pacific Restaurant\, 205 Main Ave\, Tillamook\, Or
CATEGORIES:Community,Education
ATTACH;FMTTYPE=image/jpeg:https://tillamookchamber.org/wp-content/uploads/2025/08/Social-Security-and-Finance.jpg
END:VEVENT
BEGIN:VEVENT
DTSTART;TZID=America/Los_Angeles:20250904T120000
DTEND;TZID=America/Los_Angeles:20250904T140000
DTSTAMP:20260419T155621
CREATED:20250827T190153Z
LAST-MODIFIED:20250827T190153Z
UID:10025470-1756987200-1756994400@tillamookchamber.org
SUMMARY:Social Security and finance
DESCRIPTION:Edwards Jones seminar with special guest Casey Miller\, APMA from Hardford Funds\, expert on Social Security will be doing a presentation and answering any questions you may have regarding the topic. \n\nPlease call 503 842 3695 \,to reserve space for yourself and a guest. \n\nSee you there! 
URL:https://tillamookchamber.org/event/social-security-and-finance/
LOCATION:Pacific Restaurant\, 205 Main Ave\, Tillamook\, Or
CATEGORIES:Community,Education,Public Meetings
END:VEVENT
BEGIN:VEVENT
DTSTART;TZID=America/Los_Angeles:20250622T130000
DTEND;TZID=America/Los_Angeles:20250622T150000
DTSTAMP:20260419T155621
CREATED:20250508T231807Z
LAST-MODIFIED:20250508T231807Z
UID:10021340-1750597200-1750604400@tillamookchamber.org
SUMMARY:Don’t Get High Tea
DESCRIPTION:The 11 th annual Don’t Get High Tea will take place on Sunday\, June 22\, 2025 at\nPacific Restaurant located at 205 Main Avenue in Tillamook\, and it promises to be an afternoon of\nelegance including delicious savory and sweet options along with specialty teas and the opportunity to\nwin the bid on many wonderful silent auction items. This fundraiser aims to raise essential funds to\ncontinue Tillamook Serenity’s addiction recovery mission within our community.
URL:https://tillamookchamber.org/event/dont-get-high-tea/
LOCATION:Pacific Restaurant\, 205 Main Ave\, Tillamook\, Or
CATEGORIES:Community,Festivals and Events
ATTACH;FMTTYPE=image/jpeg:https://tillamookchamber.org/wp-content/uploads/2025/05/2025-Tea-Poster-1-scaled.jpg
END:VEVENT
END:VCALENDAR