BEGIN:VCALENDAR
VERSION:2.0
PRODID:-//Tillamook Area Chamber of Commerce - ECPv6.15.20//NONSGML v1.0//EN
CALSCALE:GREGORIAN
METHOD:PUBLISH
X-ORIGINAL-URL:https://tillamookchamber.org
X-WR-CALDESC:Events for Tillamook Area Chamber of Commerce
REFRESH-INTERVAL;VALUE=DURATION:PT1H
X-Robots-Tag:noindex
X-PUBLISHED-TTL:PT1H
BEGIN:VTIMEZONE
TZID:America/Los_Angeles
BEGIN:DAYLIGHT
TZOFFSETFROM:-0800
TZOFFSETTO:-0700
TZNAME:PDT
DTSTART:20240310T100000
END:DAYLIGHT
BEGIN:STANDARD
TZOFFSETFROM:-0700
TZOFFSETTO:-0800
TZNAME:PST
DTSTART:20241103T090000
END:STANDARD
BEGIN:DAYLIGHT
TZOFFSETFROM:-0800
TZOFFSETTO:-0700
TZNAME:PDT
DTSTART:20250309T100000
END:DAYLIGHT
BEGIN:STANDARD
TZOFFSETFROM:-0700
TZOFFSETTO:-0800
TZNAME:PST
DTSTART:20251102T090000
END:STANDARD
BEGIN:DAYLIGHT
TZOFFSETFROM:-0800
TZOFFSETTO:-0700
TZNAME:PDT
DTSTART:20260308T100000
END:DAYLIGHT
BEGIN:STANDARD
TZOFFSETFROM:-0700
TZOFFSETTO:-0800
TZNAME:PST
DTSTART:20261101T090000
END:STANDARD
END:VTIMEZONE
BEGIN:VEVENT
DTSTART;TZID=America/Los_Angeles:20250311T160000
DTEND;TZID=America/Los_Angeles:20250311T170000
DTSTAMP:20260424T053638
CREATED:20250306T185254Z
LAST-MODIFIED:20250306T185254Z
UID:10018983-1741708800-1741712400@tillamookchamber.org
SUMMARY:Ukulele Jams with Alan at Pacific City Library
DESCRIPTION:Ukulele Jams with Alan at Pacific City Branch Library.\n\nJoin us the second and fourth Tuesdays of every month at 4:00 pm.
URL:https://tillamookchamber.org/event/ukulele-jams-with-alan-at-pacific-city-library-2/2025-03-11/
LOCATION:Pacific City Library\, 6200 Camp St Pacific City\, OR
CATEGORIES:Community
ATTACH;FMTTYPE=image/png:https://tillamookchamber.org/wp-content/uploads/2025/03/ukulele_jams_at_pc.png
END:VEVENT
BEGIN:VEVENT
DTSTART;TZID=America/Los_Angeles:20250226T153000
DTEND;TZID=America/Los_Angeles:20250226T163000
DTSTAMP:20260424T053638
CREATED:20241209T180236Z
LAST-MODIFIED:20241209T180236Z
UID:10017402-1740583800-1740587400@tillamookchamber.org
SUMMARY:Storytime at Pacific City Library
DESCRIPTION:Storytime at the South Tillamook County Library in Pacific City!\n\nDavid hosts Storytime on the 2nd and 4th Wednesdays of each month at 3:30pm.\n\nThese events are open to all ages!\n\nWe’ll read\, sing\, and move about!\n\nWe look forward to seeing you!
URL:https://tillamookchamber.org/event/storytime-at-pacific-city-library/2025-02-26/
LOCATION:Pacific City Library\, 6200 Camp St Pacific City\, OR
CATEGORIES:Community,Family Fun
ATTACH;FMTTYPE=image/png:https://tillamookchamber.org/wp-content/uploads/2024/12/pcstorytime.png
END:VEVENT
BEGIN:VEVENT
DTSTART;TZID=America/Los_Angeles:20250219T170000
DTEND;TZID=America/Los_Angeles:20250219T180000
DTSTAMP:20260424T053638
CREATED:20241209T175837Z
LAST-MODIFIED:20241209T175837Z
UID:10017405-1739984400-1739988000@tillamookchamber.org
SUMMARY:Adult Coloring Hour at Pacific City Library
DESCRIPTION:Coloring can increase focus\, relieve stress and boost creativity. Come to the South Tillamook County branch library in Pacific City every third Wednesday of the month for an hour of adult coloring time. 5pm-6pm.
URL:https://tillamookchamber.org/event/adult-coloring-hour-at-pacific-city-library/2025-02-19/
LOCATION:Pacific City Library\, 6200 Camp St Pacific City\, OR
CATEGORIES:Classes and Workshops,Community
ATTACH;FMTTYPE=image/png:https://tillamookchamber.org/wp-content/uploads/2024/12/pccolor.png
END:VEVENT
BEGIN:VEVENT
DTSTART;TZID=America/Los_Angeles:20250218T170000
DTEND;TZID=America/Los_Angeles:20250218T180000
DTSTAMP:20260424T053638
CREATED:20241209T180416Z
LAST-MODIFIED:20241209T180416Z
UID:10017397-1739898000-1739901600@tillamookchamber.org
SUMMARY:Open Mic Poetry at Pacific City Library
DESCRIPTION:All ages are invited to come and listen or read a poem at the South Tillamook County Library Branch in Pacific City. The event repeats every third Tuesday of the month from 5-6pm.
URL:https://tillamookchamber.org/event/open-mic-poetry-at-pacific-city-library/2025-02-18/
LOCATION:Pacific City Library\, 6200 Camp St Pacific City\, OR
CATEGORIES:Community
ATTACH;FMTTYPE=image/png:https://tillamookchamber.org/wp-content/uploads/2024/12/openmic.png
END:VEVENT
BEGIN:VEVENT
DTSTART;TZID=America/Los_Angeles:20250218T160000
DTEND;TZID=America/Los_Angeles:20250218T170000
DTSTAMP:20260424T053638
CREATED:20241214T004135Z
LAST-MODIFIED:20241214T004135Z
UID:10017439-1739894400-1739898000@tillamookchamber.org
SUMMARY:Ukulele Jams with Alan at Pacific City Library
DESCRIPTION:Join us the second and fourth Tuesdays of every month at 4:00 pm.
URL:https://tillamookchamber.org/event/ukulele-jams-with-alan-at-pacific-city-library/2025-02-18/
LOCATION:Pacific City Library\, 6200 Camp St Pacific City\, OR
CATEGORIES:Community,Live Music
END:VEVENT
BEGIN:VEVENT
DTSTART;TZID=America/Los_Angeles:20250212T153000
DTEND;TZID=America/Los_Angeles:20250212T163000
DTSTAMP:20260424T053638
CREATED:20241209T180236Z
LAST-MODIFIED:20241209T180236Z
UID:10017401-1739374200-1739377800@tillamookchamber.org
SUMMARY:Storytime at Pacific City Library
DESCRIPTION:Storytime at the South Tillamook County Library in Pacific City!\n\nDavid hosts Storytime on the 2nd and 4th Wednesdays of each month at 3:30pm.\n\nThese events are open to all ages!\n\nWe’ll read\, sing\, and move about!\n\nWe look forward to seeing you!
URL:https://tillamookchamber.org/event/storytime-at-pacific-city-library/2025-02-12/
LOCATION:Pacific City Library\, 6200 Camp St Pacific City\, OR
CATEGORIES:Community,Family Fun
ATTACH;FMTTYPE=image/png:https://tillamookchamber.org/wp-content/uploads/2024/12/pcstorytime.png
END:VEVENT
BEGIN:VEVENT
DTSTART;TZID=America/Los_Angeles:20250211T160000
DTEND;TZID=America/Los_Angeles:20250211T170000
DTSTAMP:20260424T053638
CREATED:20241214T004135Z
LAST-MODIFIED:20241214T004135Z
UID:10017438-1739289600-1739293200@tillamookchamber.org
SUMMARY:Ukulele Jams with Alan at Pacific City Library
DESCRIPTION:Join us the second and fourth Tuesdays of every month at 4:00 pm.
URL:https://tillamookchamber.org/event/ukulele-jams-with-alan-at-pacific-city-library/2025-02-11/
LOCATION:Pacific City Library\, 6200 Camp St Pacific City\, OR
CATEGORIES:Community,Live Music
END:VEVENT
BEGIN:VEVENT
DTSTART;TZID=America/Los_Angeles:20250128T160000
DTEND;TZID=America/Los_Angeles:20250128T170000
DTSTAMP:20260424T053638
CREATED:20241214T004135Z
LAST-MODIFIED:20241214T004135Z
UID:10017437-1738080000-1738083600@tillamookchamber.org
SUMMARY:Ukulele Jams with Alan at Pacific City Library
DESCRIPTION:Join us the second and fourth Tuesdays of every month at 4:00 pm.
URL:https://tillamookchamber.org/event/ukulele-jams-with-alan-at-pacific-city-library/2025-01-28/
LOCATION:Pacific City Library\, 6200 Camp St Pacific City\, OR
CATEGORIES:Community,Live Music
END:VEVENT
BEGIN:VEVENT
DTSTART;TZID=America/Los_Angeles:20250122T153000
DTEND;TZID=America/Los_Angeles:20250122T163000
DTSTAMP:20260424T053638
CREATED:20241209T180236Z
LAST-MODIFIED:20241209T180236Z
UID:10017400-1737559800-1737563400@tillamookchamber.org
SUMMARY:Storytime at Pacific City Library
DESCRIPTION:Storytime at the South Tillamook County Library in Pacific City!\n\nDavid hosts Storytime on the 2nd and 4th Wednesdays of each month at 3:30pm.\n\nThese events are open to all ages!\n\nWe’ll read\, sing\, and move about!\n\nWe look forward to seeing you!
URL:https://tillamookchamber.org/event/storytime-at-pacific-city-library/2025-01-22/
LOCATION:Pacific City Library\, 6200 Camp St Pacific City\, OR
CATEGORIES:Community,Family Fun
ATTACH;FMTTYPE=image/png:https://tillamookchamber.org/wp-content/uploads/2024/12/pcstorytime.png
END:VEVENT
BEGIN:VEVENT
DTSTART;TZID=America/Los_Angeles:20250121T170000
DTEND;TZID=America/Los_Angeles:20250121T180000
DTSTAMP:20260424T053638
CREATED:20241209T180416Z
LAST-MODIFIED:20241209T180416Z
UID:10017396-1737478800-1737482400@tillamookchamber.org
SUMMARY:Open Mic Poetry at Pacific City Library
DESCRIPTION:All ages are invited to come and listen or read a poem at the South Tillamook County Library Branch in Pacific City. The event repeats every third Tuesday of the month from 5-6pm.
URL:https://tillamookchamber.org/event/open-mic-poetry-at-pacific-city-library/2025-01-21/
LOCATION:Pacific City Library\, 6200 Camp St Pacific City\, OR
CATEGORIES:Community
ATTACH;FMTTYPE=image/png:https://tillamookchamber.org/wp-content/uploads/2024/12/openmic.png
END:VEVENT
BEGIN:VEVENT
DTSTART;TZID=America/Los_Angeles:20250115T170000
DTEND;TZID=America/Los_Angeles:20250115T180000
DTSTAMP:20260424T053638
CREATED:20241209T175837Z
LAST-MODIFIED:20241209T175837Z
UID:10017404-1736960400-1736964000@tillamookchamber.org
SUMMARY:Adult Coloring Hour at Pacific City Library
DESCRIPTION:Coloring can increase focus\, relieve stress and boost creativity. Come to the South Tillamook County branch library in Pacific City every third Wednesday of the month for an hour of adult coloring time. 5pm-6pm.
URL:https://tillamookchamber.org/event/adult-coloring-hour-at-pacific-city-library/2025-01-15/
LOCATION:Pacific City Library\, 6200 Camp St Pacific City\, OR
CATEGORIES:Classes and Workshops,Community
ATTACH;FMTTYPE=image/png:https://tillamookchamber.org/wp-content/uploads/2024/12/pccolor.png
END:VEVENT
BEGIN:VEVENT
DTSTART;TZID=America/Los_Angeles:20250114T160000
DTEND;TZID=America/Los_Angeles:20250114T170000
DTSTAMP:20260424T053638
CREATED:20241214T004135Z
LAST-MODIFIED:20241214T004135Z
UID:10017436-1736870400-1736874000@tillamookchamber.org
SUMMARY:Ukulele Jams with Alan at Pacific City Library
DESCRIPTION:Join us the second and fourth Tuesdays of every month at 4:00 pm.
URL:https://tillamookchamber.org/event/ukulele-jams-with-alan-at-pacific-city-library/2025-01-14/
LOCATION:Pacific City Library\, 6200 Camp St Pacific City\, OR
CATEGORIES:Community,Live Music
END:VEVENT
BEGIN:VEVENT
DTSTART;TZID=America/Los_Angeles:20250108T153000
DTEND;TZID=America/Los_Angeles:20250108T163000
DTSTAMP:20260424T053638
CREATED:20241209T180236Z
LAST-MODIFIED:20241209T180236Z
UID:10017399-1736350200-1736353800@tillamookchamber.org
SUMMARY:Storytime at Pacific City Library
DESCRIPTION:Storytime at the South Tillamook County Library in Pacific City!\n\nDavid hosts Storytime on the 2nd and 4th Wednesdays of each month at 3:30pm.\n\nThese events are open to all ages!\n\nWe’ll read\, sing\, and move about!\n\nWe look forward to seeing you!
URL:https://tillamookchamber.org/event/storytime-at-pacific-city-library/2025-01-08/
LOCATION:Pacific City Library\, 6200 Camp St Pacific City\, OR
CATEGORIES:Community,Family Fun
ATTACH;FMTTYPE=image/png:https://tillamookchamber.org/wp-content/uploads/2024/12/pcstorytime.png
END:VEVENT
END:VCALENDAR