BEGIN:VCALENDAR
VERSION:2.0
PRODID:-//Tillamook Area Chamber of Commerce - ECPv6.15.20//NONSGML v1.0//EN
CALSCALE:GREGORIAN
METHOD:PUBLISH
X-ORIGINAL-URL:https://tillamookchamber.org
X-WR-CALDESC:Events for Tillamook Area Chamber of Commerce
REFRESH-INTERVAL;VALUE=DURATION:PT1H
X-Robots-Tag:noindex
X-PUBLISHED-TTL:PT1H
BEGIN:VTIMEZONE
TZID:America/Los_Angeles
BEGIN:DAYLIGHT
TZOFFSETFROM:-0800
TZOFFSETTO:-0700
TZNAME:PDT
DTSTART:20270314T100000
END:DAYLIGHT
BEGIN:STANDARD
TZOFFSETFROM:-0700
TZOFFSETTO:-0800
TZNAME:PST
DTSTART:20271107T090000
END:STANDARD
BEGIN:DAYLIGHT
TZOFFSETFROM:-0800
TZOFFSETTO:-0700
TZNAME:PDT
DTSTART:20280312T100000
END:DAYLIGHT
BEGIN:STANDARD
TZOFFSETFROM:-0700
TZOFFSETTO:-0800
TZNAME:PST
DTSTART:20281105T090000
END:STANDARD
BEGIN:DAYLIGHT
TZOFFSETFROM:-0800
TZOFFSETTO:-0700
TZNAME:PDT
DTSTART:20290311T100000
END:DAYLIGHT
BEGIN:STANDARD
TZOFFSETFROM:-0700
TZOFFSETTO:-0800
TZNAME:PST
DTSTART:20291104T090000
END:STANDARD
BEGIN:DAYLIGHT
TZOFFSETFROM:-0800
TZOFFSETTO:-0700
TZNAME:PDT
DTSTART:20300310T100000
END:DAYLIGHT
BEGIN:STANDARD
TZOFFSETFROM:-0700
TZOFFSETTO:-0800
TZNAME:PST
DTSTART:20301103T090000
END:STANDARD
BEGIN:DAYLIGHT
TZOFFSETFROM:-0800
TZOFFSETTO:-0700
TZNAME:PDT
DTSTART:20310309T100000
END:DAYLIGHT
BEGIN:STANDARD
TZOFFSETFROM:-0700
TZOFFSETTO:-0800
TZNAME:PST
DTSTART:20311102T090000
END:STANDARD
END:VTIMEZONE
BEGIN:VEVENT
DTSTART;TZID=America/Los_Angeles:20280520T100000
DTEND;TZID=America/Los_Angeles:20280520T113000
DTSTAMP:20260423T164223
CREATED:20250929T192207Z
LAST-MODIFIED:20250929T192207Z
UID:10026065-1842429600-1842435000@tillamookchamber.org
SUMMARY:Saturday Morning Family Fun at Pacific City Library
DESCRIPTION:Join us for a variety of activities for the whole family at Pacific City library every third Saturday of the month!
URL:https://tillamookchamber.org/event/saturday-morning-family-fun-at-pacific-city-library/2028-05-20/
LOCATION:Pacific City Library\, 6200 Camp St Pacific City\, OR
CATEGORIES:Community,Family Fun
ATTACH;FMTTYPE=image/png:https://tillamookchamber.org/wp-content/uploads/2025/09/Saturday-Morning-Family-Fun-at-TP.png
END:VEVENT
BEGIN:VEVENT
DTSTART;TZID=America/Los_Angeles:20280617T100000
DTEND;TZID=America/Los_Angeles:20280617T113000
DTSTAMP:20260423T164223
CREATED:20250929T192207Z
LAST-MODIFIED:20250929T192207Z
UID:10026066-1844848800-1844854200@tillamookchamber.org
SUMMARY:Saturday Morning Family Fun at Pacific City Library
DESCRIPTION:Join us for a variety of activities for the whole family at Pacific City library every third Saturday of the month!
URL:https://tillamookchamber.org/event/saturday-morning-family-fun-at-pacific-city-library/2028-06-17/
LOCATION:Pacific City Library\, 6200 Camp St Pacific City\, OR
CATEGORIES:Community,Family Fun
ATTACH;FMTTYPE=image/png:https://tillamookchamber.org/wp-content/uploads/2025/09/Saturday-Morning-Family-Fun-at-TP.png
END:VEVENT
BEGIN:VEVENT
DTSTART;TZID=America/Los_Angeles:20280715T100000
DTEND;TZID=America/Los_Angeles:20280715T113000
DTSTAMP:20260423T164223
CREATED:20250929T192207Z
LAST-MODIFIED:20250929T192207Z
UID:10026067-1847268000-1847273400@tillamookchamber.org
SUMMARY:Saturday Morning Family Fun at Pacific City Library
DESCRIPTION:Join us for a variety of activities for the whole family at Pacific City library every third Saturday of the month!
URL:https://tillamookchamber.org/event/saturday-morning-family-fun-at-pacific-city-library/2028-07-15/
LOCATION:Pacific City Library\, 6200 Camp St Pacific City\, OR
CATEGORIES:Community,Family Fun
ATTACH;FMTTYPE=image/png:https://tillamookchamber.org/wp-content/uploads/2025/09/Saturday-Morning-Family-Fun-at-TP.png
END:VEVENT
BEGIN:VEVENT
DTSTART;TZID=America/Los_Angeles:20280819T100000
DTEND;TZID=America/Los_Angeles:20280819T113000
DTSTAMP:20260423T164223
CREATED:20250929T192207Z
LAST-MODIFIED:20250929T192207Z
UID:10026068-1850292000-1850297400@tillamookchamber.org
SUMMARY:Saturday Morning Family Fun at Pacific City Library
DESCRIPTION:Join us for a variety of activities for the whole family at Pacific City library every third Saturday of the month!
URL:https://tillamookchamber.org/event/saturday-morning-family-fun-at-pacific-city-library/2028-08-19/
LOCATION:Pacific City Library\, 6200 Camp St Pacific City\, OR
CATEGORIES:Community,Family Fun
ATTACH;FMTTYPE=image/png:https://tillamookchamber.org/wp-content/uploads/2025/09/Saturday-Morning-Family-Fun-at-TP.png
END:VEVENT
BEGIN:VEVENT
DTSTART;TZID=America/Los_Angeles:20280916T100000
DTEND;TZID=America/Los_Angeles:20280916T113000
DTSTAMP:20260423T164223
CREATED:20250929T192207Z
LAST-MODIFIED:20250929T192207Z
UID:10026069-1852711200-1852716600@tillamookchamber.org
SUMMARY:Saturday Morning Family Fun at Pacific City Library
DESCRIPTION:Join us for a variety of activities for the whole family at Pacific City library every third Saturday of the month!
URL:https://tillamookchamber.org/event/saturday-morning-family-fun-at-pacific-city-library/2028-09-16/
LOCATION:Pacific City Library\, 6200 Camp St Pacific City\, OR
CATEGORIES:Community,Family Fun
ATTACH;FMTTYPE=image/png:https://tillamookchamber.org/wp-content/uploads/2025/09/Saturday-Morning-Family-Fun-at-TP.png
END:VEVENT
BEGIN:VEVENT
DTSTART;TZID=America/Los_Angeles:20281021T100000
DTEND;TZID=America/Los_Angeles:20281021T113000
DTSTAMP:20260423T164223
CREATED:20250929T192207Z
LAST-MODIFIED:20250929T192207Z
UID:10026070-1855735200-1855740600@tillamookchamber.org
SUMMARY:Saturday Morning Family Fun at Pacific City Library
DESCRIPTION:Join us for a variety of activities for the whole family at Pacific City library every third Saturday of the month!
URL:https://tillamookchamber.org/event/saturday-morning-family-fun-at-pacific-city-library/2028-10-21/
LOCATION:Pacific City Library\, 6200 Camp St Pacific City\, OR
CATEGORIES:Community,Family Fun
ATTACH;FMTTYPE=image/png:https://tillamookchamber.org/wp-content/uploads/2025/09/Saturday-Morning-Family-Fun-at-TP.png
END:VEVENT
BEGIN:VEVENT
DTSTART;TZID=America/Los_Angeles:20281118T100000
DTEND;TZID=America/Los_Angeles:20281118T113000
DTSTAMP:20260423T164223
CREATED:20250929T192207Z
LAST-MODIFIED:20250929T192207Z
UID:10026071-1858154400-1858159800@tillamookchamber.org
SUMMARY:Saturday Morning Family Fun at Pacific City Library
DESCRIPTION:Join us for a variety of activities for the whole family at Pacific City library every third Saturday of the month!
URL:https://tillamookchamber.org/event/saturday-morning-family-fun-at-pacific-city-library/2028-11-18/
LOCATION:Pacific City Library\, 6200 Camp St Pacific City\, OR
CATEGORIES:Community,Family Fun
ATTACH;FMTTYPE=image/png:https://tillamookchamber.org/wp-content/uploads/2025/09/Saturday-Morning-Family-Fun-at-TP.png
END:VEVENT
BEGIN:VEVENT
DTSTART;TZID=America/Los_Angeles:20281216T100000
DTEND;TZID=America/Los_Angeles:20281216T113000
DTSTAMP:20260423T164223
CREATED:20250929T192207Z
LAST-MODIFIED:20250929T192207Z
UID:10026072-1860573600-1860579000@tillamookchamber.org
SUMMARY:Saturday Morning Family Fun at Pacific City Library
DESCRIPTION:Join us for a variety of activities for the whole family at Pacific City library every third Saturday of the month!
URL:https://tillamookchamber.org/event/saturday-morning-family-fun-at-pacific-city-library/2028-12-16/
LOCATION:Pacific City Library\, 6200 Camp St Pacific City\, OR
CATEGORIES:Community,Family Fun
ATTACH;FMTTYPE=image/png:https://tillamookchamber.org/wp-content/uploads/2025/09/Saturday-Morning-Family-Fun-at-TP.png
END:VEVENT
BEGIN:VEVENT
DTSTART;TZID=America/Los_Angeles:20290120T100000
DTEND;TZID=America/Los_Angeles:20290120T113000
DTSTAMP:20260423T164223
CREATED:20250929T192207Z
LAST-MODIFIED:20250929T192207Z
UID:10026073-1863597600-1863603000@tillamookchamber.org
SUMMARY:Saturday Morning Family Fun at Pacific City Library
DESCRIPTION:Join us for a variety of activities for the whole family at Pacific City library every third Saturday of the month!
URL:https://tillamookchamber.org/event/saturday-morning-family-fun-at-pacific-city-library/2029-01-20/
LOCATION:Pacific City Library\, 6200 Camp St Pacific City\, OR
CATEGORIES:Community,Family Fun
ATTACH;FMTTYPE=image/png:https://tillamookchamber.org/wp-content/uploads/2025/09/Saturday-Morning-Family-Fun-at-TP.png
END:VEVENT
BEGIN:VEVENT
DTSTART;TZID=America/Los_Angeles:20290217T100000
DTEND;TZID=America/Los_Angeles:20290217T113000
DTSTAMP:20260423T164223
CREATED:20250929T192207Z
LAST-MODIFIED:20250929T192207Z
UID:10026074-1866016800-1866022200@tillamookchamber.org
SUMMARY:Saturday Morning Family Fun at Pacific City Library
DESCRIPTION:Join us for a variety of activities for the whole family at Pacific City library every third Saturday of the month!
URL:https://tillamookchamber.org/event/saturday-morning-family-fun-at-pacific-city-library/2029-02-17/
LOCATION:Pacific City Library\, 6200 Camp St Pacific City\, OR
CATEGORIES:Community,Family Fun
ATTACH;FMTTYPE=image/png:https://tillamookchamber.org/wp-content/uploads/2025/09/Saturday-Morning-Family-Fun-at-TP.png
END:VEVENT
BEGIN:VEVENT
DTSTART;TZID=America/Los_Angeles:20290317T100000
DTEND;TZID=America/Los_Angeles:20290317T113000
DTSTAMP:20260423T164223
CREATED:20250929T192207Z
LAST-MODIFIED:20250929T192207Z
UID:10026075-1868436000-1868441400@tillamookchamber.org
SUMMARY:Saturday Morning Family Fun at Pacific City Library
DESCRIPTION:Join us for a variety of activities for the whole family at Pacific City library every third Saturday of the month!
URL:https://tillamookchamber.org/event/saturday-morning-family-fun-at-pacific-city-library/2029-03-17/
LOCATION:Pacific City Library\, 6200 Camp St Pacific City\, OR
CATEGORIES:Community,Family Fun
ATTACH;FMTTYPE=image/png:https://tillamookchamber.org/wp-content/uploads/2025/09/Saturday-Morning-Family-Fun-at-TP.png
END:VEVENT
BEGIN:VEVENT
DTSTART;TZID=America/Los_Angeles:20290421T100000
DTEND;TZID=America/Los_Angeles:20290421T113000
DTSTAMP:20260423T164223
CREATED:20250929T192207Z
LAST-MODIFIED:20250929T192207Z
UID:10026076-1871460000-1871465400@tillamookchamber.org
SUMMARY:Saturday Morning Family Fun at Pacific City Library
DESCRIPTION:Join us for a variety of activities for the whole family at Pacific City library every third Saturday of the month!
URL:https://tillamookchamber.org/event/saturday-morning-family-fun-at-pacific-city-library/2029-04-21/
LOCATION:Pacific City Library\, 6200 Camp St Pacific City\, OR
CATEGORIES:Community,Family Fun
ATTACH;FMTTYPE=image/png:https://tillamookchamber.org/wp-content/uploads/2025/09/Saturday-Morning-Family-Fun-at-TP.png
END:VEVENT
BEGIN:VEVENT
DTSTART;TZID=America/Los_Angeles:20290519T100000
DTEND;TZID=America/Los_Angeles:20290519T113000
DTSTAMP:20260423T164223
CREATED:20250929T192207Z
LAST-MODIFIED:20250929T192207Z
UID:10026077-1873879200-1873884600@tillamookchamber.org
SUMMARY:Saturday Morning Family Fun at Pacific City Library
DESCRIPTION:Join us for a variety of activities for the whole family at Pacific City library every third Saturday of the month!
URL:https://tillamookchamber.org/event/saturday-morning-family-fun-at-pacific-city-library/2029-05-19/
LOCATION:Pacific City Library\, 6200 Camp St Pacific City\, OR
CATEGORIES:Community,Family Fun
ATTACH;FMTTYPE=image/png:https://tillamookchamber.org/wp-content/uploads/2025/09/Saturday-Morning-Family-Fun-at-TP.png
END:VEVENT
BEGIN:VEVENT
DTSTART;TZID=America/Los_Angeles:20290616T100000
DTEND;TZID=America/Los_Angeles:20290616T113000
DTSTAMP:20260423T164223
CREATED:20250929T192207Z
LAST-MODIFIED:20250929T192207Z
UID:10026078-1876298400-1876303800@tillamookchamber.org
SUMMARY:Saturday Morning Family Fun at Pacific City Library
DESCRIPTION:Join us for a variety of activities for the whole family at Pacific City library every third Saturday of the month!
URL:https://tillamookchamber.org/event/saturday-morning-family-fun-at-pacific-city-library/2029-06-16/
LOCATION:Pacific City Library\, 6200 Camp St Pacific City\, OR
CATEGORIES:Community,Family Fun
ATTACH;FMTTYPE=image/png:https://tillamookchamber.org/wp-content/uploads/2025/09/Saturday-Morning-Family-Fun-at-TP.png
END:VEVENT
BEGIN:VEVENT
DTSTART;TZID=America/Los_Angeles:20290721T100000
DTEND;TZID=America/Los_Angeles:20290721T113000
DTSTAMP:20260423T164223
CREATED:20250929T192207Z
LAST-MODIFIED:20250929T192207Z
UID:10026079-1879322400-1879327800@tillamookchamber.org
SUMMARY:Saturday Morning Family Fun at Pacific City Library
DESCRIPTION:Join us for a variety of activities for the whole family at Pacific City library every third Saturday of the month!
URL:https://tillamookchamber.org/event/saturday-morning-family-fun-at-pacific-city-library/2029-07-21/
LOCATION:Pacific City Library\, 6200 Camp St Pacific City\, OR
CATEGORIES:Community,Family Fun
ATTACH;FMTTYPE=image/png:https://tillamookchamber.org/wp-content/uploads/2025/09/Saturday-Morning-Family-Fun-at-TP.png
END:VEVENT
BEGIN:VEVENT
DTSTART;TZID=America/Los_Angeles:20290818T100000
DTEND;TZID=America/Los_Angeles:20290818T113000
DTSTAMP:20260423T164223
CREATED:20250929T192207Z
LAST-MODIFIED:20250929T192207Z
UID:10026080-1881741600-1881747000@tillamookchamber.org
SUMMARY:Saturday Morning Family Fun at Pacific City Library
DESCRIPTION:Join us for a variety of activities for the whole family at Pacific City library every third Saturday of the month!
URL:https://tillamookchamber.org/event/saturday-morning-family-fun-at-pacific-city-library/2029-08-18/
LOCATION:Pacific City Library\, 6200 Camp St Pacific City\, OR
CATEGORIES:Community,Family Fun
ATTACH;FMTTYPE=image/png:https://tillamookchamber.org/wp-content/uploads/2025/09/Saturday-Morning-Family-Fun-at-TP.png
END:VEVENT
BEGIN:VEVENT
DTSTART;TZID=America/Los_Angeles:20290915T100000
DTEND;TZID=America/Los_Angeles:20290915T113000
DTSTAMP:20260423T164223
CREATED:20250929T192207Z
LAST-MODIFIED:20250929T192207Z
UID:10026081-1884160800-1884166200@tillamookchamber.org
SUMMARY:Saturday Morning Family Fun at Pacific City Library
DESCRIPTION:Join us for a variety of activities for the whole family at Pacific City library every third Saturday of the month!
URL:https://tillamookchamber.org/event/saturday-morning-family-fun-at-pacific-city-library/2029-09-15/
LOCATION:Pacific City Library\, 6200 Camp St Pacific City\, OR
CATEGORIES:Community,Family Fun
ATTACH;FMTTYPE=image/png:https://tillamookchamber.org/wp-content/uploads/2025/09/Saturday-Morning-Family-Fun-at-TP.png
END:VEVENT
BEGIN:VEVENT
DTSTART;TZID=America/Los_Angeles:20291020T100000
DTEND;TZID=America/Los_Angeles:20291020T113000
DTSTAMP:20260423T164223
CREATED:20250929T192207Z
LAST-MODIFIED:20250929T192207Z
UID:10026082-1887184800-1887190200@tillamookchamber.org
SUMMARY:Saturday Morning Family Fun at Pacific City Library
DESCRIPTION:Join us for a variety of activities for the whole family at Pacific City library every third Saturday of the month!
URL:https://tillamookchamber.org/event/saturday-morning-family-fun-at-pacific-city-library/2029-10-20/
LOCATION:Pacific City Library\, 6200 Camp St Pacific City\, OR
CATEGORIES:Community,Family Fun
ATTACH;FMTTYPE=image/png:https://tillamookchamber.org/wp-content/uploads/2025/09/Saturday-Morning-Family-Fun-at-TP.png
END:VEVENT
BEGIN:VEVENT
DTSTART;TZID=America/Los_Angeles:20291117T100000
DTEND;TZID=America/Los_Angeles:20291117T113000
DTSTAMP:20260423T164223
CREATED:20250929T192207Z
LAST-MODIFIED:20250929T192207Z
UID:10026083-1889604000-1889609400@tillamookchamber.org
SUMMARY:Saturday Morning Family Fun at Pacific City Library
DESCRIPTION:Join us for a variety of activities for the whole family at Pacific City library every third Saturday of the month!
URL:https://tillamookchamber.org/event/saturday-morning-family-fun-at-pacific-city-library/2029-11-17/
LOCATION:Pacific City Library\, 6200 Camp St Pacific City\, OR
CATEGORIES:Community,Family Fun
ATTACH;FMTTYPE=image/png:https://tillamookchamber.org/wp-content/uploads/2025/09/Saturday-Morning-Family-Fun-at-TP.png
END:VEVENT
BEGIN:VEVENT
DTSTART;TZID=America/Los_Angeles:20291215T100000
DTEND;TZID=America/Los_Angeles:20291215T113000
DTSTAMP:20260423T164223
CREATED:20250929T192207Z
LAST-MODIFIED:20250929T192207Z
UID:10026084-1892023200-1892028600@tillamookchamber.org
SUMMARY:Saturday Morning Family Fun at Pacific City Library
DESCRIPTION:Join us for a variety of activities for the whole family at Pacific City library every third Saturday of the month!
URL:https://tillamookchamber.org/event/saturday-morning-family-fun-at-pacific-city-library/2029-12-15/
LOCATION:Pacific City Library\, 6200 Camp St Pacific City\, OR
CATEGORIES:Community,Family Fun
ATTACH;FMTTYPE=image/png:https://tillamookchamber.org/wp-content/uploads/2025/09/Saturday-Morning-Family-Fun-at-TP.png
END:VEVENT
BEGIN:VEVENT
DTSTART;TZID=America/Los_Angeles:20300119T100000
DTEND;TZID=America/Los_Angeles:20300119T113000
DTSTAMP:20260423T164223
CREATED:20250929T192207Z
LAST-MODIFIED:20250929T192207Z
UID:10026085-1895047200-1895052600@tillamookchamber.org
SUMMARY:Saturday Morning Family Fun at Pacific City Library
DESCRIPTION:Join us for a variety of activities for the whole family at Pacific City library every third Saturday of the month!
URL:https://tillamookchamber.org/event/saturday-morning-family-fun-at-pacific-city-library/2030-01-19/
LOCATION:Pacific City Library\, 6200 Camp St Pacific City\, OR
CATEGORIES:Community,Family Fun
ATTACH;FMTTYPE=image/png:https://tillamookchamber.org/wp-content/uploads/2025/09/Saturday-Morning-Family-Fun-at-TP.png
END:VEVENT
BEGIN:VEVENT
DTSTART;TZID=America/Los_Angeles:20300216T100000
DTEND;TZID=America/Los_Angeles:20300216T113000
DTSTAMP:20260423T164223
CREATED:20250929T192207Z
LAST-MODIFIED:20250929T192207Z
UID:10026086-1897466400-1897471800@tillamookchamber.org
SUMMARY:Saturday Morning Family Fun at Pacific City Library
DESCRIPTION:Join us for a variety of activities for the whole family at Pacific City library every third Saturday of the month!
URL:https://tillamookchamber.org/event/saturday-morning-family-fun-at-pacific-city-library/2030-02-16/
LOCATION:Pacific City Library\, 6200 Camp St Pacific City\, OR
CATEGORIES:Community,Family Fun
ATTACH;FMTTYPE=image/png:https://tillamookchamber.org/wp-content/uploads/2025/09/Saturday-Morning-Family-Fun-at-TP.png
END:VEVENT
BEGIN:VEVENT
DTSTART;TZID=America/Los_Angeles:20300316T100000
DTEND;TZID=America/Los_Angeles:20300316T113000
DTSTAMP:20260423T164223
CREATED:20250929T192207Z
LAST-MODIFIED:20250929T192207Z
UID:10026087-1899885600-1899891000@tillamookchamber.org
SUMMARY:Saturday Morning Family Fun at Pacific City Library
DESCRIPTION:Join us for a variety of activities for the whole family at Pacific City library every third Saturday of the month!
URL:https://tillamookchamber.org/event/saturday-morning-family-fun-at-pacific-city-library/2030-03-16/
LOCATION:Pacific City Library\, 6200 Camp St Pacific City\, OR
CATEGORIES:Community,Family Fun
ATTACH;FMTTYPE=image/png:https://tillamookchamber.org/wp-content/uploads/2025/09/Saturday-Morning-Family-Fun-at-TP.png
END:VEVENT
BEGIN:VEVENT
DTSTART;TZID=America/Los_Angeles:20300420T100000
DTEND;TZID=America/Los_Angeles:20300420T113000
DTSTAMP:20260423T164223
CREATED:20250929T192207Z
LAST-MODIFIED:20250929T192207Z
UID:10026088-1902909600-1902915000@tillamookchamber.org
SUMMARY:Saturday Morning Family Fun at Pacific City Library
DESCRIPTION:Join us for a variety of activities for the whole family at Pacific City library every third Saturday of the month!
URL:https://tillamookchamber.org/event/saturday-morning-family-fun-at-pacific-city-library/2030-04-20/
LOCATION:Pacific City Library\, 6200 Camp St Pacific City\, OR
CATEGORIES:Community,Family Fun
ATTACH;FMTTYPE=image/png:https://tillamookchamber.org/wp-content/uploads/2025/09/Saturday-Morning-Family-Fun-at-TP.png
END:VEVENT
BEGIN:VEVENT
DTSTART;TZID=America/Los_Angeles:20300518T100000
DTEND;TZID=America/Los_Angeles:20300518T113000
DTSTAMP:20260423T164223
CREATED:20250929T192207Z
LAST-MODIFIED:20250929T192207Z
UID:10026089-1905328800-1905334200@tillamookchamber.org
SUMMARY:Saturday Morning Family Fun at Pacific City Library
DESCRIPTION:Join us for a variety of activities for the whole family at Pacific City library every third Saturday of the month!
URL:https://tillamookchamber.org/event/saturday-morning-family-fun-at-pacific-city-library/2030-05-18/
LOCATION:Pacific City Library\, 6200 Camp St Pacific City\, OR
CATEGORIES:Community,Family Fun
ATTACH;FMTTYPE=image/png:https://tillamookchamber.org/wp-content/uploads/2025/09/Saturday-Morning-Family-Fun-at-TP.png
END:VEVENT
BEGIN:VEVENT
DTSTART;TZID=America/Los_Angeles:20300615T100000
DTEND;TZID=America/Los_Angeles:20300615T113000
DTSTAMP:20260423T164223
CREATED:20250929T192207Z
LAST-MODIFIED:20250929T192207Z
UID:10026090-1907748000-1907753400@tillamookchamber.org
SUMMARY:Saturday Morning Family Fun at Pacific City Library
DESCRIPTION:Join us for a variety of activities for the whole family at Pacific City library every third Saturday of the month!
URL:https://tillamookchamber.org/event/saturday-morning-family-fun-at-pacific-city-library/2030-06-15/
LOCATION:Pacific City Library\, 6200 Camp St Pacific City\, OR
CATEGORIES:Community,Family Fun
ATTACH;FMTTYPE=image/png:https://tillamookchamber.org/wp-content/uploads/2025/09/Saturday-Morning-Family-Fun-at-TP.png
END:VEVENT
BEGIN:VEVENT
DTSTART;TZID=America/Los_Angeles:20300720T100000
DTEND;TZID=America/Los_Angeles:20300720T113000
DTSTAMP:20260423T164223
CREATED:20250929T192207Z
LAST-MODIFIED:20250929T192207Z
UID:10026091-1910772000-1910777400@tillamookchamber.org
SUMMARY:Saturday Morning Family Fun at Pacific City Library
DESCRIPTION:Join us for a variety of activities for the whole family at Pacific City library every third Saturday of the month!
URL:https://tillamookchamber.org/event/saturday-morning-family-fun-at-pacific-city-library/2030-07-20/
LOCATION:Pacific City Library\, 6200 Camp St Pacific City\, OR
CATEGORIES:Community,Family Fun
ATTACH;FMTTYPE=image/png:https://tillamookchamber.org/wp-content/uploads/2025/09/Saturday-Morning-Family-Fun-at-TP.png
END:VEVENT
BEGIN:VEVENT
DTSTART;TZID=America/Los_Angeles:20300817T100000
DTEND;TZID=America/Los_Angeles:20300817T113000
DTSTAMP:20260423T164223
CREATED:20250929T192207Z
LAST-MODIFIED:20250929T192207Z
UID:10026092-1913191200-1913196600@tillamookchamber.org
SUMMARY:Saturday Morning Family Fun at Pacific City Library
DESCRIPTION:Join us for a variety of activities for the whole family at Pacific City library every third Saturday of the month!
URL:https://tillamookchamber.org/event/saturday-morning-family-fun-at-pacific-city-library/2030-08-17/
LOCATION:Pacific City Library\, 6200 Camp St Pacific City\, OR
CATEGORIES:Community,Family Fun
ATTACH;FMTTYPE=image/png:https://tillamookchamber.org/wp-content/uploads/2025/09/Saturday-Morning-Family-Fun-at-TP.png
END:VEVENT
BEGIN:VEVENT
DTSTART;TZID=America/Los_Angeles:20300921T100000
DTEND;TZID=America/Los_Angeles:20300921T113000
DTSTAMP:20260423T164223
CREATED:20250929T192207Z
LAST-MODIFIED:20250929T192207Z
UID:10026093-1916215200-1916220600@tillamookchamber.org
SUMMARY:Saturday Morning Family Fun at Pacific City Library
DESCRIPTION:Join us for a variety of activities for the whole family at Pacific City library every third Saturday of the month!
URL:https://tillamookchamber.org/event/saturday-morning-family-fun-at-pacific-city-library/2030-09-21/
LOCATION:Pacific City Library\, 6200 Camp St Pacific City\, OR
CATEGORIES:Community,Family Fun
ATTACH;FMTTYPE=image/png:https://tillamookchamber.org/wp-content/uploads/2025/09/Saturday-Morning-Family-Fun-at-TP.png
END:VEVENT
END:VCALENDAR