BEGIN:VCALENDAR
VERSION:2.0
PRODID:-//Tillamook Area Chamber of Commerce - ECPv6.15.20//NONSGML v1.0//EN
CALSCALE:GREGORIAN
METHOD:PUBLISH
X-WR-CALNAME:Tillamook Area Chamber of Commerce
X-ORIGINAL-URL:https://tillamookchamber.org
X-WR-CALDESC:Events for Tillamook Area Chamber of Commerce
REFRESH-INTERVAL;VALUE=DURATION:PT1H
X-Robots-Tag:noindex
X-PUBLISHED-TTL:PT1H
BEGIN:VTIMEZONE
TZID:America/Los_Angeles
BEGIN:DAYLIGHT
TZOFFSETFROM:-0800
TZOFFSETTO:-0700
TZNAME:PDT
DTSTART:20250309T100000
END:DAYLIGHT
BEGIN:STANDARD
TZOFFSETFROM:-0700
TZOFFSETTO:-0800
TZNAME:PST
DTSTART:20251102T090000
END:STANDARD
BEGIN:DAYLIGHT
TZOFFSETFROM:-0800
TZOFFSETTO:-0700
TZNAME:PDT
DTSTART:20260308T100000
END:DAYLIGHT
BEGIN:STANDARD
TZOFFSETFROM:-0700
TZOFFSETTO:-0800
TZNAME:PST
DTSTART:20261101T090000
END:STANDARD
BEGIN:DAYLIGHT
TZOFFSETFROM:-0800
TZOFFSETTO:-0700
TZNAME:PDT
DTSTART:20270314T100000
END:DAYLIGHT
BEGIN:STANDARD
TZOFFSETFROM:-0700
TZOFFSETTO:-0800
TZNAME:PST
DTSTART:20271107T090000
END:STANDARD
BEGIN:DAYLIGHT
TZOFFSETFROM:-0800
TZOFFSETTO:-0700
TZNAME:PDT
DTSTART:20280312T100000
END:DAYLIGHT
BEGIN:STANDARD
TZOFFSETFROM:-0700
TZOFFSETTO:-0800
TZNAME:PST
DTSTART:20281105T090000
END:STANDARD
BEGIN:DAYLIGHT
TZOFFSETFROM:-0800
TZOFFSETTO:-0700
TZNAME:PDT
DTSTART:20290311T100000
END:DAYLIGHT
BEGIN:STANDARD
TZOFFSETFROM:-0700
TZOFFSETTO:-0800
TZNAME:PST
DTSTART:20291104T090000
END:STANDARD
END:VTIMEZONE
BEGIN:VEVENT
DTSTART;TZID=America/Los_Angeles:20260516T100000
DTEND;TZID=America/Los_Angeles:20260516T113000
DTSTAMP:20260423T100431
CREATED:20250929T192207Z
LAST-MODIFIED:20250929T192207Z
UID:10026041-1778925600-1778931000@tillamookchamber.org
SUMMARY:Saturday Morning Family Fun at Pacific City Library
DESCRIPTION:Join us for a variety of activities for the whole family at Pacific City library every third Saturday of the month!
URL:https://tillamookchamber.org/event/saturday-morning-family-fun-at-pacific-city-library/2026-05-16/
LOCATION:Pacific City Library\, 6200 Camp St Pacific City\, OR
CATEGORIES:Community,Family Fun
ATTACH;FMTTYPE=image/png:https://tillamookchamber.org/wp-content/uploads/2025/09/Saturday-Morning-Family-Fun-at-TP.png
END:VEVENT
BEGIN:VEVENT
DTSTART;TZID=America/Los_Angeles:20260620T100000
DTEND;TZID=America/Los_Angeles:20260620T113000
DTSTAMP:20260423T100431
CREATED:20250929T192207Z
LAST-MODIFIED:20250929T192207Z
UID:10026042-1781949600-1781955000@tillamookchamber.org
SUMMARY:Saturday Morning Family Fun at Pacific City Library
DESCRIPTION:Join us for a variety of activities for the whole family at Pacific City library every third Saturday of the month!
URL:https://tillamookchamber.org/event/saturday-morning-family-fun-at-pacific-city-library/2026-06-20/
LOCATION:Pacific City Library\, 6200 Camp St Pacific City\, OR
CATEGORIES:Community,Family Fun
ATTACH;FMTTYPE=image/png:https://tillamookchamber.org/wp-content/uploads/2025/09/Saturday-Morning-Family-Fun-at-TP.png
END:VEVENT
BEGIN:VEVENT
DTSTART;TZID=America/Los_Angeles:20260718T100000
DTEND;TZID=America/Los_Angeles:20260718T113000
DTSTAMP:20260423T100431
CREATED:20250929T192207Z
LAST-MODIFIED:20250929T192207Z
UID:10026043-1784368800-1784374200@tillamookchamber.org
SUMMARY:Saturday Morning Family Fun at Pacific City Library
DESCRIPTION:Join us for a variety of activities for the whole family at Pacific City library every third Saturday of the month!
URL:https://tillamookchamber.org/event/saturday-morning-family-fun-at-pacific-city-library/2026-07-18/
LOCATION:Pacific City Library\, 6200 Camp St Pacific City\, OR
CATEGORIES:Community,Family Fun
ATTACH;FMTTYPE=image/png:https://tillamookchamber.org/wp-content/uploads/2025/09/Saturday-Morning-Family-Fun-at-TP.png
END:VEVENT
BEGIN:VEVENT
DTSTART;TZID=America/Los_Angeles:20260815T100000
DTEND;TZID=America/Los_Angeles:20260815T113000
DTSTAMP:20260423T100431
CREATED:20250929T192207Z
LAST-MODIFIED:20250929T192207Z
UID:10026044-1786788000-1786793400@tillamookchamber.org
SUMMARY:Saturday Morning Family Fun at Pacific City Library
DESCRIPTION:Join us for a variety of activities for the whole family at Pacific City library every third Saturday of the month!
URL:https://tillamookchamber.org/event/saturday-morning-family-fun-at-pacific-city-library/2026-08-15/
LOCATION:Pacific City Library\, 6200 Camp St Pacific City\, OR
CATEGORIES:Community,Family Fun
ATTACH;FMTTYPE=image/png:https://tillamookchamber.org/wp-content/uploads/2025/09/Saturday-Morning-Family-Fun-at-TP.png
END:VEVENT
BEGIN:VEVENT
DTSTART;TZID=America/Los_Angeles:20260919T100000
DTEND;TZID=America/Los_Angeles:20260919T113000
DTSTAMP:20260423T100431
CREATED:20250929T192207Z
LAST-MODIFIED:20250929T192207Z
UID:10026045-1789812000-1789817400@tillamookchamber.org
SUMMARY:Saturday Morning Family Fun at Pacific City Library
DESCRIPTION:Join us for a variety of activities for the whole family at Pacific City library every third Saturday of the month!
URL:https://tillamookchamber.org/event/saturday-morning-family-fun-at-pacific-city-library/2026-09-19/
LOCATION:Pacific City Library\, 6200 Camp St Pacific City\, OR
CATEGORIES:Community,Family Fun
ATTACH;FMTTYPE=image/png:https://tillamookchamber.org/wp-content/uploads/2025/09/Saturday-Morning-Family-Fun-at-TP.png
END:VEVENT
BEGIN:VEVENT
DTSTART;TZID=America/Los_Angeles:20261017T100000
DTEND;TZID=America/Los_Angeles:20261017T113000
DTSTAMP:20260423T100431
CREATED:20250929T192207Z
LAST-MODIFIED:20250929T192207Z
UID:10026046-1792231200-1792236600@tillamookchamber.org
SUMMARY:Saturday Morning Family Fun at Pacific City Library
DESCRIPTION:Join us for a variety of activities for the whole family at Pacific City library every third Saturday of the month!
URL:https://tillamookchamber.org/event/saturday-morning-family-fun-at-pacific-city-library/2026-10-17/
LOCATION:Pacific City Library\, 6200 Camp St Pacific City\, OR
CATEGORIES:Community,Family Fun
ATTACH;FMTTYPE=image/png:https://tillamookchamber.org/wp-content/uploads/2025/09/Saturday-Morning-Family-Fun-at-TP.png
END:VEVENT
BEGIN:VEVENT
DTSTART;TZID=America/Los_Angeles:20261121T100000
DTEND;TZID=America/Los_Angeles:20261121T113000
DTSTAMP:20260423T100431
CREATED:20250929T192207Z
LAST-MODIFIED:20250929T192207Z
UID:10026047-1795255200-1795260600@tillamookchamber.org
SUMMARY:Saturday Morning Family Fun at Pacific City Library
DESCRIPTION:Join us for a variety of activities for the whole family at Pacific City library every third Saturday of the month!
URL:https://tillamookchamber.org/event/saturday-morning-family-fun-at-pacific-city-library/2026-11-21/
LOCATION:Pacific City Library\, 6200 Camp St Pacific City\, OR
CATEGORIES:Community,Family Fun
ATTACH;FMTTYPE=image/png:https://tillamookchamber.org/wp-content/uploads/2025/09/Saturday-Morning-Family-Fun-at-TP.png
END:VEVENT
BEGIN:VEVENT
DTSTART;TZID=America/Los_Angeles:20261219T100000
DTEND;TZID=America/Los_Angeles:20261219T113000
DTSTAMP:20260423T100431
CREATED:20250929T192207Z
LAST-MODIFIED:20250929T192207Z
UID:10026048-1797674400-1797679800@tillamookchamber.org
SUMMARY:Saturday Morning Family Fun at Pacific City Library
DESCRIPTION:Join us for a variety of activities for the whole family at Pacific City library every third Saturday of the month!
URL:https://tillamookchamber.org/event/saturday-morning-family-fun-at-pacific-city-library/2026-12-19/
LOCATION:Pacific City Library\, 6200 Camp St Pacific City\, OR
CATEGORIES:Community,Family Fun
ATTACH;FMTTYPE=image/png:https://tillamookchamber.org/wp-content/uploads/2025/09/Saturday-Morning-Family-Fun-at-TP.png
END:VEVENT
BEGIN:VEVENT
DTSTART;TZID=America/Los_Angeles:20270116T100000
DTEND;TZID=America/Los_Angeles:20270116T113000
DTSTAMP:20260423T100431
CREATED:20250929T192207Z
LAST-MODIFIED:20250929T192207Z
UID:10026049-1800093600-1800099000@tillamookchamber.org
SUMMARY:Saturday Morning Family Fun at Pacific City Library
DESCRIPTION:Join us for a variety of activities for the whole family at Pacific City library every third Saturday of the month!
URL:https://tillamookchamber.org/event/saturday-morning-family-fun-at-pacific-city-library/2027-01-16/
LOCATION:Pacific City Library\, 6200 Camp St Pacific City\, OR
CATEGORIES:Community,Family Fun
ATTACH;FMTTYPE=image/png:https://tillamookchamber.org/wp-content/uploads/2025/09/Saturday-Morning-Family-Fun-at-TP.png
END:VEVENT
BEGIN:VEVENT
DTSTART;TZID=America/Los_Angeles:20270220T100000
DTEND;TZID=America/Los_Angeles:20270220T113000
DTSTAMP:20260423T100431
CREATED:20250929T192207Z
LAST-MODIFIED:20250929T192207Z
UID:10026050-1803117600-1803123000@tillamookchamber.org
SUMMARY:Saturday Morning Family Fun at Pacific City Library
DESCRIPTION:Join us for a variety of activities for the whole family at Pacific City library every third Saturday of the month!
URL:https://tillamookchamber.org/event/saturday-morning-family-fun-at-pacific-city-library/2027-02-20/
LOCATION:Pacific City Library\, 6200 Camp St Pacific City\, OR
CATEGORIES:Community,Family Fun
ATTACH;FMTTYPE=image/png:https://tillamookchamber.org/wp-content/uploads/2025/09/Saturday-Morning-Family-Fun-at-TP.png
END:VEVENT
BEGIN:VEVENT
DTSTART;TZID=America/Los_Angeles:20270320T100000
DTEND;TZID=America/Los_Angeles:20270320T113000
DTSTAMP:20260423T100431
CREATED:20250929T192207Z
LAST-MODIFIED:20250929T192207Z
UID:10026051-1805536800-1805542200@tillamookchamber.org
SUMMARY:Saturday Morning Family Fun at Pacific City Library
DESCRIPTION:Join us for a variety of activities for the whole family at Pacific City library every third Saturday of the month!
URL:https://tillamookchamber.org/event/saturday-morning-family-fun-at-pacific-city-library/2027-03-20/
LOCATION:Pacific City Library\, 6200 Camp St Pacific City\, OR
CATEGORIES:Community,Family Fun
ATTACH;FMTTYPE=image/png:https://tillamookchamber.org/wp-content/uploads/2025/09/Saturday-Morning-Family-Fun-at-TP.png
END:VEVENT
BEGIN:VEVENT
DTSTART;TZID=America/Los_Angeles:20270417T100000
DTEND;TZID=America/Los_Angeles:20270417T113000
DTSTAMP:20260423T100431
CREATED:20250929T192207Z
LAST-MODIFIED:20250929T192207Z
UID:10026052-1807956000-1807961400@tillamookchamber.org
SUMMARY:Saturday Morning Family Fun at Pacific City Library
DESCRIPTION:Join us for a variety of activities for the whole family at Pacific City library every third Saturday of the month!
URL:https://tillamookchamber.org/event/saturday-morning-family-fun-at-pacific-city-library/2027-04-17/
LOCATION:Pacific City Library\, 6200 Camp St Pacific City\, OR
CATEGORIES:Community,Family Fun
ATTACH;FMTTYPE=image/png:https://tillamookchamber.org/wp-content/uploads/2025/09/Saturday-Morning-Family-Fun-at-TP.png
END:VEVENT
BEGIN:VEVENT
DTSTART;TZID=America/Los_Angeles:20270515T100000
DTEND;TZID=America/Los_Angeles:20270515T113000
DTSTAMP:20260423T100431
CREATED:20250929T192207Z
LAST-MODIFIED:20250929T192207Z
UID:10026053-1810375200-1810380600@tillamookchamber.org
SUMMARY:Saturday Morning Family Fun at Pacific City Library
DESCRIPTION:Join us for a variety of activities for the whole family at Pacific City library every third Saturday of the month!
URL:https://tillamookchamber.org/event/saturday-morning-family-fun-at-pacific-city-library/2027-05-15/
LOCATION:Pacific City Library\, 6200 Camp St Pacific City\, OR
CATEGORIES:Community,Family Fun
ATTACH;FMTTYPE=image/png:https://tillamookchamber.org/wp-content/uploads/2025/09/Saturday-Morning-Family-Fun-at-TP.png
END:VEVENT
BEGIN:VEVENT
DTSTART;TZID=America/Los_Angeles:20270619T100000
DTEND;TZID=America/Los_Angeles:20270619T113000
DTSTAMP:20260423T100431
CREATED:20250929T192207Z
LAST-MODIFIED:20250929T192207Z
UID:10026054-1813399200-1813404600@tillamookchamber.org
SUMMARY:Saturday Morning Family Fun at Pacific City Library
DESCRIPTION:Join us for a variety of activities for the whole family at Pacific City library every third Saturday of the month!
URL:https://tillamookchamber.org/event/saturday-morning-family-fun-at-pacific-city-library/2027-06-19/
LOCATION:Pacific City Library\, 6200 Camp St Pacific City\, OR
CATEGORIES:Community,Family Fun
ATTACH;FMTTYPE=image/png:https://tillamookchamber.org/wp-content/uploads/2025/09/Saturday-Morning-Family-Fun-at-TP.png
END:VEVENT
BEGIN:VEVENT
DTSTART;TZID=America/Los_Angeles:20270717T100000
DTEND;TZID=America/Los_Angeles:20270717T113000
DTSTAMP:20260423T100431
CREATED:20250929T192207Z
LAST-MODIFIED:20250929T192207Z
UID:10026055-1815818400-1815823800@tillamookchamber.org
SUMMARY:Saturday Morning Family Fun at Pacific City Library
DESCRIPTION:Join us for a variety of activities for the whole family at Pacific City library every third Saturday of the month!
URL:https://tillamookchamber.org/event/saturday-morning-family-fun-at-pacific-city-library/2027-07-17/
LOCATION:Pacific City Library\, 6200 Camp St Pacific City\, OR
CATEGORIES:Community,Family Fun
ATTACH;FMTTYPE=image/png:https://tillamookchamber.org/wp-content/uploads/2025/09/Saturday-Morning-Family-Fun-at-TP.png
END:VEVENT
BEGIN:VEVENT
DTSTART;TZID=America/Los_Angeles:20270821T100000
DTEND;TZID=America/Los_Angeles:20270821T113000
DTSTAMP:20260423T100431
CREATED:20250929T192207Z
LAST-MODIFIED:20250929T192207Z
UID:10026056-1818842400-1818847800@tillamookchamber.org
SUMMARY:Saturday Morning Family Fun at Pacific City Library
DESCRIPTION:Join us for a variety of activities for the whole family at Pacific City library every third Saturday of the month!
URL:https://tillamookchamber.org/event/saturday-morning-family-fun-at-pacific-city-library/2027-08-21/
LOCATION:Pacific City Library\, 6200 Camp St Pacific City\, OR
CATEGORIES:Community,Family Fun
ATTACH;FMTTYPE=image/png:https://tillamookchamber.org/wp-content/uploads/2025/09/Saturday-Morning-Family-Fun-at-TP.png
END:VEVENT
BEGIN:VEVENT
DTSTART;TZID=America/Los_Angeles:20270918T100000
DTEND;TZID=America/Los_Angeles:20270918T113000
DTSTAMP:20260423T100431
CREATED:20250929T192207Z
LAST-MODIFIED:20250929T192207Z
UID:10026057-1821261600-1821267000@tillamookchamber.org
SUMMARY:Saturday Morning Family Fun at Pacific City Library
DESCRIPTION:Join us for a variety of activities for the whole family at Pacific City library every third Saturday of the month!
URL:https://tillamookchamber.org/event/saturday-morning-family-fun-at-pacific-city-library/2027-09-18/
LOCATION:Pacific City Library\, 6200 Camp St Pacific City\, OR
CATEGORIES:Community,Family Fun
ATTACH;FMTTYPE=image/png:https://tillamookchamber.org/wp-content/uploads/2025/09/Saturday-Morning-Family-Fun-at-TP.png
END:VEVENT
BEGIN:VEVENT
DTSTART;TZID=America/Los_Angeles:20271016T100000
DTEND;TZID=America/Los_Angeles:20271016T113000
DTSTAMP:20260423T100431
CREATED:20250929T192207Z
LAST-MODIFIED:20250929T192207Z
UID:10026058-1823680800-1823686200@tillamookchamber.org
SUMMARY:Saturday Morning Family Fun at Pacific City Library
DESCRIPTION:Join us for a variety of activities for the whole family at Pacific City library every third Saturday of the month!
URL:https://tillamookchamber.org/event/saturday-morning-family-fun-at-pacific-city-library/2027-10-16/
LOCATION:Pacific City Library\, 6200 Camp St Pacific City\, OR
CATEGORIES:Community,Family Fun
ATTACH;FMTTYPE=image/png:https://tillamookchamber.org/wp-content/uploads/2025/09/Saturday-Morning-Family-Fun-at-TP.png
END:VEVENT
BEGIN:VEVENT
DTSTART;TZID=America/Los_Angeles:20271120T100000
DTEND;TZID=America/Los_Angeles:20271120T113000
DTSTAMP:20260423T100431
CREATED:20250929T192207Z
LAST-MODIFIED:20250929T192207Z
UID:10026059-1826704800-1826710200@tillamookchamber.org
SUMMARY:Saturday Morning Family Fun at Pacific City Library
DESCRIPTION:Join us for a variety of activities for the whole family at Pacific City library every third Saturday of the month!
URL:https://tillamookchamber.org/event/saturday-morning-family-fun-at-pacific-city-library/2027-11-20/
LOCATION:Pacific City Library\, 6200 Camp St Pacific City\, OR
CATEGORIES:Community,Family Fun
ATTACH;FMTTYPE=image/png:https://tillamookchamber.org/wp-content/uploads/2025/09/Saturday-Morning-Family-Fun-at-TP.png
END:VEVENT
BEGIN:VEVENT
DTSTART;TZID=America/Los_Angeles:20271218T100000
DTEND;TZID=America/Los_Angeles:20271218T113000
DTSTAMP:20260423T100431
CREATED:20250929T192207Z
LAST-MODIFIED:20250929T192207Z
UID:10026060-1829124000-1829129400@tillamookchamber.org
SUMMARY:Saturday Morning Family Fun at Pacific City Library
DESCRIPTION:Join us for a variety of activities for the whole family at Pacific City library every third Saturday of the month!
URL:https://tillamookchamber.org/event/saturday-morning-family-fun-at-pacific-city-library/2027-12-18/
LOCATION:Pacific City Library\, 6200 Camp St Pacific City\, OR
CATEGORIES:Community,Family Fun
ATTACH;FMTTYPE=image/png:https://tillamookchamber.org/wp-content/uploads/2025/09/Saturday-Morning-Family-Fun-at-TP.png
END:VEVENT
BEGIN:VEVENT
DTSTART;TZID=America/Los_Angeles:20280115T100000
DTEND;TZID=America/Los_Angeles:20280115T113000
DTSTAMP:20260423T100431
CREATED:20250929T192207Z
LAST-MODIFIED:20250929T192207Z
UID:10026061-1831543200-1831548600@tillamookchamber.org
SUMMARY:Saturday Morning Family Fun at Pacific City Library
DESCRIPTION:Join us for a variety of activities for the whole family at Pacific City library every third Saturday of the month!
URL:https://tillamookchamber.org/event/saturday-morning-family-fun-at-pacific-city-library/2028-01-15/
LOCATION:Pacific City Library\, 6200 Camp St Pacific City\, OR
CATEGORIES:Community,Family Fun
ATTACH;FMTTYPE=image/png:https://tillamookchamber.org/wp-content/uploads/2025/09/Saturday-Morning-Family-Fun-at-TP.png
END:VEVENT
BEGIN:VEVENT
DTSTART;TZID=America/Los_Angeles:20280219T100000
DTEND;TZID=America/Los_Angeles:20280219T113000
DTSTAMP:20260423T100431
CREATED:20250929T192207Z
LAST-MODIFIED:20250929T192207Z
UID:10026062-1834567200-1834572600@tillamookchamber.org
SUMMARY:Saturday Morning Family Fun at Pacific City Library
DESCRIPTION:Join us for a variety of activities for the whole family at Pacific City library every third Saturday of the month!
URL:https://tillamookchamber.org/event/saturday-morning-family-fun-at-pacific-city-library/2028-02-19/
LOCATION:Pacific City Library\, 6200 Camp St Pacific City\, OR
CATEGORIES:Community,Family Fun
ATTACH;FMTTYPE=image/png:https://tillamookchamber.org/wp-content/uploads/2025/09/Saturday-Morning-Family-Fun-at-TP.png
END:VEVENT
BEGIN:VEVENT
DTSTART;TZID=America/Los_Angeles:20280318T100000
DTEND;TZID=America/Los_Angeles:20280318T113000
DTSTAMP:20260423T100431
CREATED:20250929T192207Z
LAST-MODIFIED:20250929T192207Z
UID:10026063-1836986400-1836991800@tillamookchamber.org
SUMMARY:Saturday Morning Family Fun at Pacific City Library
DESCRIPTION:Join us for a variety of activities for the whole family at Pacific City library every third Saturday of the month!
URL:https://tillamookchamber.org/event/saturday-morning-family-fun-at-pacific-city-library/2028-03-18/
LOCATION:Pacific City Library\, 6200 Camp St Pacific City\, OR
CATEGORIES:Community,Family Fun
ATTACH;FMTTYPE=image/png:https://tillamookchamber.org/wp-content/uploads/2025/09/Saturday-Morning-Family-Fun-at-TP.png
END:VEVENT
BEGIN:VEVENT
DTSTART;TZID=America/Los_Angeles:20280415T100000
DTEND;TZID=America/Los_Angeles:20280415T113000
DTSTAMP:20260423T100431
CREATED:20250929T192207Z
LAST-MODIFIED:20250929T192207Z
UID:10026064-1839405600-1839411000@tillamookchamber.org
SUMMARY:Saturday Morning Family Fun at Pacific City Library
DESCRIPTION:Join us for a variety of activities for the whole family at Pacific City library every third Saturday of the month!
URL:https://tillamookchamber.org/event/saturday-morning-family-fun-at-pacific-city-library/2028-04-15/
LOCATION:Pacific City Library\, 6200 Camp St Pacific City\, OR
CATEGORIES:Community,Family Fun
ATTACH;FMTTYPE=image/png:https://tillamookchamber.org/wp-content/uploads/2025/09/Saturday-Morning-Family-Fun-at-TP.png
END:VEVENT
BEGIN:VEVENT
DTSTART;TZID=America/Los_Angeles:20280520T100000
DTEND;TZID=America/Los_Angeles:20280520T113000
DTSTAMP:20260423T100431
CREATED:20250929T192207Z
LAST-MODIFIED:20250929T192207Z
UID:10026065-1842429600-1842435000@tillamookchamber.org
SUMMARY:Saturday Morning Family Fun at Pacific City Library
DESCRIPTION:Join us for a variety of activities for the whole family at Pacific City library every third Saturday of the month!
URL:https://tillamookchamber.org/event/saturday-morning-family-fun-at-pacific-city-library/2028-05-20/
LOCATION:Pacific City Library\, 6200 Camp St Pacific City\, OR
CATEGORIES:Community,Family Fun
ATTACH;FMTTYPE=image/png:https://tillamookchamber.org/wp-content/uploads/2025/09/Saturday-Morning-Family-Fun-at-TP.png
END:VEVENT
BEGIN:VEVENT
DTSTART;TZID=America/Los_Angeles:20280617T100000
DTEND;TZID=America/Los_Angeles:20280617T113000
DTSTAMP:20260423T100431
CREATED:20250929T192207Z
LAST-MODIFIED:20250929T192207Z
UID:10026066-1844848800-1844854200@tillamookchamber.org
SUMMARY:Saturday Morning Family Fun at Pacific City Library
DESCRIPTION:Join us for a variety of activities for the whole family at Pacific City library every third Saturday of the month!
URL:https://tillamookchamber.org/event/saturday-morning-family-fun-at-pacific-city-library/2028-06-17/
LOCATION:Pacific City Library\, 6200 Camp St Pacific City\, OR
CATEGORIES:Community,Family Fun
ATTACH;FMTTYPE=image/png:https://tillamookchamber.org/wp-content/uploads/2025/09/Saturday-Morning-Family-Fun-at-TP.png
END:VEVENT
BEGIN:VEVENT
DTSTART;TZID=America/Los_Angeles:20280715T100000
DTEND;TZID=America/Los_Angeles:20280715T113000
DTSTAMP:20260423T100431
CREATED:20250929T192207Z
LAST-MODIFIED:20250929T192207Z
UID:10026067-1847268000-1847273400@tillamookchamber.org
SUMMARY:Saturday Morning Family Fun at Pacific City Library
DESCRIPTION:Join us for a variety of activities for the whole family at Pacific City library every third Saturday of the month!
URL:https://tillamookchamber.org/event/saturday-morning-family-fun-at-pacific-city-library/2028-07-15/
LOCATION:Pacific City Library\, 6200 Camp St Pacific City\, OR
CATEGORIES:Community,Family Fun
ATTACH;FMTTYPE=image/png:https://tillamookchamber.org/wp-content/uploads/2025/09/Saturday-Morning-Family-Fun-at-TP.png
END:VEVENT
BEGIN:VEVENT
DTSTART;TZID=America/Los_Angeles:20280819T100000
DTEND;TZID=America/Los_Angeles:20280819T113000
DTSTAMP:20260423T100431
CREATED:20250929T192207Z
LAST-MODIFIED:20250929T192207Z
UID:10026068-1850292000-1850297400@tillamookchamber.org
SUMMARY:Saturday Morning Family Fun at Pacific City Library
DESCRIPTION:Join us for a variety of activities for the whole family at Pacific City library every third Saturday of the month!
URL:https://tillamookchamber.org/event/saturday-morning-family-fun-at-pacific-city-library/2028-08-19/
LOCATION:Pacific City Library\, 6200 Camp St Pacific City\, OR
CATEGORIES:Community,Family Fun
ATTACH;FMTTYPE=image/png:https://tillamookchamber.org/wp-content/uploads/2025/09/Saturday-Morning-Family-Fun-at-TP.png
END:VEVENT
BEGIN:VEVENT
DTSTART;TZID=America/Los_Angeles:20280916T100000
DTEND;TZID=America/Los_Angeles:20280916T113000
DTSTAMP:20260423T100431
CREATED:20250929T192207Z
LAST-MODIFIED:20250929T192207Z
UID:10026069-1852711200-1852716600@tillamookchamber.org
SUMMARY:Saturday Morning Family Fun at Pacific City Library
DESCRIPTION:Join us for a variety of activities for the whole family at Pacific City library every third Saturday of the month!
URL:https://tillamookchamber.org/event/saturday-morning-family-fun-at-pacific-city-library/2028-09-16/
LOCATION:Pacific City Library\, 6200 Camp St Pacific City\, OR
CATEGORIES:Community,Family Fun
ATTACH;FMTTYPE=image/png:https://tillamookchamber.org/wp-content/uploads/2025/09/Saturday-Morning-Family-Fun-at-TP.png
END:VEVENT
BEGIN:VEVENT
DTSTART;TZID=America/Los_Angeles:20281021T100000
DTEND;TZID=America/Los_Angeles:20281021T113000
DTSTAMP:20260423T100431
CREATED:20250929T192207Z
LAST-MODIFIED:20250929T192207Z
UID:10026070-1855735200-1855740600@tillamookchamber.org
SUMMARY:Saturday Morning Family Fun at Pacific City Library
DESCRIPTION:Join us for a variety of activities for the whole family at Pacific City library every third Saturday of the month!
URL:https://tillamookchamber.org/event/saturday-morning-family-fun-at-pacific-city-library/2028-10-21/
LOCATION:Pacific City Library\, 6200 Camp St Pacific City\, OR
CATEGORIES:Community,Family Fun
ATTACH;FMTTYPE=image/png:https://tillamookchamber.org/wp-content/uploads/2025/09/Saturday-Morning-Family-Fun-at-TP.png
END:VEVENT
END:VCALENDAR