BEGIN:VCALENDAR
VERSION:2.0
PRODID:-//Tillamook Area Chamber of Commerce - ECPv6.15.20//NONSGML v1.0//EN
CALSCALE:GREGORIAN
METHOD:PUBLISH
X-WR-CALNAME:Tillamook Area Chamber of Commerce
X-ORIGINAL-URL:https://tillamookchamber.org
X-WR-CALDESC:Events for Tillamook Area Chamber of Commerce
REFRESH-INTERVAL;VALUE=DURATION:PT1H
X-Robots-Tag:noindex
X-PUBLISHED-TTL:PT1H
BEGIN:VTIMEZONE
TZID:America/Los_Angeles
BEGIN:DAYLIGHT
TZOFFSETFROM:-0800
TZOFFSETTO:-0700
TZNAME:PDT
DTSTART:20270314T100000
END:DAYLIGHT
BEGIN:STANDARD
TZOFFSETFROM:-0700
TZOFFSETTO:-0800
TZNAME:PST
DTSTART:20271107T090000
END:STANDARD
BEGIN:DAYLIGHT
TZOFFSETFROM:-0800
TZOFFSETTO:-0700
TZNAME:PDT
DTSTART:20280312T100000
END:DAYLIGHT
BEGIN:STANDARD
TZOFFSETFROM:-0700
TZOFFSETTO:-0800
TZNAME:PST
DTSTART:20281105T090000
END:STANDARD
BEGIN:DAYLIGHT
TZOFFSETFROM:-0800
TZOFFSETTO:-0700
TZNAME:PDT
DTSTART:20290311T100000
END:DAYLIGHT
BEGIN:STANDARD
TZOFFSETFROM:-0700
TZOFFSETTO:-0800
TZNAME:PST
DTSTART:20291104T090000
END:STANDARD
END:VTIMEZONE
BEGIN:VEVENT
DTSTART;TZID=America/Los_Angeles:20280302T160000
DTEND;TZID=America/Los_Angeles:20280302T173000
DTSTAMP:20260424T181743
CREATED:20240822T191911Z
LAST-MODIFIED:20240822T191911Z
UID:10015746-1835625600-1835631000@tillamookchamber.org
SUMMARY:Knitting Group
DESCRIPTION:Join a fun group of knitters at North Tillamook Library in Manzanita on Thursdays from 4pm to 5:30pm.
URL:https://tillamookchamber.org/event/knitting-group/2028-03-02/
LOCATION:North Tillamook Library\, 571 Laneda Ave\, Manzanita\, OR 97130
CATEGORIES:Community,Education
ATTACH;FMTTYPE=image/png:https://tillamookchamber.org/wp-content/uploads/2024/08/logo.png
END:VEVENT
BEGIN:VEVENT
DTSTART;TZID=America/Los_Angeles:20280309T160000
DTEND;TZID=America/Los_Angeles:20280309T173000
DTSTAMP:20260424T181743
CREATED:20240822T191911Z
LAST-MODIFIED:20240822T191911Z
UID:10015747-1836230400-1836235800@tillamookchamber.org
SUMMARY:Knitting Group
DESCRIPTION:Join a fun group of knitters at North Tillamook Library in Manzanita on Thursdays from 4pm to 5:30pm.
URL:https://tillamookchamber.org/event/knitting-group/2028-03-09/
LOCATION:North Tillamook Library\, 571 Laneda Ave\, Manzanita\, OR 97130
CATEGORIES:Community,Education
ATTACH;FMTTYPE=image/png:https://tillamookchamber.org/wp-content/uploads/2024/08/logo.png
END:VEVENT
BEGIN:VEVENT
DTSTART;TZID=America/Los_Angeles:20280316T160000
DTEND;TZID=America/Los_Angeles:20280316T173000
DTSTAMP:20260424T181743
CREATED:20240822T191911Z
LAST-MODIFIED:20240822T191911Z
UID:10015748-1836835200-1836840600@tillamookchamber.org
SUMMARY:Knitting Group
DESCRIPTION:Join a fun group of knitters at North Tillamook Library in Manzanita on Thursdays from 4pm to 5:30pm.
URL:https://tillamookchamber.org/event/knitting-group/2028-03-16/
LOCATION:North Tillamook Library\, 571 Laneda Ave\, Manzanita\, OR 97130
CATEGORIES:Community,Education
ATTACH;FMTTYPE=image/png:https://tillamookchamber.org/wp-content/uploads/2024/08/logo.png
END:VEVENT
BEGIN:VEVENT
DTSTART;TZID=America/Los_Angeles:20280323T160000
DTEND;TZID=America/Los_Angeles:20280323T173000
DTSTAMP:20260424T181743
CREATED:20240822T191911Z
LAST-MODIFIED:20240822T191911Z
UID:10015749-1837440000-1837445400@tillamookchamber.org
SUMMARY:Knitting Group
DESCRIPTION:Join a fun group of knitters at North Tillamook Library in Manzanita on Thursdays from 4pm to 5:30pm.
URL:https://tillamookchamber.org/event/knitting-group/2028-03-23/
LOCATION:North Tillamook Library\, 571 Laneda Ave\, Manzanita\, OR 97130
CATEGORIES:Community,Education
ATTACH;FMTTYPE=image/png:https://tillamookchamber.org/wp-content/uploads/2024/08/logo.png
END:VEVENT
BEGIN:VEVENT
DTSTART;TZID=America/Los_Angeles:20280330T160000
DTEND;TZID=America/Los_Angeles:20280330T173000
DTSTAMP:20260424T181743
CREATED:20240822T191911Z
LAST-MODIFIED:20240822T191911Z
UID:10015750-1838044800-1838050200@tillamookchamber.org
SUMMARY:Knitting Group
DESCRIPTION:Join a fun group of knitters at North Tillamook Library in Manzanita on Thursdays from 4pm to 5:30pm.
URL:https://tillamookchamber.org/event/knitting-group/2028-03-30/
LOCATION:North Tillamook Library\, 571 Laneda Ave\, Manzanita\, OR 97130
CATEGORIES:Community,Education
ATTACH;FMTTYPE=image/png:https://tillamookchamber.org/wp-content/uploads/2024/08/logo.png
END:VEVENT
BEGIN:VEVENT
DTSTART;TZID=America/Los_Angeles:20280406T160000
DTEND;TZID=America/Los_Angeles:20280406T173000
DTSTAMP:20260424T181743
CREATED:20240822T191911Z
LAST-MODIFIED:20240822T191911Z
UID:10015751-1838649600-1838655000@tillamookchamber.org
SUMMARY:Knitting Group
DESCRIPTION:Join a fun group of knitters at North Tillamook Library in Manzanita on Thursdays from 4pm to 5:30pm.
URL:https://tillamookchamber.org/event/knitting-group/2028-04-06/
LOCATION:North Tillamook Library\, 571 Laneda Ave\, Manzanita\, OR 97130
CATEGORIES:Community,Education
ATTACH;FMTTYPE=image/png:https://tillamookchamber.org/wp-content/uploads/2024/08/logo.png
END:VEVENT
BEGIN:VEVENT
DTSTART;TZID=America/Los_Angeles:20280413T160000
DTEND;TZID=America/Los_Angeles:20280413T173000
DTSTAMP:20260424T181743
CREATED:20240822T191911Z
LAST-MODIFIED:20240822T191911Z
UID:10015752-1839254400-1839259800@tillamookchamber.org
SUMMARY:Knitting Group
DESCRIPTION:Join a fun group of knitters at North Tillamook Library in Manzanita on Thursdays from 4pm to 5:30pm.
URL:https://tillamookchamber.org/event/knitting-group/2028-04-13/
LOCATION:North Tillamook Library\, 571 Laneda Ave\, Manzanita\, OR 97130
CATEGORIES:Community,Education
ATTACH;FMTTYPE=image/png:https://tillamookchamber.org/wp-content/uploads/2024/08/logo.png
END:VEVENT
BEGIN:VEVENT
DTSTART;TZID=America/Los_Angeles:20280420T160000
DTEND;TZID=America/Los_Angeles:20280420T173000
DTSTAMP:20260424T181743
CREATED:20240822T191911Z
LAST-MODIFIED:20240822T191911Z
UID:10015753-1839859200-1839864600@tillamookchamber.org
SUMMARY:Knitting Group
DESCRIPTION:Join a fun group of knitters at North Tillamook Library in Manzanita on Thursdays from 4pm to 5:30pm.
URL:https://tillamookchamber.org/event/knitting-group/2028-04-20/
LOCATION:North Tillamook Library\, 571 Laneda Ave\, Manzanita\, OR 97130
CATEGORIES:Community,Education
ATTACH;FMTTYPE=image/png:https://tillamookchamber.org/wp-content/uploads/2024/08/logo.png
END:VEVENT
BEGIN:VEVENT
DTSTART;TZID=America/Los_Angeles:20280427T160000
DTEND;TZID=America/Los_Angeles:20280427T173000
DTSTAMP:20260424T181743
CREATED:20240822T191911Z
LAST-MODIFIED:20240822T191911Z
UID:10015754-1840464000-1840469400@tillamookchamber.org
SUMMARY:Knitting Group
DESCRIPTION:Join a fun group of knitters at North Tillamook Library in Manzanita on Thursdays from 4pm to 5:30pm.
URL:https://tillamookchamber.org/event/knitting-group/2028-04-27/
LOCATION:North Tillamook Library\, 571 Laneda Ave\, Manzanita\, OR 97130
CATEGORIES:Community,Education
ATTACH;FMTTYPE=image/png:https://tillamookchamber.org/wp-content/uploads/2024/08/logo.png
END:VEVENT
BEGIN:VEVENT
DTSTART;TZID=America/Los_Angeles:20280504T160000
DTEND;TZID=America/Los_Angeles:20280504T173000
DTSTAMP:20260424T181743
CREATED:20240822T191911Z
LAST-MODIFIED:20240822T191911Z
UID:10015755-1841068800-1841074200@tillamookchamber.org
SUMMARY:Knitting Group
DESCRIPTION:Join a fun group of knitters at North Tillamook Library in Manzanita on Thursdays from 4pm to 5:30pm.
URL:https://tillamookchamber.org/event/knitting-group/2028-05-04/
LOCATION:North Tillamook Library\, 571 Laneda Ave\, Manzanita\, OR 97130
CATEGORIES:Community,Education
ATTACH;FMTTYPE=image/png:https://tillamookchamber.org/wp-content/uploads/2024/08/logo.png
END:VEVENT
BEGIN:VEVENT
DTSTART;TZID=America/Los_Angeles:20280511T160000
DTEND;TZID=America/Los_Angeles:20280511T173000
DTSTAMP:20260424T181743
CREATED:20240822T191911Z
LAST-MODIFIED:20240822T191911Z
UID:10015756-1841673600-1841679000@tillamookchamber.org
SUMMARY:Knitting Group
DESCRIPTION:Join a fun group of knitters at North Tillamook Library in Manzanita on Thursdays from 4pm to 5:30pm.
URL:https://tillamookchamber.org/event/knitting-group/2028-05-11/
LOCATION:North Tillamook Library\, 571 Laneda Ave\, Manzanita\, OR 97130
CATEGORIES:Community,Education
ATTACH;FMTTYPE=image/png:https://tillamookchamber.org/wp-content/uploads/2024/08/logo.png
END:VEVENT
BEGIN:VEVENT
DTSTART;TZID=America/Los_Angeles:20280518T160000
DTEND;TZID=America/Los_Angeles:20280518T173000
DTSTAMP:20260424T181743
CREATED:20240822T191911Z
LAST-MODIFIED:20240822T191911Z
UID:10015757-1842278400-1842283800@tillamookchamber.org
SUMMARY:Knitting Group
DESCRIPTION:Join a fun group of knitters at North Tillamook Library in Manzanita on Thursdays from 4pm to 5:30pm.
URL:https://tillamookchamber.org/event/knitting-group/2028-05-18/
LOCATION:North Tillamook Library\, 571 Laneda Ave\, Manzanita\, OR 97130
CATEGORIES:Community,Education
ATTACH;FMTTYPE=image/png:https://tillamookchamber.org/wp-content/uploads/2024/08/logo.png
END:VEVENT
BEGIN:VEVENT
DTSTART;TZID=America/Los_Angeles:20280525T160000
DTEND;TZID=America/Los_Angeles:20280525T173000
DTSTAMP:20260424T181743
CREATED:20240822T191911Z
LAST-MODIFIED:20240822T191911Z
UID:10015758-1842883200-1842888600@tillamookchamber.org
SUMMARY:Knitting Group
DESCRIPTION:Join a fun group of knitters at North Tillamook Library in Manzanita on Thursdays from 4pm to 5:30pm.
URL:https://tillamookchamber.org/event/knitting-group/2028-05-25/
LOCATION:North Tillamook Library\, 571 Laneda Ave\, Manzanita\, OR 97130
CATEGORIES:Community,Education
ATTACH;FMTTYPE=image/png:https://tillamookchamber.org/wp-content/uploads/2024/08/logo.png
END:VEVENT
BEGIN:VEVENT
DTSTART;TZID=America/Los_Angeles:20280601T160000
DTEND;TZID=America/Los_Angeles:20280601T173000
DTSTAMP:20260424T181743
CREATED:20240822T191911Z
LAST-MODIFIED:20240822T191911Z
UID:10015759-1843488000-1843493400@tillamookchamber.org
SUMMARY:Knitting Group
DESCRIPTION:Join a fun group of knitters at North Tillamook Library in Manzanita on Thursdays from 4pm to 5:30pm.
URL:https://tillamookchamber.org/event/knitting-group/2028-06-01/
LOCATION:North Tillamook Library\, 571 Laneda Ave\, Manzanita\, OR 97130
CATEGORIES:Community,Education
ATTACH;FMTTYPE=image/png:https://tillamookchamber.org/wp-content/uploads/2024/08/logo.png
END:VEVENT
BEGIN:VEVENT
DTSTART;TZID=America/Los_Angeles:20280608T160000
DTEND;TZID=America/Los_Angeles:20280608T173000
DTSTAMP:20260424T181743
CREATED:20240822T191911Z
LAST-MODIFIED:20240822T191911Z
UID:10015760-1844092800-1844098200@tillamookchamber.org
SUMMARY:Knitting Group
DESCRIPTION:Join a fun group of knitters at North Tillamook Library in Manzanita on Thursdays from 4pm to 5:30pm.
URL:https://tillamookchamber.org/event/knitting-group/2028-06-08/
LOCATION:North Tillamook Library\, 571 Laneda Ave\, Manzanita\, OR 97130
CATEGORIES:Community,Education
ATTACH;FMTTYPE=image/png:https://tillamookchamber.org/wp-content/uploads/2024/08/logo.png
END:VEVENT
BEGIN:VEVENT
DTSTART;TZID=America/Los_Angeles:20280615T160000
DTEND;TZID=America/Los_Angeles:20280615T173000
DTSTAMP:20260424T181743
CREATED:20240822T191911Z
LAST-MODIFIED:20240822T191911Z
UID:10015761-1844697600-1844703000@tillamookchamber.org
SUMMARY:Knitting Group
DESCRIPTION:Join a fun group of knitters at North Tillamook Library in Manzanita on Thursdays from 4pm to 5:30pm.
URL:https://tillamookchamber.org/event/knitting-group/2028-06-15/
LOCATION:North Tillamook Library\, 571 Laneda Ave\, Manzanita\, OR 97130
CATEGORIES:Community,Education
ATTACH;FMTTYPE=image/png:https://tillamookchamber.org/wp-content/uploads/2024/08/logo.png
END:VEVENT
BEGIN:VEVENT
DTSTART;TZID=America/Los_Angeles:20280622T160000
DTEND;TZID=America/Los_Angeles:20280622T173000
DTSTAMP:20260424T181743
CREATED:20240822T191911Z
LAST-MODIFIED:20240822T191911Z
UID:10015762-1845302400-1845307800@tillamookchamber.org
SUMMARY:Knitting Group
DESCRIPTION:Join a fun group of knitters at North Tillamook Library in Manzanita on Thursdays from 4pm to 5:30pm.
URL:https://tillamookchamber.org/event/knitting-group/2028-06-22/
LOCATION:North Tillamook Library\, 571 Laneda Ave\, Manzanita\, OR 97130
CATEGORIES:Community,Education
ATTACH;FMTTYPE=image/png:https://tillamookchamber.org/wp-content/uploads/2024/08/logo.png
END:VEVENT
BEGIN:VEVENT
DTSTART;TZID=America/Los_Angeles:20280629T160000
DTEND;TZID=America/Los_Angeles:20280629T173000
DTSTAMP:20260424T181743
CREATED:20240822T191911Z
LAST-MODIFIED:20240822T191911Z
UID:10015763-1845907200-1845912600@tillamookchamber.org
SUMMARY:Knitting Group
DESCRIPTION:Join a fun group of knitters at North Tillamook Library in Manzanita on Thursdays from 4pm to 5:30pm.
URL:https://tillamookchamber.org/event/knitting-group/2028-06-29/
LOCATION:North Tillamook Library\, 571 Laneda Ave\, Manzanita\, OR 97130
CATEGORIES:Community,Education
ATTACH;FMTTYPE=image/png:https://tillamookchamber.org/wp-content/uploads/2024/08/logo.png
END:VEVENT
BEGIN:VEVENT
DTSTART;TZID=America/Los_Angeles:20280706T160000
DTEND;TZID=America/Los_Angeles:20280706T173000
DTSTAMP:20260424T181743
CREATED:20240822T191911Z
LAST-MODIFIED:20240822T191911Z
UID:10015764-1846512000-1846517400@tillamookchamber.org
SUMMARY:Knitting Group
DESCRIPTION:Join a fun group of knitters at North Tillamook Library in Manzanita on Thursdays from 4pm to 5:30pm.
URL:https://tillamookchamber.org/event/knitting-group/2028-07-06/
LOCATION:North Tillamook Library\, 571 Laneda Ave\, Manzanita\, OR 97130
CATEGORIES:Community,Education
ATTACH;FMTTYPE=image/png:https://tillamookchamber.org/wp-content/uploads/2024/08/logo.png
END:VEVENT
BEGIN:VEVENT
DTSTART;TZID=America/Los_Angeles:20280713T160000
DTEND;TZID=America/Los_Angeles:20280713T173000
DTSTAMP:20260424T181743
CREATED:20240822T191911Z
LAST-MODIFIED:20240822T191911Z
UID:10015765-1847116800-1847122200@tillamookchamber.org
SUMMARY:Knitting Group
DESCRIPTION:Join a fun group of knitters at North Tillamook Library in Manzanita on Thursdays from 4pm to 5:30pm.
URL:https://tillamookchamber.org/event/knitting-group/2028-07-13/
LOCATION:North Tillamook Library\, 571 Laneda Ave\, Manzanita\, OR 97130
CATEGORIES:Community,Education
ATTACH;FMTTYPE=image/png:https://tillamookchamber.org/wp-content/uploads/2024/08/logo.png
END:VEVENT
BEGIN:VEVENT
DTSTART;TZID=America/Los_Angeles:20280720T160000
DTEND;TZID=America/Los_Angeles:20280720T173000
DTSTAMP:20260424T181743
CREATED:20240822T191911Z
LAST-MODIFIED:20240822T191911Z
UID:10015766-1847721600-1847727000@tillamookchamber.org
SUMMARY:Knitting Group
DESCRIPTION:Join a fun group of knitters at North Tillamook Library in Manzanita on Thursdays from 4pm to 5:30pm.
URL:https://tillamookchamber.org/event/knitting-group/2028-07-20/
LOCATION:North Tillamook Library\, 571 Laneda Ave\, Manzanita\, OR 97130
CATEGORIES:Community,Education
ATTACH;FMTTYPE=image/png:https://tillamookchamber.org/wp-content/uploads/2024/08/logo.png
END:VEVENT
BEGIN:VEVENT
DTSTART;TZID=America/Los_Angeles:20280727T160000
DTEND;TZID=America/Los_Angeles:20280727T173000
DTSTAMP:20260424T181743
CREATED:20240822T191911Z
LAST-MODIFIED:20240822T191911Z
UID:10015767-1848326400-1848331800@tillamookchamber.org
SUMMARY:Knitting Group
DESCRIPTION:Join a fun group of knitters at North Tillamook Library in Manzanita on Thursdays from 4pm to 5:30pm.
URL:https://tillamookchamber.org/event/knitting-group/2028-07-27/
LOCATION:North Tillamook Library\, 571 Laneda Ave\, Manzanita\, OR 97130
CATEGORIES:Community,Education
ATTACH;FMTTYPE=image/png:https://tillamookchamber.org/wp-content/uploads/2024/08/logo.png
END:VEVENT
BEGIN:VEVENT
DTSTART;TZID=America/Los_Angeles:20280803T160000
DTEND;TZID=America/Los_Angeles:20280803T173000
DTSTAMP:20260424T181743
CREATED:20240822T191911Z
LAST-MODIFIED:20240822T191911Z
UID:10015768-1848931200-1848936600@tillamookchamber.org
SUMMARY:Knitting Group
DESCRIPTION:Join a fun group of knitters at North Tillamook Library in Manzanita on Thursdays from 4pm to 5:30pm.
URL:https://tillamookchamber.org/event/knitting-group/2028-08-03/
LOCATION:North Tillamook Library\, 571 Laneda Ave\, Manzanita\, OR 97130
CATEGORIES:Community,Education
ATTACH;FMTTYPE=image/png:https://tillamookchamber.org/wp-content/uploads/2024/08/logo.png
END:VEVENT
BEGIN:VEVENT
DTSTART;TZID=America/Los_Angeles:20280810T160000
DTEND;TZID=America/Los_Angeles:20280810T173000
DTSTAMP:20260424T181743
CREATED:20240822T191911Z
LAST-MODIFIED:20240822T191911Z
UID:10015769-1849536000-1849541400@tillamookchamber.org
SUMMARY:Knitting Group
DESCRIPTION:Join a fun group of knitters at North Tillamook Library in Manzanita on Thursdays from 4pm to 5:30pm.
URL:https://tillamookchamber.org/event/knitting-group/2028-08-10/
LOCATION:North Tillamook Library\, 571 Laneda Ave\, Manzanita\, OR 97130
CATEGORIES:Community,Education
ATTACH;FMTTYPE=image/png:https://tillamookchamber.org/wp-content/uploads/2024/08/logo.png
END:VEVENT
BEGIN:VEVENT
DTSTART;TZID=America/Los_Angeles:20280817T160000
DTEND;TZID=America/Los_Angeles:20280817T173000
DTSTAMP:20260424T181743
CREATED:20240822T191911Z
LAST-MODIFIED:20240822T191911Z
UID:10015770-1850140800-1850146200@tillamookchamber.org
SUMMARY:Knitting Group
DESCRIPTION:Join a fun group of knitters at North Tillamook Library in Manzanita on Thursdays from 4pm to 5:30pm.
URL:https://tillamookchamber.org/event/knitting-group/2028-08-17/
LOCATION:North Tillamook Library\, 571 Laneda Ave\, Manzanita\, OR 97130
CATEGORIES:Community,Education
ATTACH;FMTTYPE=image/png:https://tillamookchamber.org/wp-content/uploads/2024/08/logo.png
END:VEVENT
BEGIN:VEVENT
DTSTART;TZID=America/Los_Angeles:20280824T160000
DTEND;TZID=America/Los_Angeles:20280824T173000
DTSTAMP:20260424T181743
CREATED:20240822T191911Z
LAST-MODIFIED:20240822T191911Z
UID:10015771-1850745600-1850751000@tillamookchamber.org
SUMMARY:Knitting Group
DESCRIPTION:Join a fun group of knitters at North Tillamook Library in Manzanita on Thursdays from 4pm to 5:30pm.
URL:https://tillamookchamber.org/event/knitting-group/2028-08-24/
LOCATION:North Tillamook Library\, 571 Laneda Ave\, Manzanita\, OR 97130
CATEGORIES:Community,Education
ATTACH;FMTTYPE=image/png:https://tillamookchamber.org/wp-content/uploads/2024/08/logo.png
END:VEVENT
BEGIN:VEVENT
DTSTART;TZID=America/Los_Angeles:20280831T160000
DTEND;TZID=America/Los_Angeles:20280831T173000
DTSTAMP:20260424T181743
CREATED:20240822T191911Z
LAST-MODIFIED:20240822T191911Z
UID:10015772-1851350400-1851355800@tillamookchamber.org
SUMMARY:Knitting Group
DESCRIPTION:Join a fun group of knitters at North Tillamook Library in Manzanita on Thursdays from 4pm to 5:30pm.
URL:https://tillamookchamber.org/event/knitting-group/2028-08-31/
LOCATION:North Tillamook Library\, 571 Laneda Ave\, Manzanita\, OR 97130
CATEGORIES:Community,Education
ATTACH;FMTTYPE=image/png:https://tillamookchamber.org/wp-content/uploads/2024/08/logo.png
END:VEVENT
BEGIN:VEVENT
DTSTART;TZID=America/Los_Angeles:20280907T160000
DTEND;TZID=America/Los_Angeles:20280907T173000
DTSTAMP:20260424T181743
CREATED:20240822T191911Z
LAST-MODIFIED:20240822T191911Z
UID:10015773-1851955200-1851960600@tillamookchamber.org
SUMMARY:Knitting Group
DESCRIPTION:Join a fun group of knitters at North Tillamook Library in Manzanita on Thursdays from 4pm to 5:30pm.
URL:https://tillamookchamber.org/event/knitting-group/2028-09-07/
LOCATION:North Tillamook Library\, 571 Laneda Ave\, Manzanita\, OR 97130
CATEGORIES:Community,Education
ATTACH;FMTTYPE=image/png:https://tillamookchamber.org/wp-content/uploads/2024/08/logo.png
END:VEVENT
BEGIN:VEVENT
DTSTART;TZID=America/Los_Angeles:20280914T160000
DTEND;TZID=America/Los_Angeles:20280914T173000
DTSTAMP:20260424T181743
CREATED:20240822T191911Z
LAST-MODIFIED:20240822T191911Z
UID:10015774-1852560000-1852565400@tillamookchamber.org
SUMMARY:Knitting Group
DESCRIPTION:Join a fun group of knitters at North Tillamook Library in Manzanita on Thursdays from 4pm to 5:30pm.
URL:https://tillamookchamber.org/event/knitting-group/2028-09-14/
LOCATION:North Tillamook Library\, 571 Laneda Ave\, Manzanita\, OR 97130
CATEGORIES:Community,Education
ATTACH;FMTTYPE=image/png:https://tillamookchamber.org/wp-content/uploads/2024/08/logo.png
END:VEVENT
BEGIN:VEVENT
DTSTART;TZID=America/Los_Angeles:20280921T160000
DTEND;TZID=America/Los_Angeles:20280921T173000
DTSTAMP:20260424T181743
CREATED:20240822T191911Z
LAST-MODIFIED:20240822T191911Z
UID:10015775-1853164800-1853170200@tillamookchamber.org
SUMMARY:Knitting Group
DESCRIPTION:Join a fun group of knitters at North Tillamook Library in Manzanita on Thursdays from 4pm to 5:30pm.
URL:https://tillamookchamber.org/event/knitting-group/2028-09-21/
LOCATION:North Tillamook Library\, 571 Laneda Ave\, Manzanita\, OR 97130
CATEGORIES:Community,Education
ATTACH;FMTTYPE=image/png:https://tillamookchamber.org/wp-content/uploads/2024/08/logo.png
END:VEVENT
END:VCALENDAR