BEGIN:VCALENDAR
VERSION:2.0
PRODID:-//Tillamook Area Chamber of Commerce - ECPv6.15.20//NONSGML v1.0//EN
CALSCALE:GREGORIAN
METHOD:PUBLISH
X-WR-CALNAME:Tillamook Area Chamber of Commerce
X-ORIGINAL-URL:https://tillamookchamber.org
X-WR-CALDESC:Events for Tillamook Area Chamber of Commerce
REFRESH-INTERVAL;VALUE=DURATION:PT1H
X-Robots-Tag:noindex
X-PUBLISHED-TTL:PT1H
BEGIN:VTIMEZONE
TZID:America/Los_Angeles
BEGIN:DAYLIGHT
TZOFFSETFROM:-0800
TZOFFSETTO:-0700
TZNAME:PDT
DTSTART:20260308T100000
END:DAYLIGHT
BEGIN:STANDARD
TZOFFSETFROM:-0700
TZOFFSETTO:-0800
TZNAME:PST
DTSTART:20261101T090000
END:STANDARD
BEGIN:DAYLIGHT
TZOFFSETFROM:-0800
TZOFFSETTO:-0700
TZNAME:PDT
DTSTART:20270314T100000
END:DAYLIGHT
BEGIN:STANDARD
TZOFFSETFROM:-0700
TZOFFSETTO:-0800
TZNAME:PST
DTSTART:20271107T090000
END:STANDARD
BEGIN:DAYLIGHT
TZOFFSETFROM:-0800
TZOFFSETTO:-0700
TZNAME:PDT
DTSTART:20280312T100000
END:DAYLIGHT
BEGIN:STANDARD
TZOFFSETFROM:-0700
TZOFFSETTO:-0800
TZNAME:PST
DTSTART:20281105T090000
END:STANDARD
BEGIN:DAYLIGHT
TZOFFSETFROM:-0800
TZOFFSETTO:-0700
TZNAME:PDT
DTSTART:20290311T100000
END:DAYLIGHT
BEGIN:STANDARD
TZOFFSETFROM:-0700
TZOFFSETTO:-0800
TZNAME:PST
DTSTART:20291104T090000
END:STANDARD
END:VTIMEZONE
BEGIN:VEVENT
DTSTART;TZID=America/Los_Angeles:20270916T160000
DTEND;TZID=America/Los_Angeles:20270916T173000
DTSTAMP:20260424T134636
CREATED:20240822T191911Z
LAST-MODIFIED:20240822T191911Z
UID:10015722-1821110400-1821115800@tillamookchamber.org
SUMMARY:Knitting Group
DESCRIPTION:Join a fun group of knitters at North Tillamook Library in Manzanita on Thursdays from 4pm to 5:30pm.
URL:https://tillamookchamber.org/event/knitting-group/2027-09-16/
LOCATION:North Tillamook Library\, 571 Laneda Ave\, Manzanita\, OR 97130
CATEGORIES:Community,Education
ATTACH;FMTTYPE=image/png:https://tillamookchamber.org/wp-content/uploads/2024/08/logo.png
END:VEVENT
BEGIN:VEVENT
DTSTART;TZID=America/Los_Angeles:20270923T160000
DTEND;TZID=America/Los_Angeles:20270923T173000
DTSTAMP:20260424T134636
CREATED:20240822T191911Z
LAST-MODIFIED:20240822T191911Z
UID:10015723-1821715200-1821720600@tillamookchamber.org
SUMMARY:Knitting Group
DESCRIPTION:Join a fun group of knitters at North Tillamook Library in Manzanita on Thursdays from 4pm to 5:30pm.
URL:https://tillamookchamber.org/event/knitting-group/2027-09-23/
LOCATION:North Tillamook Library\, 571 Laneda Ave\, Manzanita\, OR 97130
CATEGORIES:Community,Education
ATTACH;FMTTYPE=image/png:https://tillamookchamber.org/wp-content/uploads/2024/08/logo.png
END:VEVENT
BEGIN:VEVENT
DTSTART;TZID=America/Los_Angeles:20270930T160000
DTEND;TZID=America/Los_Angeles:20270930T173000
DTSTAMP:20260424T134636
CREATED:20240822T191911Z
LAST-MODIFIED:20240822T191911Z
UID:10015724-1822320000-1822325400@tillamookchamber.org
SUMMARY:Knitting Group
DESCRIPTION:Join a fun group of knitters at North Tillamook Library in Manzanita on Thursdays from 4pm to 5:30pm.
URL:https://tillamookchamber.org/event/knitting-group/2027-09-30/
LOCATION:North Tillamook Library\, 571 Laneda Ave\, Manzanita\, OR 97130
CATEGORIES:Community,Education
ATTACH;FMTTYPE=image/png:https://tillamookchamber.org/wp-content/uploads/2024/08/logo.png
END:VEVENT
BEGIN:VEVENT
DTSTART;TZID=America/Los_Angeles:20271007T160000
DTEND;TZID=America/Los_Angeles:20271007T173000
DTSTAMP:20260424T134636
CREATED:20240822T191911Z
LAST-MODIFIED:20240822T191911Z
UID:10015725-1822924800-1822930200@tillamookchamber.org
SUMMARY:Knitting Group
DESCRIPTION:Join a fun group of knitters at North Tillamook Library in Manzanita on Thursdays from 4pm to 5:30pm.
URL:https://tillamookchamber.org/event/knitting-group/2027-10-07/
LOCATION:North Tillamook Library\, 571 Laneda Ave\, Manzanita\, OR 97130
CATEGORIES:Community,Education
ATTACH;FMTTYPE=image/png:https://tillamookchamber.org/wp-content/uploads/2024/08/logo.png
END:VEVENT
BEGIN:VEVENT
DTSTART;TZID=America/Los_Angeles:20271014T160000
DTEND;TZID=America/Los_Angeles:20271014T173000
DTSTAMP:20260424T134636
CREATED:20240822T191911Z
LAST-MODIFIED:20240822T191911Z
UID:10015726-1823529600-1823535000@tillamookchamber.org
SUMMARY:Knitting Group
DESCRIPTION:Join a fun group of knitters at North Tillamook Library in Manzanita on Thursdays from 4pm to 5:30pm.
URL:https://tillamookchamber.org/event/knitting-group/2027-10-14/
LOCATION:North Tillamook Library\, 571 Laneda Ave\, Manzanita\, OR 97130
CATEGORIES:Community,Education
ATTACH;FMTTYPE=image/png:https://tillamookchamber.org/wp-content/uploads/2024/08/logo.png
END:VEVENT
BEGIN:VEVENT
DTSTART;TZID=America/Los_Angeles:20271021T160000
DTEND;TZID=America/Los_Angeles:20271021T173000
DTSTAMP:20260424T134636
CREATED:20240822T191911Z
LAST-MODIFIED:20240822T191911Z
UID:10015727-1824134400-1824139800@tillamookchamber.org
SUMMARY:Knitting Group
DESCRIPTION:Join a fun group of knitters at North Tillamook Library in Manzanita on Thursdays from 4pm to 5:30pm.
URL:https://tillamookchamber.org/event/knitting-group/2027-10-21/
LOCATION:North Tillamook Library\, 571 Laneda Ave\, Manzanita\, OR 97130
CATEGORIES:Community,Education
ATTACH;FMTTYPE=image/png:https://tillamookchamber.org/wp-content/uploads/2024/08/logo.png
END:VEVENT
BEGIN:VEVENT
DTSTART;TZID=America/Los_Angeles:20271028T160000
DTEND;TZID=America/Los_Angeles:20271028T173000
DTSTAMP:20260424T134636
CREATED:20240822T191911Z
LAST-MODIFIED:20240822T191911Z
UID:10015728-1824739200-1824744600@tillamookchamber.org
SUMMARY:Knitting Group
DESCRIPTION:Join a fun group of knitters at North Tillamook Library in Manzanita on Thursdays from 4pm to 5:30pm.
URL:https://tillamookchamber.org/event/knitting-group/2027-10-28/
LOCATION:North Tillamook Library\, 571 Laneda Ave\, Manzanita\, OR 97130
CATEGORIES:Community,Education
ATTACH;FMTTYPE=image/png:https://tillamookchamber.org/wp-content/uploads/2024/08/logo.png
END:VEVENT
BEGIN:VEVENT
DTSTART;TZID=America/Los_Angeles:20271104T160000
DTEND;TZID=America/Los_Angeles:20271104T173000
DTSTAMP:20260424T134636
CREATED:20240822T191911Z
LAST-MODIFIED:20240822T191911Z
UID:10015729-1825344000-1825349400@tillamookchamber.org
SUMMARY:Knitting Group
DESCRIPTION:Join a fun group of knitters at North Tillamook Library in Manzanita on Thursdays from 4pm to 5:30pm.
URL:https://tillamookchamber.org/event/knitting-group/2027-11-04/
LOCATION:North Tillamook Library\, 571 Laneda Ave\, Manzanita\, OR 97130
CATEGORIES:Community,Education
ATTACH;FMTTYPE=image/png:https://tillamookchamber.org/wp-content/uploads/2024/08/logo.png
END:VEVENT
BEGIN:VEVENT
DTSTART;TZID=America/Los_Angeles:20271111T160000
DTEND;TZID=America/Los_Angeles:20271111T173000
DTSTAMP:20260424T134636
CREATED:20240822T191911Z
LAST-MODIFIED:20240822T191911Z
UID:10015730-1825948800-1825954200@tillamookchamber.org
SUMMARY:Knitting Group
DESCRIPTION:Join a fun group of knitters at North Tillamook Library in Manzanita on Thursdays from 4pm to 5:30pm.
URL:https://tillamookchamber.org/event/knitting-group/2027-11-11/
LOCATION:North Tillamook Library\, 571 Laneda Ave\, Manzanita\, OR 97130
CATEGORIES:Community,Education
ATTACH;FMTTYPE=image/png:https://tillamookchamber.org/wp-content/uploads/2024/08/logo.png
END:VEVENT
BEGIN:VEVENT
DTSTART;TZID=America/Los_Angeles:20271118T160000
DTEND;TZID=America/Los_Angeles:20271118T173000
DTSTAMP:20260424T134636
CREATED:20240822T191911Z
LAST-MODIFIED:20240822T191911Z
UID:10015731-1826553600-1826559000@tillamookchamber.org
SUMMARY:Knitting Group
DESCRIPTION:Join a fun group of knitters at North Tillamook Library in Manzanita on Thursdays from 4pm to 5:30pm.
URL:https://tillamookchamber.org/event/knitting-group/2027-11-18/
LOCATION:North Tillamook Library\, 571 Laneda Ave\, Manzanita\, OR 97130
CATEGORIES:Community,Education
ATTACH;FMTTYPE=image/png:https://tillamookchamber.org/wp-content/uploads/2024/08/logo.png
END:VEVENT
BEGIN:VEVENT
DTSTART;TZID=America/Los_Angeles:20271125T160000
DTEND;TZID=America/Los_Angeles:20271125T173000
DTSTAMP:20260424T134636
CREATED:20240822T191911Z
LAST-MODIFIED:20240822T191911Z
UID:10015732-1827158400-1827163800@tillamookchamber.org
SUMMARY:Knitting Group
DESCRIPTION:Join a fun group of knitters at North Tillamook Library in Manzanita on Thursdays from 4pm to 5:30pm.
URL:https://tillamookchamber.org/event/knitting-group/2027-11-25/
LOCATION:North Tillamook Library\, 571 Laneda Ave\, Manzanita\, OR 97130
CATEGORIES:Community,Education
ATTACH;FMTTYPE=image/png:https://tillamookchamber.org/wp-content/uploads/2024/08/logo.png
END:VEVENT
BEGIN:VEVENT
DTSTART;TZID=America/Los_Angeles:20271202T160000
DTEND;TZID=America/Los_Angeles:20271202T173000
DTSTAMP:20260424T134636
CREATED:20240822T191911Z
LAST-MODIFIED:20240822T191911Z
UID:10015733-1827763200-1827768600@tillamookchamber.org
SUMMARY:Knitting Group
DESCRIPTION:Join a fun group of knitters at North Tillamook Library in Manzanita on Thursdays from 4pm to 5:30pm.
URL:https://tillamookchamber.org/event/knitting-group/2027-12-02/
LOCATION:North Tillamook Library\, 571 Laneda Ave\, Manzanita\, OR 97130
CATEGORIES:Community,Education
ATTACH;FMTTYPE=image/png:https://tillamookchamber.org/wp-content/uploads/2024/08/logo.png
END:VEVENT
BEGIN:VEVENT
DTSTART;TZID=America/Los_Angeles:20271209T160000
DTEND;TZID=America/Los_Angeles:20271209T173000
DTSTAMP:20260424T134636
CREATED:20240822T191911Z
LAST-MODIFIED:20240822T191911Z
UID:10015734-1828368000-1828373400@tillamookchamber.org
SUMMARY:Knitting Group
DESCRIPTION:Join a fun group of knitters at North Tillamook Library in Manzanita on Thursdays from 4pm to 5:30pm.
URL:https://tillamookchamber.org/event/knitting-group/2027-12-09/
LOCATION:North Tillamook Library\, 571 Laneda Ave\, Manzanita\, OR 97130
CATEGORIES:Community,Education
ATTACH;FMTTYPE=image/png:https://tillamookchamber.org/wp-content/uploads/2024/08/logo.png
END:VEVENT
BEGIN:VEVENT
DTSTART;TZID=America/Los_Angeles:20271216T160000
DTEND;TZID=America/Los_Angeles:20271216T173000
DTSTAMP:20260424T134636
CREATED:20240822T191911Z
LAST-MODIFIED:20240822T191911Z
UID:10015735-1828972800-1828978200@tillamookchamber.org
SUMMARY:Knitting Group
DESCRIPTION:Join a fun group of knitters at North Tillamook Library in Manzanita on Thursdays from 4pm to 5:30pm.
URL:https://tillamookchamber.org/event/knitting-group/2027-12-16/
LOCATION:North Tillamook Library\, 571 Laneda Ave\, Manzanita\, OR 97130
CATEGORIES:Community,Education
ATTACH;FMTTYPE=image/png:https://tillamookchamber.org/wp-content/uploads/2024/08/logo.png
END:VEVENT
BEGIN:VEVENT
DTSTART;TZID=America/Los_Angeles:20271223T160000
DTEND;TZID=America/Los_Angeles:20271223T173000
DTSTAMP:20260424T134636
CREATED:20240822T191911Z
LAST-MODIFIED:20240822T191911Z
UID:10015736-1829577600-1829583000@tillamookchamber.org
SUMMARY:Knitting Group
DESCRIPTION:Join a fun group of knitters at North Tillamook Library in Manzanita on Thursdays from 4pm to 5:30pm.
URL:https://tillamookchamber.org/event/knitting-group/2027-12-23/
LOCATION:North Tillamook Library\, 571 Laneda Ave\, Manzanita\, OR 97130
CATEGORIES:Community,Education
ATTACH;FMTTYPE=image/png:https://tillamookchamber.org/wp-content/uploads/2024/08/logo.png
END:VEVENT
BEGIN:VEVENT
DTSTART;TZID=America/Los_Angeles:20271230T160000
DTEND;TZID=America/Los_Angeles:20271230T173000
DTSTAMP:20260424T134636
CREATED:20240822T191911Z
LAST-MODIFIED:20240822T191911Z
UID:10015737-1830182400-1830187800@tillamookchamber.org
SUMMARY:Knitting Group
DESCRIPTION:Join a fun group of knitters at North Tillamook Library in Manzanita on Thursdays from 4pm to 5:30pm.
URL:https://tillamookchamber.org/event/knitting-group/2027-12-30/
LOCATION:North Tillamook Library\, 571 Laneda Ave\, Manzanita\, OR 97130
CATEGORIES:Community,Education
ATTACH;FMTTYPE=image/png:https://tillamookchamber.org/wp-content/uploads/2024/08/logo.png
END:VEVENT
BEGIN:VEVENT
DTSTART;TZID=America/Los_Angeles:20280106T160000
DTEND;TZID=America/Los_Angeles:20280106T173000
DTSTAMP:20260424T134636
CREATED:20240822T191911Z
LAST-MODIFIED:20240822T191911Z
UID:10015738-1830787200-1830792600@tillamookchamber.org
SUMMARY:Knitting Group
DESCRIPTION:Join a fun group of knitters at North Tillamook Library in Manzanita on Thursdays from 4pm to 5:30pm.
URL:https://tillamookchamber.org/event/knitting-group/2028-01-06/
LOCATION:North Tillamook Library\, 571 Laneda Ave\, Manzanita\, OR 97130
CATEGORIES:Community,Education
ATTACH;FMTTYPE=image/png:https://tillamookchamber.org/wp-content/uploads/2024/08/logo.png
END:VEVENT
BEGIN:VEVENT
DTSTART;TZID=America/Los_Angeles:20280113T160000
DTEND;TZID=America/Los_Angeles:20280113T173000
DTSTAMP:20260424T134636
CREATED:20240822T191911Z
LAST-MODIFIED:20240822T191911Z
UID:10015739-1831392000-1831397400@tillamookchamber.org
SUMMARY:Knitting Group
DESCRIPTION:Join a fun group of knitters at North Tillamook Library in Manzanita on Thursdays from 4pm to 5:30pm.
URL:https://tillamookchamber.org/event/knitting-group/2028-01-13/
LOCATION:North Tillamook Library\, 571 Laneda Ave\, Manzanita\, OR 97130
CATEGORIES:Community,Education
ATTACH;FMTTYPE=image/png:https://tillamookchamber.org/wp-content/uploads/2024/08/logo.png
END:VEVENT
BEGIN:VEVENT
DTSTART;TZID=America/Los_Angeles:20280120T160000
DTEND;TZID=America/Los_Angeles:20280120T173000
DTSTAMP:20260424T134636
CREATED:20240822T191911Z
LAST-MODIFIED:20240822T191911Z
UID:10015740-1831996800-1832002200@tillamookchamber.org
SUMMARY:Knitting Group
DESCRIPTION:Join a fun group of knitters at North Tillamook Library in Manzanita on Thursdays from 4pm to 5:30pm.
URL:https://tillamookchamber.org/event/knitting-group/2028-01-20/
LOCATION:North Tillamook Library\, 571 Laneda Ave\, Manzanita\, OR 97130
CATEGORIES:Community,Education
ATTACH;FMTTYPE=image/png:https://tillamookchamber.org/wp-content/uploads/2024/08/logo.png
END:VEVENT
BEGIN:VEVENT
DTSTART;TZID=America/Los_Angeles:20280127T160000
DTEND;TZID=America/Los_Angeles:20280127T173000
DTSTAMP:20260424T134636
CREATED:20240822T191911Z
LAST-MODIFIED:20240822T191911Z
UID:10015741-1832601600-1832607000@tillamookchamber.org
SUMMARY:Knitting Group
DESCRIPTION:Join a fun group of knitters at North Tillamook Library in Manzanita on Thursdays from 4pm to 5:30pm.
URL:https://tillamookchamber.org/event/knitting-group/2028-01-27/
LOCATION:North Tillamook Library\, 571 Laneda Ave\, Manzanita\, OR 97130
CATEGORIES:Community,Education
ATTACH;FMTTYPE=image/png:https://tillamookchamber.org/wp-content/uploads/2024/08/logo.png
END:VEVENT
BEGIN:VEVENT
DTSTART;TZID=America/Los_Angeles:20280203T160000
DTEND;TZID=America/Los_Angeles:20280203T173000
DTSTAMP:20260424T134636
CREATED:20240822T191911Z
LAST-MODIFIED:20240822T191911Z
UID:10015742-1833206400-1833211800@tillamookchamber.org
SUMMARY:Knitting Group
DESCRIPTION:Join a fun group of knitters at North Tillamook Library in Manzanita on Thursdays from 4pm to 5:30pm.
URL:https://tillamookchamber.org/event/knitting-group/2028-02-03/
LOCATION:North Tillamook Library\, 571 Laneda Ave\, Manzanita\, OR 97130
CATEGORIES:Community,Education
ATTACH;FMTTYPE=image/png:https://tillamookchamber.org/wp-content/uploads/2024/08/logo.png
END:VEVENT
BEGIN:VEVENT
DTSTART;TZID=America/Los_Angeles:20280210T160000
DTEND;TZID=America/Los_Angeles:20280210T173000
DTSTAMP:20260424T134636
CREATED:20240822T191911Z
LAST-MODIFIED:20240822T191911Z
UID:10015743-1833811200-1833816600@tillamookchamber.org
SUMMARY:Knitting Group
DESCRIPTION:Join a fun group of knitters at North Tillamook Library in Manzanita on Thursdays from 4pm to 5:30pm.
URL:https://tillamookchamber.org/event/knitting-group/2028-02-10/
LOCATION:North Tillamook Library\, 571 Laneda Ave\, Manzanita\, OR 97130
CATEGORIES:Community,Education
ATTACH;FMTTYPE=image/png:https://tillamookchamber.org/wp-content/uploads/2024/08/logo.png
END:VEVENT
BEGIN:VEVENT
DTSTART;TZID=America/Los_Angeles:20280217T160000
DTEND;TZID=America/Los_Angeles:20280217T173000
DTSTAMP:20260424T134636
CREATED:20240822T191911Z
LAST-MODIFIED:20240822T191911Z
UID:10015744-1834416000-1834421400@tillamookchamber.org
SUMMARY:Knitting Group
DESCRIPTION:Join a fun group of knitters at North Tillamook Library in Manzanita on Thursdays from 4pm to 5:30pm.
URL:https://tillamookchamber.org/event/knitting-group/2028-02-17/
LOCATION:North Tillamook Library\, 571 Laneda Ave\, Manzanita\, OR 97130
CATEGORIES:Community,Education
ATTACH;FMTTYPE=image/png:https://tillamookchamber.org/wp-content/uploads/2024/08/logo.png
END:VEVENT
BEGIN:VEVENT
DTSTART;TZID=America/Los_Angeles:20280224T160000
DTEND;TZID=America/Los_Angeles:20280224T173000
DTSTAMP:20260424T134636
CREATED:20240822T191911Z
LAST-MODIFIED:20240822T191911Z
UID:10015745-1835020800-1835026200@tillamookchamber.org
SUMMARY:Knitting Group
DESCRIPTION:Join a fun group of knitters at North Tillamook Library in Manzanita on Thursdays from 4pm to 5:30pm.
URL:https://tillamookchamber.org/event/knitting-group/2028-02-24/
LOCATION:North Tillamook Library\, 571 Laneda Ave\, Manzanita\, OR 97130
CATEGORIES:Community,Education
ATTACH;FMTTYPE=image/png:https://tillamookchamber.org/wp-content/uploads/2024/08/logo.png
END:VEVENT
BEGIN:VEVENT
DTSTART;TZID=America/Los_Angeles:20280302T160000
DTEND;TZID=America/Los_Angeles:20280302T173000
DTSTAMP:20260424T134636
CREATED:20240822T191911Z
LAST-MODIFIED:20240822T191911Z
UID:10015746-1835625600-1835631000@tillamookchamber.org
SUMMARY:Knitting Group
DESCRIPTION:Join a fun group of knitters at North Tillamook Library in Manzanita on Thursdays from 4pm to 5:30pm.
URL:https://tillamookchamber.org/event/knitting-group/2028-03-02/
LOCATION:North Tillamook Library\, 571 Laneda Ave\, Manzanita\, OR 97130
CATEGORIES:Community,Education
ATTACH;FMTTYPE=image/png:https://tillamookchamber.org/wp-content/uploads/2024/08/logo.png
END:VEVENT
BEGIN:VEVENT
DTSTART;TZID=America/Los_Angeles:20280309T160000
DTEND;TZID=America/Los_Angeles:20280309T173000
DTSTAMP:20260424T134636
CREATED:20240822T191911Z
LAST-MODIFIED:20240822T191911Z
UID:10015747-1836230400-1836235800@tillamookchamber.org
SUMMARY:Knitting Group
DESCRIPTION:Join a fun group of knitters at North Tillamook Library in Manzanita on Thursdays from 4pm to 5:30pm.
URL:https://tillamookchamber.org/event/knitting-group/2028-03-09/
LOCATION:North Tillamook Library\, 571 Laneda Ave\, Manzanita\, OR 97130
CATEGORIES:Community,Education
ATTACH;FMTTYPE=image/png:https://tillamookchamber.org/wp-content/uploads/2024/08/logo.png
END:VEVENT
BEGIN:VEVENT
DTSTART;TZID=America/Los_Angeles:20280316T160000
DTEND;TZID=America/Los_Angeles:20280316T173000
DTSTAMP:20260424T134636
CREATED:20240822T191911Z
LAST-MODIFIED:20240822T191911Z
UID:10015748-1836835200-1836840600@tillamookchamber.org
SUMMARY:Knitting Group
DESCRIPTION:Join a fun group of knitters at North Tillamook Library in Manzanita on Thursdays from 4pm to 5:30pm.
URL:https://tillamookchamber.org/event/knitting-group/2028-03-16/
LOCATION:North Tillamook Library\, 571 Laneda Ave\, Manzanita\, OR 97130
CATEGORIES:Community,Education
ATTACH;FMTTYPE=image/png:https://tillamookchamber.org/wp-content/uploads/2024/08/logo.png
END:VEVENT
BEGIN:VEVENT
DTSTART;TZID=America/Los_Angeles:20280323T160000
DTEND;TZID=America/Los_Angeles:20280323T173000
DTSTAMP:20260424T134636
CREATED:20240822T191911Z
LAST-MODIFIED:20240822T191911Z
UID:10015749-1837440000-1837445400@tillamookchamber.org
SUMMARY:Knitting Group
DESCRIPTION:Join a fun group of knitters at North Tillamook Library in Manzanita on Thursdays from 4pm to 5:30pm.
URL:https://tillamookchamber.org/event/knitting-group/2028-03-23/
LOCATION:North Tillamook Library\, 571 Laneda Ave\, Manzanita\, OR 97130
CATEGORIES:Community,Education
ATTACH;FMTTYPE=image/png:https://tillamookchamber.org/wp-content/uploads/2024/08/logo.png
END:VEVENT
BEGIN:VEVENT
DTSTART;TZID=America/Los_Angeles:20280330T160000
DTEND;TZID=America/Los_Angeles:20280330T173000
DTSTAMP:20260424T134636
CREATED:20240822T191911Z
LAST-MODIFIED:20240822T191911Z
UID:10015750-1838044800-1838050200@tillamookchamber.org
SUMMARY:Knitting Group
DESCRIPTION:Join a fun group of knitters at North Tillamook Library in Manzanita on Thursdays from 4pm to 5:30pm.
URL:https://tillamookchamber.org/event/knitting-group/2028-03-30/
LOCATION:North Tillamook Library\, 571 Laneda Ave\, Manzanita\, OR 97130
CATEGORIES:Community,Education
ATTACH;FMTTYPE=image/png:https://tillamookchamber.org/wp-content/uploads/2024/08/logo.png
END:VEVENT
BEGIN:VEVENT
DTSTART;TZID=America/Los_Angeles:20280406T160000
DTEND;TZID=America/Los_Angeles:20280406T173000
DTSTAMP:20260424T134636
CREATED:20240822T191911Z
LAST-MODIFIED:20240822T191911Z
UID:10015751-1838649600-1838655000@tillamookchamber.org
SUMMARY:Knitting Group
DESCRIPTION:Join a fun group of knitters at North Tillamook Library in Manzanita on Thursdays from 4pm to 5:30pm.
URL:https://tillamookchamber.org/event/knitting-group/2028-04-06/
LOCATION:North Tillamook Library\, 571 Laneda Ave\, Manzanita\, OR 97130
CATEGORIES:Community,Education
ATTACH;FMTTYPE=image/png:https://tillamookchamber.org/wp-content/uploads/2024/08/logo.png
END:VEVENT
END:VCALENDAR