BEGIN:VCALENDAR
VERSION:2.0
PRODID:-//Tillamook Area Chamber of Commerce - ECPv6.15.20//NONSGML v1.0//EN
CALSCALE:GREGORIAN
METHOD:PUBLISH
X-WR-CALNAME:Tillamook Area Chamber of Commerce
X-ORIGINAL-URL:https://tillamookchamber.org
X-WR-CALDESC:Events for Tillamook Area Chamber of Commerce
REFRESH-INTERVAL;VALUE=DURATION:PT1H
X-Robots-Tag:noindex
X-PUBLISHED-TTL:PT1H
BEGIN:VTIMEZONE
TZID:America/Los_Angeles
BEGIN:DAYLIGHT
TZOFFSETFROM:-0800
TZOFFSETTO:-0700
TZNAME:PDT
DTSTART:20240310T100000
END:DAYLIGHT
BEGIN:STANDARD
TZOFFSETFROM:-0700
TZOFFSETTO:-0800
TZNAME:PST
DTSTART:20241103T090000
END:STANDARD
BEGIN:DAYLIGHT
TZOFFSETFROM:-0800
TZOFFSETTO:-0700
TZNAME:PDT
DTSTART:20250309T100000
END:DAYLIGHT
BEGIN:STANDARD
TZOFFSETFROM:-0700
TZOFFSETTO:-0800
TZNAME:PST
DTSTART:20251102T090000
END:STANDARD
BEGIN:DAYLIGHT
TZOFFSETFROM:-0800
TZOFFSETTO:-0700
TZNAME:PDT
DTSTART:20260308T100000
END:DAYLIGHT
BEGIN:STANDARD
TZOFFSETFROM:-0700
TZOFFSETTO:-0800
TZNAME:PST
DTSTART:20261101T090000
END:STANDARD
END:VTIMEZONE
BEGIN:VEVENT
DTSTART;TZID=America/Los_Angeles:20250531T090000
DTEND;TZID=America/Los_Angeles:20250531T130000
DTSTAMP:20260421T223949
CREATED:20250512T181822Z
LAST-MODIFIED:20250512T181822Z
UID:10021343-1748682000-1748696400@tillamookchamber.org
SUMMARY:Sustainable Clamming on Netarts Bay
DESCRIPTION:SUSTAINABLE CLAMMING ON THE BAY \n\nSpace is limited. A shellfish license is required.\n\nCalling all bay admirers and clam lovers! Would you like to learn more about the different types of clams in Netarts Bay?  Are you new to clamming and looking for some tips? Do you love to clam but rather not go alone?\n\nJoin Friends of Netarts Bay\, Estuary\, Beach and Sea – WEBS\, and the Oregon Department of Fish and Wildlife Saturday\, May 31st for an informative day on the bay\, learning about sustainable shellfish harvesting. “Not only will participants gain insights into sustainable clamming practices\, they will also learn more about ODFW’s research on bay clam populations and estuarine habitat studies” shares WEBS Stewardship Coordinator Marina Dreeben. In addition to discussing current research\, participants will discuss the role of shellfish in bay health\, the types of clams in the bay\, and the best\, most sustainable methods for harvesting wild shellfish. Both new and experienced clammers will have a chance to learn alongside ODFW and WEBS staff/volunteers. Clammers can count on gaining knowledge and collecting their limit with a fun group of community members.\n\nThis popular WEBS event fills up quickly but we do have last minute cancellations so feel free to sign up and add your name to the waitlist in case spots become available\, or email info@netartsbaywebs.org to volunteer as a photographer\, on-shore support\, or clamming expert! If you are not able to attend the Sustainable Clamming on the Bay this May\, be sure and check our calendar to register for our next clamming event coming up in August.\n\nRegistration is required for this free event. Learn more at:\n\nhttps://www.netartsbaywebs.org/events\n\nConnect with the Friends of Netarts Bay WEBS online! \n\nWebsite: www.netartsbaywebs.org\n\nFacebook and Instagram: @netartsbaywebs\n\nWEBS and partners are hosting these events as part of the Explore Nature series of hikes\, walks\, paddles\, and outdoor adventures. Led by a consortium of volunteer community and non-profit organizations\, these meaningful nature-based experiences highlight the unique beauty of Tillamook County and the work being done to preserve and conserve the area’s natural resources and natural resource-based economy. Learn more about Explore Nature at www.explorenaturetillamookcoast.com.
URL:https://tillamookchamber.org/event/sustainable-clamming-on-netarts-bay/
LOCATION:Netarts Oregon
CATEGORIES:Community,Education
ATTACH;FMTTYPE=image/png:https://tillamookchamber.org/wp-content/uploads/2025/05/Clamming-Instagram-Post-45.png
END:VEVENT
END:VCALENDAR