BEGIN:VCALENDAR
VERSION:2.0
PRODID:-//Tillamook Area Chamber of Commerce - ECPv6.15.20//NONSGML v1.0//EN
CALSCALE:GREGORIAN
METHOD:PUBLISH
X-ORIGINAL-URL:https://tillamookchamber.org
X-WR-CALDESC:Events for Tillamook Area Chamber of Commerce
REFRESH-INTERVAL;VALUE=DURATION:PT1H
X-Robots-Tag:noindex
X-PUBLISHED-TTL:PT1H
BEGIN:VTIMEZONE
TZID:America/Los_Angeles
BEGIN:DAYLIGHT
TZOFFSETFROM:-0800
TZOFFSETTO:-0700
TZNAME:PDT
DTSTART:20240310T100000
END:DAYLIGHT
BEGIN:STANDARD
TZOFFSETFROM:-0700
TZOFFSETTO:-0800
TZNAME:PST
DTSTART:20241103T090000
END:STANDARD
BEGIN:DAYLIGHT
TZOFFSETFROM:-0800
TZOFFSETTO:-0700
TZNAME:PDT
DTSTART:20250309T100000
END:DAYLIGHT
BEGIN:STANDARD
TZOFFSETFROM:-0700
TZOFFSETTO:-0800
TZNAME:PST
DTSTART:20251102T090000
END:STANDARD
BEGIN:DAYLIGHT
TZOFFSETFROM:-0800
TZOFFSETTO:-0700
TZNAME:PDT
DTSTART:20260308T100000
END:DAYLIGHT
BEGIN:STANDARD
TZOFFSETFROM:-0700
TZOFFSETTO:-0800
TZNAME:PST
DTSTART:20261101T090000
END:STANDARD
END:VTIMEZONE
BEGIN:VEVENT
DTSTART;TZID=America/Los_Angeles:20251105T160000
DTEND;TZID=America/Los_Angeles:20251105T180000
DTSTAMP:20260420T223737
CREATED:20251029T215721Z
LAST-MODIFIED:20251029T215721Z
UID:10026305-1762358400-1762365600@tillamookchamber.org
SUMMARY:Open House and Game Night!
DESCRIPTION:Come play\, connect\, and warm up with community spirit!\nJoin us for a fun evening at NVS—explore our classrooms\, meet our teachers and families\, and enjoy games for all ages. Don’t forget to bring your new or gently used winter gear (coats\, hats\, boots\, gloves\, and more!) to swap out for something new to love. \nEveryone’s invited! Friends\, neighbors\, and families of all ages! Let’s learn\, laugh\, and gear up for winter together.
URL:https://tillamookchamber.org/event/open-house-and-game-night/
LOCATION:Neskowin Valley School\, 10005 Slab Creek Rd\, Neskowin\, 97149
CATEGORIES:Community,Family Fun
ATTACH;FMTTYPE=image/jpeg:https://tillamookchamber.org/wp-content/uploads/2025/10/IMG_9410.jpg
END:VEVENT
END:VCALENDAR