BEGIN:VCALENDAR
VERSION:2.0
PRODID:-//Tillamook Area Chamber of Commerce - ECPv6.15.20//NONSGML v1.0//EN
CALSCALE:GREGORIAN
METHOD:PUBLISH
X-ORIGINAL-URL:https://tillamookchamber.org
X-WR-CALDESC:Events for Tillamook Area Chamber of Commerce
REFRESH-INTERVAL;VALUE=DURATION:PT1H
X-Robots-Tag:noindex
X-PUBLISHED-TTL:PT1H
BEGIN:VTIMEZONE
TZID:America/Los_Angeles
BEGIN:DAYLIGHT
TZOFFSETFROM:-0800
TZOFFSETTO:-0700
TZNAME:PDT
DTSTART:20260308T100000
END:DAYLIGHT
BEGIN:STANDARD
TZOFFSETFROM:-0700
TZOFFSETTO:-0800
TZNAME:PST
DTSTART:20261101T090000
END:STANDARD
BEGIN:DAYLIGHT
TZOFFSETFROM:-0800
TZOFFSETTO:-0700
TZNAME:PDT
DTSTART:20270314T100000
END:DAYLIGHT
BEGIN:STANDARD
TZOFFSETFROM:-0700
TZOFFSETTO:-0800
TZNAME:PST
DTSTART:20271107T090000
END:STANDARD
BEGIN:DAYLIGHT
TZOFFSETFROM:-0800
TZOFFSETTO:-0700
TZNAME:PDT
DTSTART:20280312T100000
END:DAYLIGHT
BEGIN:STANDARD
TZOFFSETFROM:-0700
TZOFFSETTO:-0800
TZNAME:PST
DTSTART:20281105T090000
END:STANDARD
BEGIN:DAYLIGHT
TZOFFSETFROM:-0800
TZOFFSETTO:-0700
TZNAME:PDT
DTSTART:20290311T100000
END:DAYLIGHT
BEGIN:STANDARD
TZOFFSETFROM:-0700
TZOFFSETTO:-0800
TZNAME:PST
DTSTART:20291104T090000
END:STANDARD
END:VTIMEZONE
BEGIN:VEVENT
DTSTART;TZID=America/Los_Angeles:20270930T140000
DTEND;TZID=America/Los_Angeles:20270930T150000
DTSTAMP:20260419T061508
CREATED:20250929T192327Z
LAST-MODIFIED:20250929T192327Z
UID:10025876-1822312800-1822316400@tillamookchamber.org
SUMMARY:Mahjong at Manzanita Library
DESCRIPTION:Play mahjong in a fun informal group at the Manzanita library Thursdays at 2 pm!
URL:https://tillamookchamber.org/event/mahjong-at-manzanita-library/2027-09-30/
LOCATION:Manzanita Library\, 571 Laneda Ave Manzanita OR
CATEGORIES:Community,Family Fun
END:VEVENT
BEGIN:VEVENT
DTSTART;TZID=America/Los_Angeles:20271007T140000
DTEND;TZID=America/Los_Angeles:20271007T150000
DTSTAMP:20260419T061508
CREATED:20250929T192327Z
LAST-MODIFIED:20250929T192327Z
UID:10025877-1822917600-1822921200@tillamookchamber.org
SUMMARY:Mahjong at Manzanita Library
DESCRIPTION:Play mahjong in a fun informal group at the Manzanita library Thursdays at 2 pm!
URL:https://tillamookchamber.org/event/mahjong-at-manzanita-library/2027-10-07/
LOCATION:Manzanita Library\, 571 Laneda Ave Manzanita OR
CATEGORIES:Community,Family Fun
END:VEVENT
BEGIN:VEVENT
DTSTART;TZID=America/Los_Angeles:20271014T140000
DTEND;TZID=America/Los_Angeles:20271014T150000
DTSTAMP:20260419T061508
CREATED:20250929T192327Z
LAST-MODIFIED:20250929T192327Z
UID:10025878-1823522400-1823526000@tillamookchamber.org
SUMMARY:Mahjong at Manzanita Library
DESCRIPTION:Play mahjong in a fun informal group at the Manzanita library Thursdays at 2 pm!
URL:https://tillamookchamber.org/event/mahjong-at-manzanita-library/2027-10-14/
LOCATION:Manzanita Library\, 571 Laneda Ave Manzanita OR
CATEGORIES:Community,Family Fun
END:VEVENT
BEGIN:VEVENT
DTSTART;TZID=America/Los_Angeles:20271021T140000
DTEND;TZID=America/Los_Angeles:20271021T150000
DTSTAMP:20260419T061508
CREATED:20250929T192327Z
LAST-MODIFIED:20250929T192327Z
UID:10025879-1824127200-1824130800@tillamookchamber.org
SUMMARY:Mahjong at Manzanita Library
DESCRIPTION:Play mahjong in a fun informal group at the Manzanita library Thursdays at 2 pm!
URL:https://tillamookchamber.org/event/mahjong-at-manzanita-library/2027-10-21/
LOCATION:Manzanita Library\, 571 Laneda Ave Manzanita OR
CATEGORIES:Community,Family Fun
END:VEVENT
BEGIN:VEVENT
DTSTART;TZID=America/Los_Angeles:20271028T140000
DTEND;TZID=America/Los_Angeles:20271028T150000
DTSTAMP:20260419T061508
CREATED:20250929T192327Z
LAST-MODIFIED:20250929T192327Z
UID:10025880-1824732000-1824735600@tillamookchamber.org
SUMMARY:Mahjong at Manzanita Library
DESCRIPTION:Play mahjong in a fun informal group at the Manzanita library Thursdays at 2 pm!
URL:https://tillamookchamber.org/event/mahjong-at-manzanita-library/2027-10-28/
LOCATION:Manzanita Library\, 571 Laneda Ave Manzanita OR
CATEGORIES:Community,Family Fun
END:VEVENT
BEGIN:VEVENT
DTSTART;TZID=America/Los_Angeles:20271104T140000
DTEND;TZID=America/Los_Angeles:20271104T150000
DTSTAMP:20260419T061508
CREATED:20250929T192327Z
LAST-MODIFIED:20250929T192327Z
UID:10025881-1825336800-1825340400@tillamookchamber.org
SUMMARY:Mahjong at Manzanita Library
DESCRIPTION:Play mahjong in a fun informal group at the Manzanita library Thursdays at 2 pm!
URL:https://tillamookchamber.org/event/mahjong-at-manzanita-library/2027-11-04/
LOCATION:Manzanita Library\, 571 Laneda Ave Manzanita OR
CATEGORIES:Community,Family Fun
END:VEVENT
BEGIN:VEVENT
DTSTART;TZID=America/Los_Angeles:20271111T140000
DTEND;TZID=America/Los_Angeles:20271111T150000
DTSTAMP:20260419T061508
CREATED:20250929T192327Z
LAST-MODIFIED:20250929T192327Z
UID:10025882-1825941600-1825945200@tillamookchamber.org
SUMMARY:Mahjong at Manzanita Library
DESCRIPTION:Play mahjong in a fun informal group at the Manzanita library Thursdays at 2 pm!
URL:https://tillamookchamber.org/event/mahjong-at-manzanita-library/2027-11-11/
LOCATION:Manzanita Library\, 571 Laneda Ave Manzanita OR
CATEGORIES:Community,Family Fun
END:VEVENT
BEGIN:VEVENT
DTSTART;TZID=America/Los_Angeles:20271118T140000
DTEND;TZID=America/Los_Angeles:20271118T150000
DTSTAMP:20260419T061508
CREATED:20250929T192327Z
LAST-MODIFIED:20250929T192327Z
UID:10025883-1826546400-1826550000@tillamookchamber.org
SUMMARY:Mahjong at Manzanita Library
DESCRIPTION:Play mahjong in a fun informal group at the Manzanita library Thursdays at 2 pm!
URL:https://tillamookchamber.org/event/mahjong-at-manzanita-library/2027-11-18/
LOCATION:Manzanita Library\, 571 Laneda Ave Manzanita OR
CATEGORIES:Community,Family Fun
END:VEVENT
BEGIN:VEVENT
DTSTART;TZID=America/Los_Angeles:20271125T140000
DTEND;TZID=America/Los_Angeles:20271125T150000
DTSTAMP:20260419T061508
CREATED:20250929T192327Z
LAST-MODIFIED:20250929T192327Z
UID:10025884-1827151200-1827154800@tillamookchamber.org
SUMMARY:Mahjong at Manzanita Library
DESCRIPTION:Play mahjong in a fun informal group at the Manzanita library Thursdays at 2 pm!
URL:https://tillamookchamber.org/event/mahjong-at-manzanita-library/2027-11-25/
LOCATION:Manzanita Library\, 571 Laneda Ave Manzanita OR
CATEGORIES:Community,Family Fun
END:VEVENT
BEGIN:VEVENT
DTSTART;TZID=America/Los_Angeles:20271202T140000
DTEND;TZID=America/Los_Angeles:20271202T150000
DTSTAMP:20260419T061508
CREATED:20250929T192327Z
LAST-MODIFIED:20250929T192327Z
UID:10025885-1827756000-1827759600@tillamookchamber.org
SUMMARY:Mahjong at Manzanita Library
DESCRIPTION:Play mahjong in a fun informal group at the Manzanita library Thursdays at 2 pm!
URL:https://tillamookchamber.org/event/mahjong-at-manzanita-library/2027-12-02/
LOCATION:Manzanita Library\, 571 Laneda Ave Manzanita OR
CATEGORIES:Community,Family Fun
END:VEVENT
BEGIN:VEVENT
DTSTART;TZID=America/Los_Angeles:20271209T140000
DTEND;TZID=America/Los_Angeles:20271209T150000
DTSTAMP:20260419T061508
CREATED:20250929T192327Z
LAST-MODIFIED:20250929T192327Z
UID:10025886-1828360800-1828364400@tillamookchamber.org
SUMMARY:Mahjong at Manzanita Library
DESCRIPTION:Play mahjong in a fun informal group at the Manzanita library Thursdays at 2 pm!
URL:https://tillamookchamber.org/event/mahjong-at-manzanita-library/2027-12-09/
LOCATION:Manzanita Library\, 571 Laneda Ave Manzanita OR
CATEGORIES:Community,Family Fun
END:VEVENT
BEGIN:VEVENT
DTSTART;TZID=America/Los_Angeles:20271216T140000
DTEND;TZID=America/Los_Angeles:20271216T150000
DTSTAMP:20260419T061508
CREATED:20250929T192327Z
LAST-MODIFIED:20250929T192327Z
UID:10025887-1828965600-1828969200@tillamookchamber.org
SUMMARY:Mahjong at Manzanita Library
DESCRIPTION:Play mahjong in a fun informal group at the Manzanita library Thursdays at 2 pm!
URL:https://tillamookchamber.org/event/mahjong-at-manzanita-library/2027-12-16/
LOCATION:Manzanita Library\, 571 Laneda Ave Manzanita OR
CATEGORIES:Community,Family Fun
END:VEVENT
BEGIN:VEVENT
DTSTART;TZID=America/Los_Angeles:20271223T140000
DTEND;TZID=America/Los_Angeles:20271223T150000
DTSTAMP:20260419T061508
CREATED:20250929T192327Z
LAST-MODIFIED:20250929T192327Z
UID:10025888-1829570400-1829574000@tillamookchamber.org
SUMMARY:Mahjong at Manzanita Library
DESCRIPTION:Play mahjong in a fun informal group at the Manzanita library Thursdays at 2 pm!
URL:https://tillamookchamber.org/event/mahjong-at-manzanita-library/2027-12-23/
LOCATION:Manzanita Library\, 571 Laneda Ave Manzanita OR
CATEGORIES:Community,Family Fun
END:VEVENT
BEGIN:VEVENT
DTSTART;TZID=America/Los_Angeles:20271230T140000
DTEND;TZID=America/Los_Angeles:20271230T150000
DTSTAMP:20260419T061508
CREATED:20250929T192327Z
LAST-MODIFIED:20250929T192327Z
UID:10025889-1830175200-1830178800@tillamookchamber.org
SUMMARY:Mahjong at Manzanita Library
DESCRIPTION:Play mahjong in a fun informal group at the Manzanita library Thursdays at 2 pm!
URL:https://tillamookchamber.org/event/mahjong-at-manzanita-library/2027-12-30/
LOCATION:Manzanita Library\, 571 Laneda Ave Manzanita OR
CATEGORIES:Community,Family Fun
END:VEVENT
BEGIN:VEVENT
DTSTART;TZID=America/Los_Angeles:20280106T140000
DTEND;TZID=America/Los_Angeles:20280106T150000
DTSTAMP:20260419T061508
CREATED:20250929T192327Z
LAST-MODIFIED:20250929T192327Z
UID:10025890-1830780000-1830783600@tillamookchamber.org
SUMMARY:Mahjong at Manzanita Library
DESCRIPTION:Play mahjong in a fun informal group at the Manzanita library Thursdays at 2 pm!
URL:https://tillamookchamber.org/event/mahjong-at-manzanita-library/2028-01-06/
LOCATION:Manzanita Library\, 571 Laneda Ave Manzanita OR
CATEGORIES:Community,Family Fun
END:VEVENT
BEGIN:VEVENT
DTSTART;TZID=America/Los_Angeles:20280113T140000
DTEND;TZID=America/Los_Angeles:20280113T150000
DTSTAMP:20260419T061508
CREATED:20250929T192327Z
LAST-MODIFIED:20250929T192327Z
UID:10025891-1831384800-1831388400@tillamookchamber.org
SUMMARY:Mahjong at Manzanita Library
DESCRIPTION:Play mahjong in a fun informal group at the Manzanita library Thursdays at 2 pm!
URL:https://tillamookchamber.org/event/mahjong-at-manzanita-library/2028-01-13/
LOCATION:Manzanita Library\, 571 Laneda Ave Manzanita OR
CATEGORIES:Community,Family Fun
END:VEVENT
BEGIN:VEVENT
DTSTART;TZID=America/Los_Angeles:20280120T140000
DTEND;TZID=America/Los_Angeles:20280120T150000
DTSTAMP:20260419T061508
CREATED:20250929T192327Z
LAST-MODIFIED:20250929T192327Z
UID:10025892-1831989600-1831993200@tillamookchamber.org
SUMMARY:Mahjong at Manzanita Library
DESCRIPTION:Play mahjong in a fun informal group at the Manzanita library Thursdays at 2 pm!
URL:https://tillamookchamber.org/event/mahjong-at-manzanita-library/2028-01-20/
LOCATION:Manzanita Library\, 571 Laneda Ave Manzanita OR
CATEGORIES:Community,Family Fun
END:VEVENT
BEGIN:VEVENT
DTSTART;TZID=America/Los_Angeles:20280127T140000
DTEND;TZID=America/Los_Angeles:20280127T150000
DTSTAMP:20260419T061508
CREATED:20250929T192327Z
LAST-MODIFIED:20250929T192327Z
UID:10025893-1832594400-1832598000@tillamookchamber.org
SUMMARY:Mahjong at Manzanita Library
DESCRIPTION:Play mahjong in a fun informal group at the Manzanita library Thursdays at 2 pm!
URL:https://tillamookchamber.org/event/mahjong-at-manzanita-library/2028-01-27/
LOCATION:Manzanita Library\, 571 Laneda Ave Manzanita OR
CATEGORIES:Community,Family Fun
END:VEVENT
BEGIN:VEVENT
DTSTART;TZID=America/Los_Angeles:20280203T140000
DTEND;TZID=America/Los_Angeles:20280203T150000
DTSTAMP:20260419T061508
CREATED:20250929T192327Z
LAST-MODIFIED:20250929T192327Z
UID:10025894-1833199200-1833202800@tillamookchamber.org
SUMMARY:Mahjong at Manzanita Library
DESCRIPTION:Play mahjong in a fun informal group at the Manzanita library Thursdays at 2 pm!
URL:https://tillamookchamber.org/event/mahjong-at-manzanita-library/2028-02-03/
LOCATION:Manzanita Library\, 571 Laneda Ave Manzanita OR
CATEGORIES:Community,Family Fun
END:VEVENT
BEGIN:VEVENT
DTSTART;TZID=America/Los_Angeles:20280210T140000
DTEND;TZID=America/Los_Angeles:20280210T150000
DTSTAMP:20260419T061508
CREATED:20250929T192327Z
LAST-MODIFIED:20250929T192327Z
UID:10025895-1833804000-1833807600@tillamookchamber.org
SUMMARY:Mahjong at Manzanita Library
DESCRIPTION:Play mahjong in a fun informal group at the Manzanita library Thursdays at 2 pm!
URL:https://tillamookchamber.org/event/mahjong-at-manzanita-library/2028-02-10/
LOCATION:Manzanita Library\, 571 Laneda Ave Manzanita OR
CATEGORIES:Community,Family Fun
END:VEVENT
BEGIN:VEVENT
DTSTART;TZID=America/Los_Angeles:20280217T140000
DTEND;TZID=America/Los_Angeles:20280217T150000
DTSTAMP:20260419T061508
CREATED:20250929T192327Z
LAST-MODIFIED:20250929T192327Z
UID:10025896-1834408800-1834412400@tillamookchamber.org
SUMMARY:Mahjong at Manzanita Library
DESCRIPTION:Play mahjong in a fun informal group at the Manzanita library Thursdays at 2 pm!
URL:https://tillamookchamber.org/event/mahjong-at-manzanita-library/2028-02-17/
LOCATION:Manzanita Library\, 571 Laneda Ave Manzanita OR
CATEGORIES:Community,Family Fun
END:VEVENT
BEGIN:VEVENT
DTSTART;TZID=America/Los_Angeles:20280224T140000
DTEND;TZID=America/Los_Angeles:20280224T150000
DTSTAMP:20260419T061508
CREATED:20250929T192327Z
LAST-MODIFIED:20250929T192327Z
UID:10025897-1835013600-1835017200@tillamookchamber.org
SUMMARY:Mahjong at Manzanita Library
DESCRIPTION:Play mahjong in a fun informal group at the Manzanita library Thursdays at 2 pm!
URL:https://tillamookchamber.org/event/mahjong-at-manzanita-library/2028-02-24/
LOCATION:Manzanita Library\, 571 Laneda Ave Manzanita OR
CATEGORIES:Community,Family Fun
END:VEVENT
BEGIN:VEVENT
DTSTART;TZID=America/Los_Angeles:20280302T140000
DTEND;TZID=America/Los_Angeles:20280302T150000
DTSTAMP:20260419T061508
CREATED:20250929T192327Z
LAST-MODIFIED:20250929T192327Z
UID:10025898-1835618400-1835622000@tillamookchamber.org
SUMMARY:Mahjong at Manzanita Library
DESCRIPTION:Play mahjong in a fun informal group at the Manzanita library Thursdays at 2 pm!
URL:https://tillamookchamber.org/event/mahjong-at-manzanita-library/2028-03-02/
LOCATION:Manzanita Library\, 571 Laneda Ave Manzanita OR
CATEGORIES:Community,Family Fun
END:VEVENT
BEGIN:VEVENT
DTSTART;TZID=America/Los_Angeles:20280309T140000
DTEND;TZID=America/Los_Angeles:20280309T150000
DTSTAMP:20260419T061508
CREATED:20250929T192327Z
LAST-MODIFIED:20250929T192327Z
UID:10025899-1836223200-1836226800@tillamookchamber.org
SUMMARY:Mahjong at Manzanita Library
DESCRIPTION:Play mahjong in a fun informal group at the Manzanita library Thursdays at 2 pm!
URL:https://tillamookchamber.org/event/mahjong-at-manzanita-library/2028-03-09/
LOCATION:Manzanita Library\, 571 Laneda Ave Manzanita OR
CATEGORIES:Community,Family Fun
END:VEVENT
BEGIN:VEVENT
DTSTART;TZID=America/Los_Angeles:20280316T140000
DTEND;TZID=America/Los_Angeles:20280316T150000
DTSTAMP:20260419T061508
CREATED:20250929T192327Z
LAST-MODIFIED:20250929T192327Z
UID:10025900-1836828000-1836831600@tillamookchamber.org
SUMMARY:Mahjong at Manzanita Library
DESCRIPTION:Play mahjong in a fun informal group at the Manzanita library Thursdays at 2 pm!
URL:https://tillamookchamber.org/event/mahjong-at-manzanita-library/2028-03-16/
LOCATION:Manzanita Library\, 571 Laneda Ave Manzanita OR
CATEGORIES:Community,Family Fun
END:VEVENT
BEGIN:VEVENT
DTSTART;TZID=America/Los_Angeles:20280323T140000
DTEND;TZID=America/Los_Angeles:20280323T150000
DTSTAMP:20260419T061508
CREATED:20250929T192327Z
LAST-MODIFIED:20250929T192327Z
UID:10025901-1837432800-1837436400@tillamookchamber.org
SUMMARY:Mahjong at Manzanita Library
DESCRIPTION:Play mahjong in a fun informal group at the Manzanita library Thursdays at 2 pm!
URL:https://tillamookchamber.org/event/mahjong-at-manzanita-library/2028-03-23/
LOCATION:Manzanita Library\, 571 Laneda Ave Manzanita OR
CATEGORIES:Community,Family Fun
END:VEVENT
BEGIN:VEVENT
DTSTART;TZID=America/Los_Angeles:20280330T140000
DTEND;TZID=America/Los_Angeles:20280330T150000
DTSTAMP:20260419T061508
CREATED:20250929T192327Z
LAST-MODIFIED:20250929T192327Z
UID:10025902-1838037600-1838041200@tillamookchamber.org
SUMMARY:Mahjong at Manzanita Library
DESCRIPTION:Play mahjong in a fun informal group at the Manzanita library Thursdays at 2 pm!
URL:https://tillamookchamber.org/event/mahjong-at-manzanita-library/2028-03-30/
LOCATION:Manzanita Library\, 571 Laneda Ave Manzanita OR
CATEGORIES:Community,Family Fun
END:VEVENT
BEGIN:VEVENT
DTSTART;TZID=America/Los_Angeles:20280406T140000
DTEND;TZID=America/Los_Angeles:20280406T150000
DTSTAMP:20260419T061508
CREATED:20250929T192327Z
LAST-MODIFIED:20250929T192327Z
UID:10025903-1838642400-1838646000@tillamookchamber.org
SUMMARY:Mahjong at Manzanita Library
DESCRIPTION:Play mahjong in a fun informal group at the Manzanita library Thursdays at 2 pm!
URL:https://tillamookchamber.org/event/mahjong-at-manzanita-library/2028-04-06/
LOCATION:Manzanita Library\, 571 Laneda Ave Manzanita OR
CATEGORIES:Community,Family Fun
END:VEVENT
BEGIN:VEVENT
DTSTART;TZID=America/Los_Angeles:20280413T140000
DTEND;TZID=America/Los_Angeles:20280413T150000
DTSTAMP:20260419T061508
CREATED:20250929T192327Z
LAST-MODIFIED:20250929T192327Z
UID:10025904-1839247200-1839250800@tillamookchamber.org
SUMMARY:Mahjong at Manzanita Library
DESCRIPTION:Play mahjong in a fun informal group at the Manzanita library Thursdays at 2 pm!
URL:https://tillamookchamber.org/event/mahjong-at-manzanita-library/2028-04-13/
LOCATION:Manzanita Library\, 571 Laneda Ave Manzanita OR
CATEGORIES:Community,Family Fun
END:VEVENT
BEGIN:VEVENT
DTSTART;TZID=America/Los_Angeles:20280420T140000
DTEND;TZID=America/Los_Angeles:20280420T150000
DTSTAMP:20260419T061508
CREATED:20250929T192327Z
LAST-MODIFIED:20250929T192327Z
UID:10025905-1839852000-1839855600@tillamookchamber.org
SUMMARY:Mahjong at Manzanita Library
DESCRIPTION:Play mahjong in a fun informal group at the Manzanita library Thursdays at 2 pm!
URL:https://tillamookchamber.org/event/mahjong-at-manzanita-library/2028-04-20/
LOCATION:Manzanita Library\, 571 Laneda Ave Manzanita OR
CATEGORIES:Community,Family Fun
END:VEVENT
END:VCALENDAR