BEGIN:VCALENDAR
VERSION:2.0
PRODID:-//Tillamook Area Chamber of Commerce - ECPv6.15.20//NONSGML v1.0//EN
CALSCALE:GREGORIAN
METHOD:PUBLISH
X-ORIGINAL-URL:https://tillamookchamber.org
X-WR-CALDESC:Events for Tillamook Area Chamber of Commerce
REFRESH-INTERVAL;VALUE=DURATION:PT1H
X-Robots-Tag:noindex
X-PUBLISHED-TTL:PT1H
BEGIN:VTIMEZONE
TZID:America/Los_Angeles
BEGIN:DAYLIGHT
TZOFFSETFROM:-0800
TZOFFSETTO:-0700
TZNAME:PDT
DTSTART:20280312T100000
END:DAYLIGHT
BEGIN:STANDARD
TZOFFSETFROM:-0700
TZOFFSETTO:-0800
TZNAME:PST
DTSTART:20281105T090000
END:STANDARD
BEGIN:DAYLIGHT
TZOFFSETFROM:-0800
TZOFFSETTO:-0700
TZNAME:PDT
DTSTART:20290311T100000
END:DAYLIGHT
BEGIN:STANDARD
TZOFFSETFROM:-0700
TZOFFSETTO:-0800
TZNAME:PST
DTSTART:20291104T090000
END:STANDARD
BEGIN:DAYLIGHT
TZOFFSETFROM:-0800
TZOFFSETTO:-0700
TZNAME:PDT
DTSTART:20300310T100000
END:DAYLIGHT
BEGIN:STANDARD
TZOFFSETFROM:-0700
TZOFFSETTO:-0800
TZNAME:PST
DTSTART:20301103T090000
END:STANDARD
END:VTIMEZONE
BEGIN:VEVENT
DTSTART;TZID=America/Los_Angeles:20290215T140000
DTEND;TZID=America/Los_Angeles:20290215T150000
DTSTAMP:20260420T004736
CREATED:20250929T192327Z
LAST-MODIFIED:20250929T192327Z
UID:10025948-1865858400-1865862000@tillamookchamber.org
SUMMARY:Mahjong at Manzanita Library
DESCRIPTION:Play mahjong in a fun informal group at the Manzanita library Thursdays at 2 pm!
URL:https://tillamookchamber.org/event/mahjong-at-manzanita-library/2029-02-15/
LOCATION:Manzanita Library\, 571 Laneda Ave Manzanita OR
CATEGORIES:Community,Family Fun
END:VEVENT
BEGIN:VEVENT
DTSTART;TZID=America/Los_Angeles:20290222T140000
DTEND;TZID=America/Los_Angeles:20290222T150000
DTSTAMP:20260420T004736
CREATED:20250929T192327Z
LAST-MODIFIED:20250929T192327Z
UID:10025949-1866463200-1866466800@tillamookchamber.org
SUMMARY:Mahjong at Manzanita Library
DESCRIPTION:Play mahjong in a fun informal group at the Manzanita library Thursdays at 2 pm!
URL:https://tillamookchamber.org/event/mahjong-at-manzanita-library/2029-02-22/
LOCATION:Manzanita Library\, 571 Laneda Ave Manzanita OR
CATEGORIES:Community,Family Fun
END:VEVENT
BEGIN:VEVENT
DTSTART;TZID=America/Los_Angeles:20290301T140000
DTEND;TZID=America/Los_Angeles:20290301T150000
DTSTAMP:20260420T004736
CREATED:20250929T192327Z
LAST-MODIFIED:20250929T192327Z
UID:10025950-1867068000-1867071600@tillamookchamber.org
SUMMARY:Mahjong at Manzanita Library
DESCRIPTION:Play mahjong in a fun informal group at the Manzanita library Thursdays at 2 pm!
URL:https://tillamookchamber.org/event/mahjong-at-manzanita-library/2029-03-01/
LOCATION:Manzanita Library\, 571 Laneda Ave Manzanita OR
CATEGORIES:Community,Family Fun
END:VEVENT
BEGIN:VEVENT
DTSTART;TZID=America/Los_Angeles:20290308T140000
DTEND;TZID=America/Los_Angeles:20290308T150000
DTSTAMP:20260420T004736
CREATED:20250929T192327Z
LAST-MODIFIED:20250929T192327Z
UID:10025951-1867672800-1867676400@tillamookchamber.org
SUMMARY:Mahjong at Manzanita Library
DESCRIPTION:Play mahjong in a fun informal group at the Manzanita library Thursdays at 2 pm!
URL:https://tillamookchamber.org/event/mahjong-at-manzanita-library/2029-03-08/
LOCATION:Manzanita Library\, 571 Laneda Ave Manzanita OR
CATEGORIES:Community,Family Fun
END:VEVENT
BEGIN:VEVENT
DTSTART;TZID=America/Los_Angeles:20290315T140000
DTEND;TZID=America/Los_Angeles:20290315T150000
DTSTAMP:20260420T004736
CREATED:20250929T192327Z
LAST-MODIFIED:20250929T192327Z
UID:10025952-1868277600-1868281200@tillamookchamber.org
SUMMARY:Mahjong at Manzanita Library
DESCRIPTION:Play mahjong in a fun informal group at the Manzanita library Thursdays at 2 pm!
URL:https://tillamookchamber.org/event/mahjong-at-manzanita-library/2029-03-15/
LOCATION:Manzanita Library\, 571 Laneda Ave Manzanita OR
CATEGORIES:Community,Family Fun
END:VEVENT
BEGIN:VEVENT
DTSTART;TZID=America/Los_Angeles:20290322T140000
DTEND;TZID=America/Los_Angeles:20290322T150000
DTSTAMP:20260420T004736
CREATED:20250929T192327Z
LAST-MODIFIED:20250929T192327Z
UID:10025953-1868882400-1868886000@tillamookchamber.org
SUMMARY:Mahjong at Manzanita Library
DESCRIPTION:Play mahjong in a fun informal group at the Manzanita library Thursdays at 2 pm!
URL:https://tillamookchamber.org/event/mahjong-at-manzanita-library/2029-03-22/
LOCATION:Manzanita Library\, 571 Laneda Ave Manzanita OR
CATEGORIES:Community,Family Fun
END:VEVENT
BEGIN:VEVENT
DTSTART;TZID=America/Los_Angeles:20290329T140000
DTEND;TZID=America/Los_Angeles:20290329T150000
DTSTAMP:20260420T004736
CREATED:20250929T192327Z
LAST-MODIFIED:20250929T192327Z
UID:10025954-1869487200-1869490800@tillamookchamber.org
SUMMARY:Mahjong at Manzanita Library
DESCRIPTION:Play mahjong in a fun informal group at the Manzanita library Thursdays at 2 pm!
URL:https://tillamookchamber.org/event/mahjong-at-manzanita-library/2029-03-29/
LOCATION:Manzanita Library\, 571 Laneda Ave Manzanita OR
CATEGORIES:Community,Family Fun
END:VEVENT
BEGIN:VEVENT
DTSTART;TZID=America/Los_Angeles:20290405T140000
DTEND;TZID=America/Los_Angeles:20290405T150000
DTSTAMP:20260420T004736
CREATED:20250929T192327Z
LAST-MODIFIED:20250929T192327Z
UID:10025955-1870092000-1870095600@tillamookchamber.org
SUMMARY:Mahjong at Manzanita Library
DESCRIPTION:Play mahjong in a fun informal group at the Manzanita library Thursdays at 2 pm!
URL:https://tillamookchamber.org/event/mahjong-at-manzanita-library/2029-04-05/
LOCATION:Manzanita Library\, 571 Laneda Ave Manzanita OR
CATEGORIES:Community,Family Fun
END:VEVENT
BEGIN:VEVENT
DTSTART;TZID=America/Los_Angeles:20290412T140000
DTEND;TZID=America/Los_Angeles:20290412T150000
DTSTAMP:20260420T004736
CREATED:20250929T192327Z
LAST-MODIFIED:20250929T192327Z
UID:10025956-1870696800-1870700400@tillamookchamber.org
SUMMARY:Mahjong at Manzanita Library
DESCRIPTION:Play mahjong in a fun informal group at the Manzanita library Thursdays at 2 pm!
URL:https://tillamookchamber.org/event/mahjong-at-manzanita-library/2029-04-12/
LOCATION:Manzanita Library\, 571 Laneda Ave Manzanita OR
CATEGORIES:Community,Family Fun
END:VEVENT
BEGIN:VEVENT
DTSTART;TZID=America/Los_Angeles:20290419T140000
DTEND;TZID=America/Los_Angeles:20290419T150000
DTSTAMP:20260420T004736
CREATED:20250929T192327Z
LAST-MODIFIED:20250929T192327Z
UID:10025957-1871301600-1871305200@tillamookchamber.org
SUMMARY:Mahjong at Manzanita Library
DESCRIPTION:Play mahjong in a fun informal group at the Manzanita library Thursdays at 2 pm!
URL:https://tillamookchamber.org/event/mahjong-at-manzanita-library/2029-04-19/
LOCATION:Manzanita Library\, 571 Laneda Ave Manzanita OR
CATEGORIES:Community,Family Fun
END:VEVENT
BEGIN:VEVENT
DTSTART;TZID=America/Los_Angeles:20290426T140000
DTEND;TZID=America/Los_Angeles:20290426T150000
DTSTAMP:20260420T004736
CREATED:20250929T192327Z
LAST-MODIFIED:20250929T192327Z
UID:10025958-1871906400-1871910000@tillamookchamber.org
SUMMARY:Mahjong at Manzanita Library
DESCRIPTION:Play mahjong in a fun informal group at the Manzanita library Thursdays at 2 pm!
URL:https://tillamookchamber.org/event/mahjong-at-manzanita-library/2029-04-26/
LOCATION:Manzanita Library\, 571 Laneda Ave Manzanita OR
CATEGORIES:Community,Family Fun
END:VEVENT
BEGIN:VEVENT
DTSTART;TZID=America/Los_Angeles:20290503T140000
DTEND;TZID=America/Los_Angeles:20290503T150000
DTSTAMP:20260420T004736
CREATED:20250929T192327Z
LAST-MODIFIED:20250929T192327Z
UID:10025959-1872511200-1872514800@tillamookchamber.org
SUMMARY:Mahjong at Manzanita Library
DESCRIPTION:Play mahjong in a fun informal group at the Manzanita library Thursdays at 2 pm!
URL:https://tillamookchamber.org/event/mahjong-at-manzanita-library/2029-05-03/
LOCATION:Manzanita Library\, 571 Laneda Ave Manzanita OR
CATEGORIES:Community,Family Fun
END:VEVENT
BEGIN:VEVENT
DTSTART;TZID=America/Los_Angeles:20290510T140000
DTEND;TZID=America/Los_Angeles:20290510T150000
DTSTAMP:20260420T004736
CREATED:20250929T192327Z
LAST-MODIFIED:20250929T192327Z
UID:10025960-1873116000-1873119600@tillamookchamber.org
SUMMARY:Mahjong at Manzanita Library
DESCRIPTION:Play mahjong in a fun informal group at the Manzanita library Thursdays at 2 pm!
URL:https://tillamookchamber.org/event/mahjong-at-manzanita-library/2029-05-10/
LOCATION:Manzanita Library\, 571 Laneda Ave Manzanita OR
CATEGORIES:Community,Family Fun
END:VEVENT
BEGIN:VEVENT
DTSTART;TZID=America/Los_Angeles:20290517T140000
DTEND;TZID=America/Los_Angeles:20290517T150000
DTSTAMP:20260420T004736
CREATED:20250929T192327Z
LAST-MODIFIED:20250929T192327Z
UID:10025961-1873720800-1873724400@tillamookchamber.org
SUMMARY:Mahjong at Manzanita Library
DESCRIPTION:Play mahjong in a fun informal group at the Manzanita library Thursdays at 2 pm!
URL:https://tillamookchamber.org/event/mahjong-at-manzanita-library/2029-05-17/
LOCATION:Manzanita Library\, 571 Laneda Ave Manzanita OR
CATEGORIES:Community,Family Fun
END:VEVENT
BEGIN:VEVENT
DTSTART;TZID=America/Los_Angeles:20290524T140000
DTEND;TZID=America/Los_Angeles:20290524T150000
DTSTAMP:20260420T004736
CREATED:20250929T192327Z
LAST-MODIFIED:20250929T192327Z
UID:10025962-1874325600-1874329200@tillamookchamber.org
SUMMARY:Mahjong at Manzanita Library
DESCRIPTION:Play mahjong in a fun informal group at the Manzanita library Thursdays at 2 pm!
URL:https://tillamookchamber.org/event/mahjong-at-manzanita-library/2029-05-24/
LOCATION:Manzanita Library\, 571 Laneda Ave Manzanita OR
CATEGORIES:Community,Family Fun
END:VEVENT
BEGIN:VEVENT
DTSTART;TZID=America/Los_Angeles:20290531T140000
DTEND;TZID=America/Los_Angeles:20290531T150000
DTSTAMP:20260420T004736
CREATED:20250929T192327Z
LAST-MODIFIED:20250929T192327Z
UID:10025963-1874930400-1874934000@tillamookchamber.org
SUMMARY:Mahjong at Manzanita Library
DESCRIPTION:Play mahjong in a fun informal group at the Manzanita library Thursdays at 2 pm!
URL:https://tillamookchamber.org/event/mahjong-at-manzanita-library/2029-05-31/
LOCATION:Manzanita Library\, 571 Laneda Ave Manzanita OR
CATEGORIES:Community,Family Fun
END:VEVENT
BEGIN:VEVENT
DTSTART;TZID=America/Los_Angeles:20290607T140000
DTEND;TZID=America/Los_Angeles:20290607T150000
DTSTAMP:20260420T004736
CREATED:20250929T192327Z
LAST-MODIFIED:20250929T192327Z
UID:10025964-1875535200-1875538800@tillamookchamber.org
SUMMARY:Mahjong at Manzanita Library
DESCRIPTION:Play mahjong in a fun informal group at the Manzanita library Thursdays at 2 pm!
URL:https://tillamookchamber.org/event/mahjong-at-manzanita-library/2029-06-07/
LOCATION:Manzanita Library\, 571 Laneda Ave Manzanita OR
CATEGORIES:Community,Family Fun
END:VEVENT
BEGIN:VEVENT
DTSTART;TZID=America/Los_Angeles:20290614T140000
DTEND;TZID=America/Los_Angeles:20290614T150000
DTSTAMP:20260420T004736
CREATED:20250929T192327Z
LAST-MODIFIED:20250929T192327Z
UID:10025965-1876140000-1876143600@tillamookchamber.org
SUMMARY:Mahjong at Manzanita Library
DESCRIPTION:Play mahjong in a fun informal group at the Manzanita library Thursdays at 2 pm!
URL:https://tillamookchamber.org/event/mahjong-at-manzanita-library/2029-06-14/
LOCATION:Manzanita Library\, 571 Laneda Ave Manzanita OR
CATEGORIES:Community,Family Fun
END:VEVENT
BEGIN:VEVENT
DTSTART;TZID=America/Los_Angeles:20290621T140000
DTEND;TZID=America/Los_Angeles:20290621T150000
DTSTAMP:20260420T004736
CREATED:20250929T192327Z
LAST-MODIFIED:20250929T192327Z
UID:10025966-1876744800-1876748400@tillamookchamber.org
SUMMARY:Mahjong at Manzanita Library
DESCRIPTION:Play mahjong in a fun informal group at the Manzanita library Thursdays at 2 pm!
URL:https://tillamookchamber.org/event/mahjong-at-manzanita-library/2029-06-21/
LOCATION:Manzanita Library\, 571 Laneda Ave Manzanita OR
CATEGORIES:Community,Family Fun
END:VEVENT
BEGIN:VEVENT
DTSTART;TZID=America/Los_Angeles:20290628T140000
DTEND;TZID=America/Los_Angeles:20290628T150000
DTSTAMP:20260420T004736
CREATED:20250929T192327Z
LAST-MODIFIED:20250929T192327Z
UID:10025967-1877349600-1877353200@tillamookchamber.org
SUMMARY:Mahjong at Manzanita Library
DESCRIPTION:Play mahjong in a fun informal group at the Manzanita library Thursdays at 2 pm!
URL:https://tillamookchamber.org/event/mahjong-at-manzanita-library/2029-06-28/
LOCATION:Manzanita Library\, 571 Laneda Ave Manzanita OR
CATEGORIES:Community,Family Fun
END:VEVENT
BEGIN:VEVENT
DTSTART;TZID=America/Los_Angeles:20290705T140000
DTEND;TZID=America/Los_Angeles:20290705T150000
DTSTAMP:20260420T004736
CREATED:20250929T192327Z
LAST-MODIFIED:20250929T192327Z
UID:10025968-1877954400-1877958000@tillamookchamber.org
SUMMARY:Mahjong at Manzanita Library
DESCRIPTION:Play mahjong in a fun informal group at the Manzanita library Thursdays at 2 pm!
URL:https://tillamookchamber.org/event/mahjong-at-manzanita-library/2029-07-05/
LOCATION:Manzanita Library\, 571 Laneda Ave Manzanita OR
CATEGORIES:Community,Family Fun
END:VEVENT
BEGIN:VEVENT
DTSTART;TZID=America/Los_Angeles:20290712T140000
DTEND;TZID=America/Los_Angeles:20290712T150000
DTSTAMP:20260420T004736
CREATED:20250929T192327Z
LAST-MODIFIED:20250929T192327Z
UID:10025969-1878559200-1878562800@tillamookchamber.org
SUMMARY:Mahjong at Manzanita Library
DESCRIPTION:Play mahjong in a fun informal group at the Manzanita library Thursdays at 2 pm!
URL:https://tillamookchamber.org/event/mahjong-at-manzanita-library/2029-07-12/
LOCATION:Manzanita Library\, 571 Laneda Ave Manzanita OR
CATEGORIES:Community,Family Fun
END:VEVENT
BEGIN:VEVENT
DTSTART;TZID=America/Los_Angeles:20290719T140000
DTEND;TZID=America/Los_Angeles:20290719T150000
DTSTAMP:20260420T004736
CREATED:20250929T192327Z
LAST-MODIFIED:20250929T192327Z
UID:10025970-1879164000-1879167600@tillamookchamber.org
SUMMARY:Mahjong at Manzanita Library
DESCRIPTION:Play mahjong in a fun informal group at the Manzanita library Thursdays at 2 pm!
URL:https://tillamookchamber.org/event/mahjong-at-manzanita-library/2029-07-19/
LOCATION:Manzanita Library\, 571 Laneda Ave Manzanita OR
CATEGORIES:Community,Family Fun
END:VEVENT
BEGIN:VEVENT
DTSTART;TZID=America/Los_Angeles:20290726T140000
DTEND;TZID=America/Los_Angeles:20290726T150000
DTSTAMP:20260420T004736
CREATED:20250929T192327Z
LAST-MODIFIED:20250929T192327Z
UID:10025971-1879768800-1879772400@tillamookchamber.org
SUMMARY:Mahjong at Manzanita Library
DESCRIPTION:Play mahjong in a fun informal group at the Manzanita library Thursdays at 2 pm!
URL:https://tillamookchamber.org/event/mahjong-at-manzanita-library/2029-07-26/
LOCATION:Manzanita Library\, 571 Laneda Ave Manzanita OR
CATEGORIES:Community,Family Fun
END:VEVENT
BEGIN:VEVENT
DTSTART;TZID=America/Los_Angeles:20290802T140000
DTEND;TZID=America/Los_Angeles:20290802T150000
DTSTAMP:20260420T004736
CREATED:20250929T192327Z
LAST-MODIFIED:20250929T192327Z
UID:10025972-1880373600-1880377200@tillamookchamber.org
SUMMARY:Mahjong at Manzanita Library
DESCRIPTION:Play mahjong in a fun informal group at the Manzanita library Thursdays at 2 pm!
URL:https://tillamookchamber.org/event/mahjong-at-manzanita-library/2029-08-02/
LOCATION:Manzanita Library\, 571 Laneda Ave Manzanita OR
CATEGORIES:Community,Family Fun
END:VEVENT
BEGIN:VEVENT
DTSTART;TZID=America/Los_Angeles:20290809T140000
DTEND;TZID=America/Los_Angeles:20290809T150000
DTSTAMP:20260420T004736
CREATED:20250929T192327Z
LAST-MODIFIED:20250929T192327Z
UID:10025973-1880978400-1880982000@tillamookchamber.org
SUMMARY:Mahjong at Manzanita Library
DESCRIPTION:Play mahjong in a fun informal group at the Manzanita library Thursdays at 2 pm!
URL:https://tillamookchamber.org/event/mahjong-at-manzanita-library/2029-08-09/
LOCATION:Manzanita Library\, 571 Laneda Ave Manzanita OR
CATEGORIES:Community,Family Fun
END:VEVENT
BEGIN:VEVENT
DTSTART;TZID=America/Los_Angeles:20290816T140000
DTEND;TZID=America/Los_Angeles:20290816T150000
DTSTAMP:20260420T004736
CREATED:20250929T192327Z
LAST-MODIFIED:20250929T192327Z
UID:10025974-1881583200-1881586800@tillamookchamber.org
SUMMARY:Mahjong at Manzanita Library
DESCRIPTION:Play mahjong in a fun informal group at the Manzanita library Thursdays at 2 pm!
URL:https://tillamookchamber.org/event/mahjong-at-manzanita-library/2029-08-16/
LOCATION:Manzanita Library\, 571 Laneda Ave Manzanita OR
CATEGORIES:Community,Family Fun
END:VEVENT
BEGIN:VEVENT
DTSTART;TZID=America/Los_Angeles:20290823T140000
DTEND;TZID=America/Los_Angeles:20290823T150000
DTSTAMP:20260420T004736
CREATED:20250929T192327Z
LAST-MODIFIED:20250929T192327Z
UID:10025975-1882188000-1882191600@tillamookchamber.org
SUMMARY:Mahjong at Manzanita Library
DESCRIPTION:Play mahjong in a fun informal group at the Manzanita library Thursdays at 2 pm!
URL:https://tillamookchamber.org/event/mahjong-at-manzanita-library/2029-08-23/
LOCATION:Manzanita Library\, 571 Laneda Ave Manzanita OR
CATEGORIES:Community,Family Fun
END:VEVENT
BEGIN:VEVENT
DTSTART;TZID=America/Los_Angeles:20290830T140000
DTEND;TZID=America/Los_Angeles:20290830T150000
DTSTAMP:20260420T004736
CREATED:20250929T192327Z
LAST-MODIFIED:20250929T192327Z
UID:10025976-1882792800-1882796400@tillamookchamber.org
SUMMARY:Mahjong at Manzanita Library
DESCRIPTION:Play mahjong in a fun informal group at the Manzanita library Thursdays at 2 pm!
URL:https://tillamookchamber.org/event/mahjong-at-manzanita-library/2029-08-30/
LOCATION:Manzanita Library\, 571 Laneda Ave Manzanita OR
CATEGORIES:Community,Family Fun
END:VEVENT
BEGIN:VEVENT
DTSTART;TZID=America/Los_Angeles:20290906T140000
DTEND;TZID=America/Los_Angeles:20290906T150000
DTSTAMP:20260420T004736
CREATED:20250929T192327Z
LAST-MODIFIED:20250929T192327Z
UID:10025977-1883397600-1883401200@tillamookchamber.org
SUMMARY:Mahjong at Manzanita Library
DESCRIPTION:Play mahjong in a fun informal group at the Manzanita library Thursdays at 2 pm!
URL:https://tillamookchamber.org/event/mahjong-at-manzanita-library/2029-09-06/
LOCATION:Manzanita Library\, 571 Laneda Ave Manzanita OR
CATEGORIES:Community,Family Fun
END:VEVENT
END:VCALENDAR