BEGIN:VCALENDAR
VERSION:2.0
PRODID:-//Tillamook Area Chamber of Commerce - ECPv6.15.20//NONSGML v1.0//EN
CALSCALE:GREGORIAN
METHOD:PUBLISH
X-WR-CALNAME:Tillamook Area Chamber of Commerce
X-ORIGINAL-URL:https://tillamookchamber.org
X-WR-CALDESC:Events for Tillamook Area Chamber of Commerce
REFRESH-INTERVAL;VALUE=DURATION:PT1H
X-Robots-Tag:noindex
X-PUBLISHED-TTL:PT1H
BEGIN:VTIMEZONE
TZID:America/Los_Angeles
BEGIN:DAYLIGHT
TZOFFSETFROM:-0800
TZOFFSETTO:-0700
TZNAME:PDT
DTSTART:20270314T100000
END:DAYLIGHT
BEGIN:STANDARD
TZOFFSETFROM:-0700
TZOFFSETTO:-0800
TZNAME:PST
DTSTART:20271107T090000
END:STANDARD
BEGIN:DAYLIGHT
TZOFFSETFROM:-0800
TZOFFSETTO:-0700
TZNAME:PDT
DTSTART:20280312T100000
END:DAYLIGHT
BEGIN:STANDARD
TZOFFSETFROM:-0700
TZOFFSETTO:-0800
TZNAME:PST
DTSTART:20281105T090000
END:STANDARD
BEGIN:DAYLIGHT
TZOFFSETFROM:-0800
TZOFFSETTO:-0700
TZNAME:PDT
DTSTART:20290311T100000
END:DAYLIGHT
BEGIN:STANDARD
TZOFFSETFROM:-0700
TZOFFSETTO:-0800
TZNAME:PST
DTSTART:20291104T090000
END:STANDARD
END:VTIMEZONE
BEGIN:VEVENT
DTSTART;TZID=America/Los_Angeles:20280608T140000
DTEND;TZID=America/Los_Angeles:20280608T150000
DTSTAMP:20260419T185307
CREATED:20250929T192327Z
LAST-MODIFIED:20250929T192327Z
UID:10025912-1844085600-1844089200@tillamookchamber.org
SUMMARY:Mahjong at Manzanita Library
DESCRIPTION:Play mahjong in a fun informal group at the Manzanita library Thursdays at 2 pm!
URL:https://tillamookchamber.org/event/mahjong-at-manzanita-library/2028-06-08/
LOCATION:Manzanita Library\, 571 Laneda Ave Manzanita OR
CATEGORIES:Community,Family Fun
END:VEVENT
BEGIN:VEVENT
DTSTART;TZID=America/Los_Angeles:20280615T140000
DTEND;TZID=America/Los_Angeles:20280615T150000
DTSTAMP:20260419T185307
CREATED:20250929T192327Z
LAST-MODIFIED:20250929T192327Z
UID:10025913-1844690400-1844694000@tillamookchamber.org
SUMMARY:Mahjong at Manzanita Library
DESCRIPTION:Play mahjong in a fun informal group at the Manzanita library Thursdays at 2 pm!
URL:https://tillamookchamber.org/event/mahjong-at-manzanita-library/2028-06-15/
LOCATION:Manzanita Library\, 571 Laneda Ave Manzanita OR
CATEGORIES:Community,Family Fun
END:VEVENT
BEGIN:VEVENT
DTSTART;TZID=America/Los_Angeles:20280622T140000
DTEND;TZID=America/Los_Angeles:20280622T150000
DTSTAMP:20260419T185307
CREATED:20250929T192327Z
LAST-MODIFIED:20250929T192327Z
UID:10025914-1845295200-1845298800@tillamookchamber.org
SUMMARY:Mahjong at Manzanita Library
DESCRIPTION:Play mahjong in a fun informal group at the Manzanita library Thursdays at 2 pm!
URL:https://tillamookchamber.org/event/mahjong-at-manzanita-library/2028-06-22/
LOCATION:Manzanita Library\, 571 Laneda Ave Manzanita OR
CATEGORIES:Community,Family Fun
END:VEVENT
BEGIN:VEVENT
DTSTART;TZID=America/Los_Angeles:20280629T140000
DTEND;TZID=America/Los_Angeles:20280629T150000
DTSTAMP:20260419T185307
CREATED:20250929T192327Z
LAST-MODIFIED:20250929T192327Z
UID:10025915-1845900000-1845903600@tillamookchamber.org
SUMMARY:Mahjong at Manzanita Library
DESCRIPTION:Play mahjong in a fun informal group at the Manzanita library Thursdays at 2 pm!
URL:https://tillamookchamber.org/event/mahjong-at-manzanita-library/2028-06-29/
LOCATION:Manzanita Library\, 571 Laneda Ave Manzanita OR
CATEGORIES:Community,Family Fun
END:VEVENT
BEGIN:VEVENT
DTSTART;TZID=America/Los_Angeles:20280706T140000
DTEND;TZID=America/Los_Angeles:20280706T150000
DTSTAMP:20260419T185307
CREATED:20250929T192327Z
LAST-MODIFIED:20250929T192327Z
UID:10025916-1846504800-1846508400@tillamookchamber.org
SUMMARY:Mahjong at Manzanita Library
DESCRIPTION:Play mahjong in a fun informal group at the Manzanita library Thursdays at 2 pm!
URL:https://tillamookchamber.org/event/mahjong-at-manzanita-library/2028-07-06/
LOCATION:Manzanita Library\, 571 Laneda Ave Manzanita OR
CATEGORIES:Community,Family Fun
END:VEVENT
BEGIN:VEVENT
DTSTART;TZID=America/Los_Angeles:20280713T140000
DTEND;TZID=America/Los_Angeles:20280713T150000
DTSTAMP:20260419T185307
CREATED:20250929T192327Z
LAST-MODIFIED:20250929T192327Z
UID:10025917-1847109600-1847113200@tillamookchamber.org
SUMMARY:Mahjong at Manzanita Library
DESCRIPTION:Play mahjong in a fun informal group at the Manzanita library Thursdays at 2 pm!
URL:https://tillamookchamber.org/event/mahjong-at-manzanita-library/2028-07-13/
LOCATION:Manzanita Library\, 571 Laneda Ave Manzanita OR
CATEGORIES:Community,Family Fun
END:VEVENT
BEGIN:VEVENT
DTSTART;TZID=America/Los_Angeles:20280720T140000
DTEND;TZID=America/Los_Angeles:20280720T150000
DTSTAMP:20260419T185307
CREATED:20250929T192327Z
LAST-MODIFIED:20250929T192327Z
UID:10025918-1847714400-1847718000@tillamookchamber.org
SUMMARY:Mahjong at Manzanita Library
DESCRIPTION:Play mahjong in a fun informal group at the Manzanita library Thursdays at 2 pm!
URL:https://tillamookchamber.org/event/mahjong-at-manzanita-library/2028-07-20/
LOCATION:Manzanita Library\, 571 Laneda Ave Manzanita OR
CATEGORIES:Community,Family Fun
END:VEVENT
BEGIN:VEVENT
DTSTART;TZID=America/Los_Angeles:20280727T140000
DTEND;TZID=America/Los_Angeles:20280727T150000
DTSTAMP:20260419T185307
CREATED:20250929T192327Z
LAST-MODIFIED:20250929T192327Z
UID:10025919-1848319200-1848322800@tillamookchamber.org
SUMMARY:Mahjong at Manzanita Library
DESCRIPTION:Play mahjong in a fun informal group at the Manzanita library Thursdays at 2 pm!
URL:https://tillamookchamber.org/event/mahjong-at-manzanita-library/2028-07-27/
LOCATION:Manzanita Library\, 571 Laneda Ave Manzanita OR
CATEGORIES:Community,Family Fun
END:VEVENT
BEGIN:VEVENT
DTSTART;TZID=America/Los_Angeles:20280803T140000
DTEND;TZID=America/Los_Angeles:20280803T150000
DTSTAMP:20260419T185307
CREATED:20250929T192327Z
LAST-MODIFIED:20250929T192327Z
UID:10025920-1848924000-1848927600@tillamookchamber.org
SUMMARY:Mahjong at Manzanita Library
DESCRIPTION:Play mahjong in a fun informal group at the Manzanita library Thursdays at 2 pm!
URL:https://tillamookchamber.org/event/mahjong-at-manzanita-library/2028-08-03/
LOCATION:Manzanita Library\, 571 Laneda Ave Manzanita OR
CATEGORIES:Community,Family Fun
END:VEVENT
BEGIN:VEVENT
DTSTART;TZID=America/Los_Angeles:20280810T140000
DTEND;TZID=America/Los_Angeles:20280810T150000
DTSTAMP:20260419T185307
CREATED:20250929T192327Z
LAST-MODIFIED:20250929T192327Z
UID:10025921-1849528800-1849532400@tillamookchamber.org
SUMMARY:Mahjong at Manzanita Library
DESCRIPTION:Play mahjong in a fun informal group at the Manzanita library Thursdays at 2 pm!
URL:https://tillamookchamber.org/event/mahjong-at-manzanita-library/2028-08-10/
LOCATION:Manzanita Library\, 571 Laneda Ave Manzanita OR
CATEGORIES:Community,Family Fun
END:VEVENT
BEGIN:VEVENT
DTSTART;TZID=America/Los_Angeles:20280817T140000
DTEND;TZID=America/Los_Angeles:20280817T150000
DTSTAMP:20260419T185307
CREATED:20250929T192327Z
LAST-MODIFIED:20250929T192327Z
UID:10025922-1850133600-1850137200@tillamookchamber.org
SUMMARY:Mahjong at Manzanita Library
DESCRIPTION:Play mahjong in a fun informal group at the Manzanita library Thursdays at 2 pm!
URL:https://tillamookchamber.org/event/mahjong-at-manzanita-library/2028-08-17/
LOCATION:Manzanita Library\, 571 Laneda Ave Manzanita OR
CATEGORIES:Community,Family Fun
END:VEVENT
BEGIN:VEVENT
DTSTART;TZID=America/Los_Angeles:20280824T140000
DTEND;TZID=America/Los_Angeles:20280824T150000
DTSTAMP:20260419T185307
CREATED:20250929T192327Z
LAST-MODIFIED:20250929T192327Z
UID:10025923-1850738400-1850742000@tillamookchamber.org
SUMMARY:Mahjong at Manzanita Library
DESCRIPTION:Play mahjong in a fun informal group at the Manzanita library Thursdays at 2 pm!
URL:https://tillamookchamber.org/event/mahjong-at-manzanita-library/2028-08-24/
LOCATION:Manzanita Library\, 571 Laneda Ave Manzanita OR
CATEGORIES:Community,Family Fun
END:VEVENT
BEGIN:VEVENT
DTSTART;TZID=America/Los_Angeles:20280831T140000
DTEND;TZID=America/Los_Angeles:20280831T150000
DTSTAMP:20260419T185307
CREATED:20250929T192327Z
LAST-MODIFIED:20250929T192327Z
UID:10025924-1851343200-1851346800@tillamookchamber.org
SUMMARY:Mahjong at Manzanita Library
DESCRIPTION:Play mahjong in a fun informal group at the Manzanita library Thursdays at 2 pm!
URL:https://tillamookchamber.org/event/mahjong-at-manzanita-library/2028-08-31/
LOCATION:Manzanita Library\, 571 Laneda Ave Manzanita OR
CATEGORIES:Community,Family Fun
END:VEVENT
BEGIN:VEVENT
DTSTART;TZID=America/Los_Angeles:20280907T140000
DTEND;TZID=America/Los_Angeles:20280907T150000
DTSTAMP:20260419T185307
CREATED:20250929T192327Z
LAST-MODIFIED:20250929T192327Z
UID:10025925-1851948000-1851951600@tillamookchamber.org
SUMMARY:Mahjong at Manzanita Library
DESCRIPTION:Play mahjong in a fun informal group at the Manzanita library Thursdays at 2 pm!
URL:https://tillamookchamber.org/event/mahjong-at-manzanita-library/2028-09-07/
LOCATION:Manzanita Library\, 571 Laneda Ave Manzanita OR
CATEGORIES:Community,Family Fun
END:VEVENT
BEGIN:VEVENT
DTSTART;TZID=America/Los_Angeles:20280914T140000
DTEND;TZID=America/Los_Angeles:20280914T150000
DTSTAMP:20260419T185307
CREATED:20250929T192327Z
LAST-MODIFIED:20250929T192327Z
UID:10025926-1852552800-1852556400@tillamookchamber.org
SUMMARY:Mahjong at Manzanita Library
DESCRIPTION:Play mahjong in a fun informal group at the Manzanita library Thursdays at 2 pm!
URL:https://tillamookchamber.org/event/mahjong-at-manzanita-library/2028-09-14/
LOCATION:Manzanita Library\, 571 Laneda Ave Manzanita OR
CATEGORIES:Community,Family Fun
END:VEVENT
BEGIN:VEVENT
DTSTART;TZID=America/Los_Angeles:20280921T140000
DTEND;TZID=America/Los_Angeles:20280921T150000
DTSTAMP:20260419T185307
CREATED:20250929T192327Z
LAST-MODIFIED:20250929T192327Z
UID:10025927-1853157600-1853161200@tillamookchamber.org
SUMMARY:Mahjong at Manzanita Library
DESCRIPTION:Play mahjong in a fun informal group at the Manzanita library Thursdays at 2 pm!
URL:https://tillamookchamber.org/event/mahjong-at-manzanita-library/2028-09-21/
LOCATION:Manzanita Library\, 571 Laneda Ave Manzanita OR
CATEGORIES:Community,Family Fun
END:VEVENT
BEGIN:VEVENT
DTSTART;TZID=America/Los_Angeles:20280928T140000
DTEND;TZID=America/Los_Angeles:20280928T150000
DTSTAMP:20260419T185307
CREATED:20250929T192327Z
LAST-MODIFIED:20250929T192327Z
UID:10025928-1853762400-1853766000@tillamookchamber.org
SUMMARY:Mahjong at Manzanita Library
DESCRIPTION:Play mahjong in a fun informal group at the Manzanita library Thursdays at 2 pm!
URL:https://tillamookchamber.org/event/mahjong-at-manzanita-library/2028-09-28/
LOCATION:Manzanita Library\, 571 Laneda Ave Manzanita OR
CATEGORIES:Community,Family Fun
END:VEVENT
BEGIN:VEVENT
DTSTART;TZID=America/Los_Angeles:20281005T140000
DTEND;TZID=America/Los_Angeles:20281005T150000
DTSTAMP:20260419T185307
CREATED:20250929T192327Z
LAST-MODIFIED:20250929T192327Z
UID:10025929-1854367200-1854370800@tillamookchamber.org
SUMMARY:Mahjong at Manzanita Library
DESCRIPTION:Play mahjong in a fun informal group at the Manzanita library Thursdays at 2 pm!
URL:https://tillamookchamber.org/event/mahjong-at-manzanita-library/2028-10-05/
LOCATION:Manzanita Library\, 571 Laneda Ave Manzanita OR
CATEGORIES:Community,Family Fun
END:VEVENT
BEGIN:VEVENT
DTSTART;TZID=America/Los_Angeles:20281012T140000
DTEND;TZID=America/Los_Angeles:20281012T150000
DTSTAMP:20260419T185307
CREATED:20250929T192327Z
LAST-MODIFIED:20250929T192327Z
UID:10025930-1854972000-1854975600@tillamookchamber.org
SUMMARY:Mahjong at Manzanita Library
DESCRIPTION:Play mahjong in a fun informal group at the Manzanita library Thursdays at 2 pm!
URL:https://tillamookchamber.org/event/mahjong-at-manzanita-library/2028-10-12/
LOCATION:Manzanita Library\, 571 Laneda Ave Manzanita OR
CATEGORIES:Community,Family Fun
END:VEVENT
BEGIN:VEVENT
DTSTART;TZID=America/Los_Angeles:20281019T140000
DTEND;TZID=America/Los_Angeles:20281019T150000
DTSTAMP:20260419T185307
CREATED:20250929T192327Z
LAST-MODIFIED:20250929T192327Z
UID:10025931-1855576800-1855580400@tillamookchamber.org
SUMMARY:Mahjong at Manzanita Library
DESCRIPTION:Play mahjong in a fun informal group at the Manzanita library Thursdays at 2 pm!
URL:https://tillamookchamber.org/event/mahjong-at-manzanita-library/2028-10-19/
LOCATION:Manzanita Library\, 571 Laneda Ave Manzanita OR
CATEGORIES:Community,Family Fun
END:VEVENT
BEGIN:VEVENT
DTSTART;TZID=America/Los_Angeles:20281026T140000
DTEND;TZID=America/Los_Angeles:20281026T150000
DTSTAMP:20260419T185307
CREATED:20250929T192327Z
LAST-MODIFIED:20250929T192327Z
UID:10025932-1856181600-1856185200@tillamookchamber.org
SUMMARY:Mahjong at Manzanita Library
DESCRIPTION:Play mahjong in a fun informal group at the Manzanita library Thursdays at 2 pm!
URL:https://tillamookchamber.org/event/mahjong-at-manzanita-library/2028-10-26/
LOCATION:Manzanita Library\, 571 Laneda Ave Manzanita OR
CATEGORIES:Community,Family Fun
END:VEVENT
BEGIN:VEVENT
DTSTART;TZID=America/Los_Angeles:20281102T140000
DTEND;TZID=America/Los_Angeles:20281102T150000
DTSTAMP:20260419T185307
CREATED:20250929T192327Z
LAST-MODIFIED:20250929T192327Z
UID:10025933-1856786400-1856790000@tillamookchamber.org
SUMMARY:Mahjong at Manzanita Library
DESCRIPTION:Play mahjong in a fun informal group at the Manzanita library Thursdays at 2 pm!
URL:https://tillamookchamber.org/event/mahjong-at-manzanita-library/2028-11-02/
LOCATION:Manzanita Library\, 571 Laneda Ave Manzanita OR
CATEGORIES:Community,Family Fun
END:VEVENT
BEGIN:VEVENT
DTSTART;TZID=America/Los_Angeles:20281109T140000
DTEND;TZID=America/Los_Angeles:20281109T150000
DTSTAMP:20260419T185307
CREATED:20250929T192327Z
LAST-MODIFIED:20250929T192327Z
UID:10025934-1857391200-1857394800@tillamookchamber.org
SUMMARY:Mahjong at Manzanita Library
DESCRIPTION:Play mahjong in a fun informal group at the Manzanita library Thursdays at 2 pm!
URL:https://tillamookchamber.org/event/mahjong-at-manzanita-library/2028-11-09/
LOCATION:Manzanita Library\, 571 Laneda Ave Manzanita OR
CATEGORIES:Community,Family Fun
END:VEVENT
BEGIN:VEVENT
DTSTART;TZID=America/Los_Angeles:20281116T140000
DTEND;TZID=America/Los_Angeles:20281116T150000
DTSTAMP:20260419T185307
CREATED:20250929T192327Z
LAST-MODIFIED:20250929T192327Z
UID:10025935-1857996000-1857999600@tillamookchamber.org
SUMMARY:Mahjong at Manzanita Library
DESCRIPTION:Play mahjong in a fun informal group at the Manzanita library Thursdays at 2 pm!
URL:https://tillamookchamber.org/event/mahjong-at-manzanita-library/2028-11-16/
LOCATION:Manzanita Library\, 571 Laneda Ave Manzanita OR
CATEGORIES:Community,Family Fun
END:VEVENT
BEGIN:VEVENT
DTSTART;TZID=America/Los_Angeles:20281123T140000
DTEND;TZID=America/Los_Angeles:20281123T150000
DTSTAMP:20260419T185307
CREATED:20250929T192327Z
LAST-MODIFIED:20250929T192327Z
UID:10025936-1858600800-1858604400@tillamookchamber.org
SUMMARY:Mahjong at Manzanita Library
DESCRIPTION:Play mahjong in a fun informal group at the Manzanita library Thursdays at 2 pm!
URL:https://tillamookchamber.org/event/mahjong-at-manzanita-library/2028-11-23/
LOCATION:Manzanita Library\, 571 Laneda Ave Manzanita OR
CATEGORIES:Community,Family Fun
END:VEVENT
BEGIN:VEVENT
DTSTART;TZID=America/Los_Angeles:20281130T140000
DTEND;TZID=America/Los_Angeles:20281130T150000
DTSTAMP:20260419T185307
CREATED:20250929T192327Z
LAST-MODIFIED:20250929T192327Z
UID:10025937-1859205600-1859209200@tillamookchamber.org
SUMMARY:Mahjong at Manzanita Library
DESCRIPTION:Play mahjong in a fun informal group at the Manzanita library Thursdays at 2 pm!
URL:https://tillamookchamber.org/event/mahjong-at-manzanita-library/2028-11-30/
LOCATION:Manzanita Library\, 571 Laneda Ave Manzanita OR
CATEGORIES:Community,Family Fun
END:VEVENT
BEGIN:VEVENT
DTSTART;TZID=America/Los_Angeles:20281207T140000
DTEND;TZID=America/Los_Angeles:20281207T150000
DTSTAMP:20260419T185307
CREATED:20250929T192327Z
LAST-MODIFIED:20250929T192327Z
UID:10025938-1859810400-1859814000@tillamookchamber.org
SUMMARY:Mahjong at Manzanita Library
DESCRIPTION:Play mahjong in a fun informal group at the Manzanita library Thursdays at 2 pm!
URL:https://tillamookchamber.org/event/mahjong-at-manzanita-library/2028-12-07/
LOCATION:Manzanita Library\, 571 Laneda Ave Manzanita OR
CATEGORIES:Community,Family Fun
END:VEVENT
BEGIN:VEVENT
DTSTART;TZID=America/Los_Angeles:20281214T140000
DTEND;TZID=America/Los_Angeles:20281214T150000
DTSTAMP:20260419T185307
CREATED:20250929T192327Z
LAST-MODIFIED:20250929T192327Z
UID:10025939-1860415200-1860418800@tillamookchamber.org
SUMMARY:Mahjong at Manzanita Library
DESCRIPTION:Play mahjong in a fun informal group at the Manzanita library Thursdays at 2 pm!
URL:https://tillamookchamber.org/event/mahjong-at-manzanita-library/2028-12-14/
LOCATION:Manzanita Library\, 571 Laneda Ave Manzanita OR
CATEGORIES:Community,Family Fun
END:VEVENT
BEGIN:VEVENT
DTSTART;TZID=America/Los_Angeles:20281221T140000
DTEND;TZID=America/Los_Angeles:20281221T150000
DTSTAMP:20260419T185307
CREATED:20250929T192327Z
LAST-MODIFIED:20250929T192327Z
UID:10025940-1861020000-1861023600@tillamookchamber.org
SUMMARY:Mahjong at Manzanita Library
DESCRIPTION:Play mahjong in a fun informal group at the Manzanita library Thursdays at 2 pm!
URL:https://tillamookchamber.org/event/mahjong-at-manzanita-library/2028-12-21/
LOCATION:Manzanita Library\, 571 Laneda Ave Manzanita OR
CATEGORIES:Community,Family Fun
END:VEVENT
BEGIN:VEVENT
DTSTART;TZID=America/Los_Angeles:20281228T140000
DTEND;TZID=America/Los_Angeles:20281228T150000
DTSTAMP:20260419T185307
CREATED:20250929T192327Z
LAST-MODIFIED:20250929T192327Z
UID:10025941-1861624800-1861628400@tillamookchamber.org
SUMMARY:Mahjong at Manzanita Library
DESCRIPTION:Play mahjong in a fun informal group at the Manzanita library Thursdays at 2 pm!
URL:https://tillamookchamber.org/event/mahjong-at-manzanita-library/2028-12-28/
LOCATION:Manzanita Library\, 571 Laneda Ave Manzanita OR
CATEGORIES:Community,Family Fun
END:VEVENT
END:VCALENDAR