BEGIN:VCALENDAR
VERSION:2.0
PRODID:-//Tillamook Area Chamber of Commerce - ECPv6.15.20//NONSGML v1.0//EN
CALSCALE:GREGORIAN
METHOD:PUBLISH
X-WR-CALNAME:Tillamook Area Chamber of Commerce
X-ORIGINAL-URL:https://tillamookchamber.org
X-WR-CALDESC:Events for Tillamook Area Chamber of Commerce
REFRESH-INTERVAL;VALUE=DURATION:PT1H
X-Robots-Tag:noindex
X-PUBLISHED-TTL:PT1H
BEGIN:VTIMEZONE
TZID:America/Los_Angeles
BEGIN:DAYLIGHT
TZOFFSETFROM:-0800
TZOFFSETTO:-0700
TZNAME:PDT
DTSTART:20240310T100000
END:DAYLIGHT
BEGIN:STANDARD
TZOFFSETFROM:-0700
TZOFFSETTO:-0800
TZNAME:PST
DTSTART:20241103T090000
END:STANDARD
BEGIN:DAYLIGHT
TZOFFSETFROM:-0800
TZOFFSETTO:-0700
TZNAME:PDT
DTSTART:20250309T100000
END:DAYLIGHT
BEGIN:STANDARD
TZOFFSETFROM:-0700
TZOFFSETTO:-0800
TZNAME:PST
DTSTART:20251102T090000
END:STANDARD
BEGIN:DAYLIGHT
TZOFFSETFROM:-0800
TZOFFSETTO:-0700
TZNAME:PDT
DTSTART:20260308T100000
END:DAYLIGHT
BEGIN:STANDARD
TZOFFSETFROM:-0700
TZOFFSETTO:-0800
TZNAME:PST
DTSTART:20261101T090000
END:STANDARD
END:VTIMEZONE
BEGIN:VEVENT
DTSTART;TZID=America/Los_Angeles:20250627T160000
DTEND;TZID=America/Los_Angeles:20250627T190000
DTSTAMP:20260422T232852
CREATED:20250508T221948Z
LAST-MODIFIED:20250508T221948Z
UID:10021327-1751040000-1751050800@tillamookchamber.org
SUMMARY:Manzanita Farmers Market
DESCRIPTION:Join us for the Manzanita Farmers Market every Friday\, opening May 16th through September 19th – located in the “Farmers Market Field” behind the soon-to-be-opened Manzanita City Hall.  Over 60 vendors featuring local farmers and producers\, local artisans\, ready-to-eat food\, music and much more!
URL:https://tillamookchamber.org/event/manzanita-farmers-market-2/2025-06-27/
LOCATION:Manzanita City Hall site/Manzanita Farmers Market\, 635 Manzanita Ave.\,
CATEGORIES:Community,Shopping and Sales
ATTACH;FMTTYPE=image/jpeg:https://tillamookchamber.org/wp-content/uploads/2025/05/ManzanitaFMlogo-e1559778553640.jpg
END:VEVENT
BEGIN:VEVENT
DTSTART;TZID=America/Los_Angeles:20250620T160000
DTEND;TZID=America/Los_Angeles:20250620T190000
DTSTAMP:20260422T232852
CREATED:20250508T221948Z
LAST-MODIFIED:20250508T221948Z
UID:10021326-1750435200-1750446000@tillamookchamber.org
SUMMARY:Manzanita Farmers Market
DESCRIPTION:Join us for the Manzanita Farmers Market every Friday\, opening May 16th through September 19th – located in the “Farmers Market Field” behind the soon-to-be-opened Manzanita City Hall.  Over 60 vendors featuring local farmers and producers\, local artisans\, ready-to-eat food\, music and much more!
URL:https://tillamookchamber.org/event/manzanita-farmers-market-2/2025-06-20/
LOCATION:Manzanita City Hall site/Manzanita Farmers Market\, 635 Manzanita Ave.\,
CATEGORIES:Community,Shopping and Sales
ATTACH;FMTTYPE=image/jpeg:https://tillamookchamber.org/wp-content/uploads/2025/05/ManzanitaFMlogo-e1559778553640.jpg
END:VEVENT
BEGIN:VEVENT
DTSTART;TZID=America/Los_Angeles:20250613T160000
DTEND;TZID=America/Los_Angeles:20250613T190000
DTSTAMP:20260422T232852
CREATED:20250508T221948Z
LAST-MODIFIED:20250508T221948Z
UID:10021325-1749830400-1749841200@tillamookchamber.org
SUMMARY:Manzanita Farmers Market
DESCRIPTION:Join us for the Manzanita Farmers Market every Friday\, opening May 16th through September 19th – located in the “Farmers Market Field” behind the soon-to-be-opened Manzanita City Hall.  Over 60 vendors featuring local farmers and producers\, local artisans\, ready-to-eat food\, music and much more!
URL:https://tillamookchamber.org/event/manzanita-farmers-market-2/2025-06-13/
LOCATION:Manzanita City Hall site/Manzanita Farmers Market\, 635 Manzanita Ave.\,
CATEGORIES:Community,Shopping and Sales
ATTACH;FMTTYPE=image/jpeg:https://tillamookchamber.org/wp-content/uploads/2025/05/ManzanitaFMlogo-e1559778553640.jpg
END:VEVENT
BEGIN:VEVENT
DTSTART;TZID=America/Los_Angeles:20250606T160000
DTEND;TZID=America/Los_Angeles:20250606T190000
DTSTAMP:20260422T232852
CREATED:20250508T221948Z
LAST-MODIFIED:20250508T221948Z
UID:10021324-1749225600-1749236400@tillamookchamber.org
SUMMARY:Manzanita Farmers Market
DESCRIPTION:Join us for the Manzanita Farmers Market every Friday\, opening May 16th through September 19th – located in the “Farmers Market Field” behind the soon-to-be-opened Manzanita City Hall.  Over 60 vendors featuring local farmers and producers\, local artisans\, ready-to-eat food\, music and much more!
URL:https://tillamookchamber.org/event/manzanita-farmers-market-2/2025-06-06/
LOCATION:Manzanita City Hall site/Manzanita Farmers Market\, 635 Manzanita Ave.\,
CATEGORIES:Community,Shopping and Sales
ATTACH;FMTTYPE=image/jpeg:https://tillamookchamber.org/wp-content/uploads/2025/05/ManzanitaFMlogo-e1559778553640.jpg
END:VEVENT
BEGIN:VEVENT
DTSTART;TZID=America/Los_Angeles:20250530T160000
DTEND;TZID=America/Los_Angeles:20250530T190000
DTSTAMP:20260422T232852
CREATED:20250508T221948Z
LAST-MODIFIED:20250508T221948Z
UID:10021323-1748620800-1748631600@tillamookchamber.org
SUMMARY:Manzanita Farmers Market
DESCRIPTION:Join us for the Manzanita Farmers Market every Friday\, opening May 16th through September 19th – located in the “Farmers Market Field” behind the soon-to-be-opened Manzanita City Hall.  Over 60 vendors featuring local farmers and producers\, local artisans\, ready-to-eat food\, music and much more!
URL:https://tillamookchamber.org/event/manzanita-farmers-market-2/2025-05-30/
LOCATION:Manzanita City Hall site/Manzanita Farmers Market\, 635 Manzanita Ave.\,
CATEGORIES:Community,Shopping and Sales
ATTACH;FMTTYPE=image/jpeg:https://tillamookchamber.org/wp-content/uploads/2025/05/ManzanitaFMlogo-e1559778553640.jpg
END:VEVENT
BEGIN:VEVENT
DTSTART;TZID=America/Los_Angeles:20250523T160000
DTEND;TZID=America/Los_Angeles:20250523T190000
DTSTAMP:20260422T232852
CREATED:20250508T221948Z
LAST-MODIFIED:20250508T221948Z
UID:10021322-1748016000-1748026800@tillamookchamber.org
SUMMARY:Manzanita Farmers Market
DESCRIPTION:Join us for the Manzanita Farmers Market every Friday\, opening May 16th through September 19th – located in the “Farmers Market Field” behind the soon-to-be-opened Manzanita City Hall.  Over 60 vendors featuring local farmers and producers\, local artisans\, ready-to-eat food\, music and much more!
URL:https://tillamookchamber.org/event/manzanita-farmers-market-2/2025-05-23/
LOCATION:Manzanita City Hall site/Manzanita Farmers Market\, 635 Manzanita Ave.\,
CATEGORIES:Community,Shopping and Sales
ATTACH;FMTTYPE=image/jpeg:https://tillamookchamber.org/wp-content/uploads/2025/05/ManzanitaFMlogo-e1559778553640.jpg
END:VEVENT
BEGIN:VEVENT
DTSTART;TZID=America/Los_Angeles:20250516T160000
DTEND;TZID=America/Los_Angeles:20250516T190000
DTSTAMP:20260422T232852
CREATED:20250508T221948Z
LAST-MODIFIED:20250508T221948Z
UID:10021321-1747411200-1747422000@tillamookchamber.org
SUMMARY:Manzanita Farmers Market
DESCRIPTION:Join us for the Manzanita Farmers Market every Friday\, opening May 16th through September 19th – located in the “Farmers Market Field” behind the soon-to-be-opened Manzanita City Hall.  Over 60 vendors featuring local farmers and producers\, local artisans\, ready-to-eat food\, music and much more!
URL:https://tillamookchamber.org/event/manzanita-farmers-market-2/2025-05-16/
LOCATION:Manzanita City Hall site/Manzanita Farmers Market\, 635 Manzanita Ave.\,
CATEGORIES:Community,Shopping and Sales
ATTACH;FMTTYPE=image/jpeg:https://tillamookchamber.org/wp-content/uploads/2025/05/ManzanitaFMlogo-e1559778553640.jpg
END:VEVENT
END:VCALENDAR