BEGIN:VCALENDAR
VERSION:2.0
PRODID:-//Tillamook Area Chamber of Commerce - ECPv6.15.20//NONSGML v1.0//EN
CALSCALE:GREGORIAN
METHOD:PUBLISH
X-ORIGINAL-URL:https://tillamookchamber.org
X-WR-CALDESC:Events for Tillamook Area Chamber of Commerce
REFRESH-INTERVAL;VALUE=DURATION:PT1H
X-Robots-Tag:noindex
X-PUBLISHED-TTL:PT1H
BEGIN:VTIMEZONE
TZID:America/Los_Angeles
BEGIN:DAYLIGHT
TZOFFSETFROM:-0800
TZOFFSETTO:-0700
TZNAME:PDT
DTSTART:20250309T100000
END:DAYLIGHT
BEGIN:STANDARD
TZOFFSETFROM:-0700
TZOFFSETTO:-0800
TZNAME:PST
DTSTART:20251102T090000
END:STANDARD
BEGIN:DAYLIGHT
TZOFFSETFROM:-0800
TZOFFSETTO:-0700
TZNAME:PDT
DTSTART:20260308T100000
END:DAYLIGHT
BEGIN:STANDARD
TZOFFSETFROM:-0700
TZOFFSETTO:-0800
TZNAME:PST
DTSTART:20261101T090000
END:STANDARD
BEGIN:DAYLIGHT
TZOFFSETFROM:-0800
TZOFFSETTO:-0700
TZNAME:PDT
DTSTART:20270314T100000
END:DAYLIGHT
BEGIN:STANDARD
TZOFFSETFROM:-0700
TZOFFSETTO:-0800
TZNAME:PST
DTSTART:20271107T090000
END:STANDARD
END:VTIMEZONE
BEGIN:VEVENT
DTSTART;TZID=America/Los_Angeles:20260425T100000
DTEND;TZID=America/Los_Angeles:20260425T180000
DTSTAMP:20260422T195306
CREATED:20260312T223522Z
LAST-MODIFIED:20260312T223522Z
UID:10029616-1777111200-1777140000@tillamookchamber.org
SUMMARY:Hart's Camp Spring Festival
DESCRIPTION:Experience a weekend of live music curated by ZuhG Life Presents\, delicious eats from local food trucks\, refreshing craft beer and a vibrant marketplace featuring talented local artisans and makers. Whether you’re here for the tunes\, the brews or just the good vibes\, this is the perfect way to welcome the season on the Oregon Coast. Free and family-friendly.
URL:https://tillamookchamber.org/event/harts-camp-spring-festival-2/2026-04-25/
LOCATION:Hart’s Camp\, 33315-B Cape Kiwanda Drive\, Pacific City\, OR 97135
CATEGORIES:Community,Family Fun,Live Music
ATTACH;FMTTYPE=image/jpeg:https://tillamookchamber.org/wp-content/uploads/2026/03/4375044665_ORE_HartsCamp_SpringFestival_0226_1200x675_v1.jpg
END:VEVENT
BEGIN:VEVENT
DTSTART;TZID=America/Los_Angeles:20260426T100000
DTEND;TZID=America/Los_Angeles:20260426T180000
DTSTAMP:20260422T195306
CREATED:20260312T223522Z
LAST-MODIFIED:20260312T223522Z
UID:10029617-1777197600-1777226400@tillamookchamber.org
SUMMARY:Hart's Camp Spring Festival
DESCRIPTION:Experience a weekend of live music curated by ZuhG Life Presents\, delicious eats from local food trucks\, refreshing craft beer and a vibrant marketplace featuring talented local artisans and makers. Whether you’re here for the tunes\, the brews or just the good vibes\, this is the perfect way to welcome the season on the Oregon Coast. Free and family-friendly.
URL:https://tillamookchamber.org/event/harts-camp-spring-festival-2/2026-04-26/
LOCATION:Hart’s Camp\, 33315-B Cape Kiwanda Drive\, Pacific City\, OR 97135
CATEGORIES:Community,Family Fun,Live Music
ATTACH;FMTTYPE=image/jpeg:https://tillamookchamber.org/wp-content/uploads/2026/03/4375044665_ORE_HartsCamp_SpringFestival_0226_1200x675_v1.jpg
END:VEVENT
END:VCALENDAR