BEGIN:VCALENDAR
VERSION:2.0
PRODID:-//Tillamook Area Chamber of Commerce - ECPv6.15.20//NONSGML v1.0//EN
CALSCALE:GREGORIAN
METHOD:PUBLISH
X-ORIGINAL-URL:https://tillamookchamber.org
X-WR-CALDESC:Events for Tillamook Area Chamber of Commerce
REFRESH-INTERVAL;VALUE=DURATION:PT1H
X-Robots-Tag:noindex
X-PUBLISHED-TTL:PT1H
BEGIN:VTIMEZONE
TZID:America/Los_Angeles
BEGIN:DAYLIGHT
TZOFFSETFROM:-0800
TZOFFSETTO:-0700
TZNAME:PDT
DTSTART:20240310T100000
END:DAYLIGHT
BEGIN:STANDARD
TZOFFSETFROM:-0700
TZOFFSETTO:-0800
TZNAME:PST
DTSTART:20241103T090000
END:STANDARD
BEGIN:DAYLIGHT
TZOFFSETFROM:-0800
TZOFFSETTO:-0700
TZNAME:PDT
DTSTART:20250309T100000
END:DAYLIGHT
BEGIN:STANDARD
TZOFFSETFROM:-0700
TZOFFSETTO:-0800
TZNAME:PST
DTSTART:20251102T090000
END:STANDARD
BEGIN:DAYLIGHT
TZOFFSETFROM:-0800
TZOFFSETTO:-0700
TZNAME:PDT
DTSTART:20260308T100000
END:DAYLIGHT
BEGIN:STANDARD
TZOFFSETFROM:-0700
TZOFFSETTO:-0800
TZNAME:PST
DTSTART:20261101T090000
END:STANDARD
END:VTIMEZONE
BEGIN:VEVENT
DTSTART;TZID=America/Los_Angeles:20250912T110000
DTEND;TZID=America/Los_Angeles:20250912T120000
DTSTAMP:20260422T182757
CREATED:20250623T163658Z
LAST-MODIFIED:20250623T163658Z
UID:10022237-1757674800-1757678400@tillamookchamber.org
SUMMARY:Storytime at Garibaldi Library
DESCRIPTION:Kids of all ages are welcome to the Garibaldi Library for storytime\, Fridays at 11:00am.
URL:https://tillamookchamber.org/event/storytime-at-garibaldi-library/2025-09-12/
LOCATION:Garibaldi Library\, 107 6th St\, Garibaldi OR
CATEGORIES:Community,Family Fun
ATTACH;FMTTYPE=image/png:https://tillamookchamber.org/wp-content/uploads/2024/12/Garibaldi-Story-Time-flyer.png
END:VEVENT
BEGIN:VEVENT
DTSTART;TZID=America/Los_Angeles:20250905T110000
DTEND;TZID=America/Los_Angeles:20250905T120000
DTSTAMP:20260422T182757
CREATED:20250623T163658Z
LAST-MODIFIED:20250623T163658Z
UID:10022236-1757070000-1757073600@tillamookchamber.org
SUMMARY:Storytime at Garibaldi Library
DESCRIPTION:Kids of all ages are welcome to the Garibaldi Library for storytime\, Fridays at 11:00am.
URL:https://tillamookchamber.org/event/storytime-at-garibaldi-library/2025-09-05/
LOCATION:Garibaldi Library\, 107 6th St\, Garibaldi OR
CATEGORIES:Community,Family Fun
ATTACH;FMTTYPE=image/png:https://tillamookchamber.org/wp-content/uploads/2024/12/Garibaldi-Story-Time-flyer.png
END:VEVENT
BEGIN:VEVENT
DTSTART;TZID=America/Los_Angeles:20250829T110000
DTEND;TZID=America/Los_Angeles:20250829T120000
DTSTAMP:20260422T182757
CREATED:20250623T163658Z
LAST-MODIFIED:20250623T163658Z
UID:10022235-1756465200-1756468800@tillamookchamber.org
SUMMARY:Storytime at Garibaldi Library
DESCRIPTION:Kids of all ages are welcome to the Garibaldi Library for storytime\, Fridays at 11:00am.
URL:https://tillamookchamber.org/event/storytime-at-garibaldi-library/2025-08-29/
LOCATION:Garibaldi Library\, 107 6th St\, Garibaldi OR
CATEGORIES:Community,Family Fun
ATTACH;FMTTYPE=image/png:https://tillamookchamber.org/wp-content/uploads/2024/12/Garibaldi-Story-Time-flyer.png
END:VEVENT
BEGIN:VEVENT
DTSTART;TZID=America/Los_Angeles:20250822T110000
DTEND;TZID=America/Los_Angeles:20250822T120000
DTSTAMP:20260422T182757
CREATED:20250623T163658Z
LAST-MODIFIED:20250623T163658Z
UID:10022234-1755860400-1755864000@tillamookchamber.org
SUMMARY:Storytime at Garibaldi Library
DESCRIPTION:Kids of all ages are welcome to the Garibaldi Library for storytime\, Fridays at 11:00am.
URL:https://tillamookchamber.org/event/storytime-at-garibaldi-library/2025-08-22/
LOCATION:Garibaldi Library\, 107 6th St\, Garibaldi OR
CATEGORIES:Community,Family Fun
ATTACH;FMTTYPE=image/png:https://tillamookchamber.org/wp-content/uploads/2024/12/Garibaldi-Story-Time-flyer.png
END:VEVENT
BEGIN:VEVENT
DTSTART;TZID=America/Los_Angeles:20250820T161500
DTEND;TZID=America/Los_Angeles:20250820T171500
DTSTAMP:20260422T182757
CREATED:20250623T163236Z
LAST-MODIFIED:20250623T163236Z
UID:10022167-1755706500-1755710100@tillamookchamber.org
SUMMARY:Teen Craft & Chat at Garibaldi Library
DESCRIPTION:Drop in crafting and social time for teens!
URL:https://tillamookchamber.org/event/teen-craft-chat-at-garibaldi-library/2025-08-20/
LOCATION:Garibaldi Library\, 107 6th St\, Garibaldi OR
CATEGORIES:Community
ATTACH;FMTTYPE=image/png:https://tillamookchamber.org/wp-content/uploads/2025/03/Teen-Craft-Chat.png
END:VEVENT
BEGIN:VEVENT
DTSTART;TZID=America/Los_Angeles:20250819T140000
DTEND;TZID=America/Los_Angeles:20250819T150000
DTSTAMP:20260422T182757
CREATED:20250623T162410Z
LAST-MODIFIED:20250623T162410Z
UID:10022131-1755612000-1755615600@tillamookchamber.org
SUMMARY:Book Club at Garibaldi Library
DESCRIPTION:Join us at the Garibaldi Branch Library on the third Tuesday of each month for a book club meeting at 2 pm. Pick up the book anytime before the meeting at the Garibaldi library.
URL:https://tillamookchamber.org/event/book-club-at-garibaldi-library/2025-08-19/
LOCATION:Garibaldi Library\, 107 6th St\, Garibaldi OR
CATEGORIES:Classes and Workshops,Community
ATTACH;FMTTYPE=image/png:https://tillamookchamber.org/wp-content/uploads/2025/06/Garibaldi-Branch-Book-Club.png
END:VEVENT
BEGIN:VEVENT
DTSTART;TZID=America/Los_Angeles:20250815T110000
DTEND;TZID=America/Los_Angeles:20250815T120000
DTSTAMP:20260422T182757
CREATED:20250623T163658Z
LAST-MODIFIED:20250623T163658Z
UID:10022233-1755255600-1755259200@tillamookchamber.org
SUMMARY:Storytime at Garibaldi Library
DESCRIPTION:Kids of all ages are welcome to the Garibaldi Library for storytime\, Fridays at 11:00am.
URL:https://tillamookchamber.org/event/storytime-at-garibaldi-library/2025-08-15/
LOCATION:Garibaldi Library\, 107 6th St\, Garibaldi OR
CATEGORIES:Community,Family Fun
ATTACH;FMTTYPE=image/png:https://tillamookchamber.org/wp-content/uploads/2024/12/Garibaldi-Story-Time-flyer.png
END:VEVENT
BEGIN:VEVENT
DTSTART;TZID=America/Los_Angeles:20250808T110000
DTEND;TZID=America/Los_Angeles:20250808T120000
DTSTAMP:20260422T182757
CREATED:20250623T163658Z
LAST-MODIFIED:20250623T163658Z
UID:10022232-1754650800-1754654400@tillamookchamber.org
SUMMARY:Storytime at Garibaldi Library
DESCRIPTION:Kids of all ages are welcome to the Garibaldi Library for storytime\, Fridays at 11:00am.
URL:https://tillamookchamber.org/event/storytime-at-garibaldi-library/2025-08-08/
LOCATION:Garibaldi Library\, 107 6th St\, Garibaldi OR
CATEGORIES:Community,Family Fun
ATTACH;FMTTYPE=image/png:https://tillamookchamber.org/wp-content/uploads/2024/12/Garibaldi-Story-Time-flyer.png
END:VEVENT
BEGIN:VEVENT
DTSTART;TZID=America/Los_Angeles:20250801T110000
DTEND;TZID=America/Los_Angeles:20250801T120000
DTSTAMP:20260422T182757
CREATED:20250623T163658Z
LAST-MODIFIED:20250623T163658Z
UID:10022231-1754046000-1754049600@tillamookchamber.org
SUMMARY:Storytime at Garibaldi Library
DESCRIPTION:Kids of all ages are welcome to the Garibaldi Library for storytime\, Fridays at 11:00am.
URL:https://tillamookchamber.org/event/storytime-at-garibaldi-library/2025-08-01/
LOCATION:Garibaldi Library\, 107 6th St\, Garibaldi OR
CATEGORIES:Community,Family Fun
ATTACH;FMTTYPE=image/png:https://tillamookchamber.org/wp-content/uploads/2024/12/Garibaldi-Story-Time-flyer.png
END:VEVENT
BEGIN:VEVENT
DTSTART;TZID=America/Los_Angeles:20250725T110000
DTEND;TZID=America/Los_Angeles:20250725T120000
DTSTAMP:20260422T182757
CREATED:20250623T163658Z
LAST-MODIFIED:20250623T163658Z
UID:10022230-1753441200-1753444800@tillamookchamber.org
SUMMARY:Storytime at Garibaldi Library
DESCRIPTION:Kids of all ages are welcome to the Garibaldi Library for storytime\, Fridays at 11:00am.
URL:https://tillamookchamber.org/event/storytime-at-garibaldi-library/2025-07-25/
LOCATION:Garibaldi Library\, 107 6th St\, Garibaldi OR
CATEGORIES:Community,Family Fun
ATTACH;FMTTYPE=image/png:https://tillamookchamber.org/wp-content/uploads/2024/12/Garibaldi-Story-Time-flyer.png
END:VEVENT
BEGIN:VEVENT
DTSTART;TZID=America/Los_Angeles:20250723T140000
DTEND;TZID=America/Los_Angeles:20250723T150000
DTSTAMP:20260422T182757
CREATED:20250703T181720Z
LAST-MODIFIED:20250703T181720Z
UID:10023217-1753279200-1753282800@tillamookchamber.org
SUMMARY:Goat It Goat Visit at Garibaldi Library
DESCRIPTION:Meet adorable and friendly Nigerian dwarf goats at Garibaldi Library
URL:https://tillamookchamber.org/event/goat-it-goat-visit-at-garibaldi-library-2/
LOCATION:Garibaldi Library\, 107 6th St\, Garibaldi OR
CATEGORIES:Community,Family Fun
ATTACH;FMTTYPE=image/png:https://tillamookchamber.org/wp-content/uploads/2025/07/Goat-It-Goat-Visit-072325-TG.png
END:VEVENT
BEGIN:VEVENT
DTSTART;TZID=America/Los_Angeles:20250723T140000
DTEND;TZID=America/Los_Angeles:20250723T150000
DTSTAMP:20260422T182757
CREATED:20250623T165449Z
LAST-MODIFIED:20250623T165449Z
UID:10022285-1753279200-1753282800@tillamookchamber.org
SUMMARY:Goat It Goat Visit at Garibaldi Library
DESCRIPTION:Meet friendly Nigerian dwarf goats at the library!
URL:https://tillamookchamber.org/event/goat-it-goat-visit-at-garibaldi-library/
LOCATION:Garibaldi Library\, 107 6th St\, Garibaldi OR
CATEGORIES:Community,Education,Family Fun
ATTACH;FMTTYPE=image/png:https://tillamookchamber.org/wp-content/uploads/2025/06/Goat-It-Goat-Visit-072325-TG.png
END:VEVENT
BEGIN:VEVENT
DTSTART;TZID=America/Los_Angeles:20250718T113000
DTEND;TZID=America/Los_Angeles:20250718T123000
DTSTAMP:20260422T182757
CREATED:20250626T232929Z
LAST-MODIFIED:20250626T232929Z
UID:10022670-1752838200-1752841800@tillamookchamber.org
SUMMARY:Anime Your Way at Garibaldi Library
DESCRIPTION:Teens can learn to draw anime at Garibaldi Library!
URL:https://tillamookchamber.org/event/anime-your-way-at-garibaldi-library/
LOCATION:Garibaldi Library\, 107 6th St\, Garibaldi OR
CATEGORIES:Arts and Culture,Community
ATTACH;FMTTYPE=image/png:https://tillamookchamber.org/wp-content/uploads/2025/06/Anime-Your-Way-071825-TG-1.png
END:VEVENT
BEGIN:VEVENT
DTSTART;TZID=America/Los_Angeles:20250718T113000
DTEND;TZID=America/Los_Angeles:20250718T123000
DTSTAMP:20260422T182757
CREATED:20250623T164034Z
LAST-MODIFIED:20250623T164135Z
UID:10022278-1752838200-1752841800@tillamookchamber.org
SUMMARY:Anime Your Way Workshop at Garibaldi Library
DESCRIPTION:
URL:https://tillamookchamber.org/event/anime-your-way-workshop-at-garibaldi-library/
LOCATION:Garibaldi Library\, 107 6th St\, Garibaldi OR
CATEGORIES:Classes and Workshops,Family Fun
ATTACH;FMTTYPE=image/png:https://tillamookchamber.org/wp-content/uploads/2025/06/Anime-Your-Way-071825-TG.png
END:VEVENT
BEGIN:VEVENT
DTSTART;TZID=America/Los_Angeles:20250718T110000
DTEND;TZID=America/Los_Angeles:20250718T120000
DTSTAMP:20260422T182757
CREATED:20250623T163658Z
LAST-MODIFIED:20250623T163658Z
UID:10022229-1752836400-1752840000@tillamookchamber.org
SUMMARY:Storytime at Garibaldi Library
DESCRIPTION:Kids of all ages are welcome to the Garibaldi Library for storytime\, Fridays at 11:00am.
URL:https://tillamookchamber.org/event/storytime-at-garibaldi-library/2025-07-18/
LOCATION:Garibaldi Library\, 107 6th St\, Garibaldi OR
CATEGORIES:Community,Family Fun
ATTACH;FMTTYPE=image/png:https://tillamookchamber.org/wp-content/uploads/2024/12/Garibaldi-Story-Time-flyer.png
END:VEVENT
BEGIN:VEVENT
DTSTART;TZID=America/Los_Angeles:20250716T161500
DTEND;TZID=America/Los_Angeles:20250716T171500
DTSTAMP:20260422T182757
CREATED:20250623T163236Z
LAST-MODIFIED:20250623T163236Z
UID:10022166-1752682500-1752686100@tillamookchamber.org
SUMMARY:Teen Craft & Chat at Garibaldi Library
DESCRIPTION:Drop in crafting and social time for teens!
URL:https://tillamookchamber.org/event/teen-craft-chat-at-garibaldi-library/2025-07-16/
LOCATION:Garibaldi Library\, 107 6th St\, Garibaldi OR
CATEGORIES:Community
ATTACH;FMTTYPE=image/png:https://tillamookchamber.org/wp-content/uploads/2025/03/Teen-Craft-Chat.png
END:VEVENT
BEGIN:VEVENT
DTSTART;TZID=America/Los_Angeles:20250715T140000
DTEND;TZID=America/Los_Angeles:20250715T150000
DTSTAMP:20260422T182757
CREATED:20250623T162410Z
LAST-MODIFIED:20250623T162410Z
UID:10022130-1752588000-1752591600@tillamookchamber.org
SUMMARY:Book Club at Garibaldi Library
DESCRIPTION:Join us at the Garibaldi Branch Library on the third Tuesday of each month for a book club meeting at 2 pm. Pick up the book anytime before the meeting at the Garibaldi library.
URL:https://tillamookchamber.org/event/book-club-at-garibaldi-library/2025-07-15/
LOCATION:Garibaldi Library\, 107 6th St\, Garibaldi OR
CATEGORIES:Classes and Workshops,Community
ATTACH;FMTTYPE=image/png:https://tillamookchamber.org/wp-content/uploads/2025/06/Garibaldi-Branch-Book-Club.png
END:VEVENT
BEGIN:VEVENT
DTSTART;TZID=America/Los_Angeles:20250715T110000
DTEND;TZID=America/Los_Angeles:20250715T120000
DTSTAMP:20260422T182757
CREATED:20250626T234705Z
LAST-MODIFIED:20250626T234705Z
UID:10022682-1752577200-1752580800@tillamookchamber.org
SUMMARY:Sea Monsters with Columbia River Maritime Museum at Garibaldi Library
DESCRIPTION:Join CRMM’s Education Crew to learn about local legends and myths\, hear a fun read-aloud\, and create your own sea monster at Garibaldi on July 15th at 11 am!
URL:https://tillamookchamber.org/event/sea-monsters-with-columbia-river-maritime-museum-at-garibaldi-library/
LOCATION:Garibaldi Library\, 107 6th St\, Garibaldi OR
CATEGORIES:Community,Education
ATTACH;FMTTYPE=image/png:https://tillamookchamber.org/wp-content/uploads/2025/06/CRMM-Sea-Monsters-071525-TG-1.png
END:VEVENT
BEGIN:VEVENT
DTSTART;TZID=America/Los_Angeles:20250715T110000
DTEND;TZID=America/Los_Angeles:20250715T120000
DTSTAMP:20260422T182757
CREATED:20250623T164529Z
LAST-MODIFIED:20250623T164529Z
UID:10022279-1752577200-1752580800@tillamookchamber.org
SUMMARY:Sea Monsters! at Garibaldi Library
DESCRIPTION:Columbia River Maritime Museum presents Sea Monsters!\n\nJoin Columbia River Museum’s Education Crew to learn about local legends and myths\, enjoy a read-aloud of Rainbow Fish’s encounter with scary creatures\, and create your very own sea monster!
URL:https://tillamookchamber.org/event/sea-monsters-at-garibaldi-library/
LOCATION:Garibaldi Library\, 107 6th St\, Garibaldi OR
CATEGORIES:Community,Family Fun
ATTACH;FMTTYPE=image/png:https://tillamookchamber.org/wp-content/uploads/2025/06/CRMM-Sea-Monsters-071525-TG.png
END:VEVENT
BEGIN:VEVENT
DTSTART;TZID=America/Los_Angeles:20250711T110000
DTEND;TZID=America/Los_Angeles:20250711T120000
DTSTAMP:20260422T182757
CREATED:20250623T163658Z
LAST-MODIFIED:20250623T163658Z
UID:10022228-1752231600-1752235200@tillamookchamber.org
SUMMARY:Storytime at Garibaldi Library
DESCRIPTION:Kids of all ages are welcome to the Garibaldi Library for storytime\, Fridays at 11:00am.
URL:https://tillamookchamber.org/event/storytime-at-garibaldi-library/2025-07-11/
LOCATION:Garibaldi Library\, 107 6th St\, Garibaldi OR
CATEGORIES:Community,Family Fun
ATTACH;FMTTYPE=image/png:https://tillamookchamber.org/wp-content/uploads/2024/12/Garibaldi-Story-Time-flyer.png
END:VEVENT
BEGIN:VEVENT
DTSTART;TZID=America/Los_Angeles:20250704T110000
DTEND;TZID=America/Los_Angeles:20250704T120000
DTSTAMP:20260422T182757
CREATED:20250623T163658Z
LAST-MODIFIED:20250623T163658Z
UID:10022227-1751626800-1751630400@tillamookchamber.org
SUMMARY:Storytime at Garibaldi Library
DESCRIPTION:Kids of all ages are welcome to the Garibaldi Library for storytime\, Fridays at 11:00am.
URL:https://tillamookchamber.org/event/storytime-at-garibaldi-library/2025-07-04/
LOCATION:Garibaldi Library\, 107 6th St\, Garibaldi OR
CATEGORIES:Community,Family Fun
ATTACH;FMTTYPE=image/png:https://tillamookchamber.org/wp-content/uploads/2024/12/Garibaldi-Story-Time-flyer.png
END:VEVENT
BEGIN:VEVENT
DTSTART;TZID=America/Los_Angeles:20250627T110000
DTEND;TZID=America/Los_Angeles:20250627T120000
DTSTAMP:20260422T182757
CREATED:20250623T163658Z
LAST-MODIFIED:20250623T163658Z
UID:10022226-1751022000-1751025600@tillamookchamber.org
SUMMARY:Storytime at Garibaldi Library
DESCRIPTION:Kids of all ages are welcome to the Garibaldi Library for storytime\, Fridays at 11:00am.
URL:https://tillamookchamber.org/event/storytime-at-garibaldi-library/2025-06-27/
LOCATION:Garibaldi Library\, 107 6th St\, Garibaldi OR
CATEGORIES:Community,Family Fun
ATTACH;FMTTYPE=image/png:https://tillamookchamber.org/wp-content/uploads/2024/12/Garibaldi-Story-Time-flyer.png
END:VEVENT
BEGIN:VEVENT
DTSTART;TZID=America/Los_Angeles:20250618T140000
DTEND;TZID=America/Los_Angeles:20250618T150000
DTSTAMP:20260422T182757
CREATED:20250604T175019Z
LAST-MODIFIED:20250604T175019Z
UID:10022076-1750255200-1750258800@tillamookchamber.org
SUMMARY:Hearts and Hands Drumming Playshop at Garibaldi Library
DESCRIPTION:Fun for kids and families! Brief introduction to interactive drumming followed by group drumming. Come make a happy noise!
URL:https://tillamookchamber.org/event/hearts-and-hands-drumming-playshop-at-garibaldi-library/
LOCATION:Garibaldi Library\, 107 6th St\, Garibaldi OR
CATEGORIES:Community,Family Fun
END:VEVENT
END:VCALENDAR