BEGIN:VCALENDAR
VERSION:2.0
PRODID:-//Tillamook Area Chamber of Commerce - ECPv6.15.20//NONSGML v1.0//EN
CALSCALE:GREGORIAN
METHOD:PUBLISH
X-WR-CALNAME:Tillamook Area Chamber of Commerce
X-ORIGINAL-URL:https://tillamookchamber.org
X-WR-CALDESC:Events for Tillamook Area Chamber of Commerce
REFRESH-INTERVAL;VALUE=DURATION:PT1H
X-Robots-Tag:noindex
X-PUBLISHED-TTL:PT1H
BEGIN:VTIMEZONE
TZID:America/Los_Angeles
BEGIN:DAYLIGHT
TZOFFSETFROM:-0800
TZOFFSETTO:-0700
TZNAME:PDT
DTSTART:20270314T100000
END:DAYLIGHT
BEGIN:STANDARD
TZOFFSETFROM:-0700
TZOFFSETTO:-0800
TZNAME:PST
DTSTART:20271107T090000
END:STANDARD
BEGIN:DAYLIGHT
TZOFFSETFROM:-0800
TZOFFSETTO:-0700
TZNAME:PDT
DTSTART:20280312T100000
END:DAYLIGHT
BEGIN:STANDARD
TZOFFSETFROM:-0700
TZOFFSETTO:-0800
TZNAME:PST
DTSTART:20281105T090000
END:STANDARD
BEGIN:DAYLIGHT
TZOFFSETFROM:-0800
TZOFFSETTO:-0700
TZNAME:PDT
DTSTART:20290311T100000
END:DAYLIGHT
BEGIN:STANDARD
TZOFFSETFROM:-0700
TZOFFSETTO:-0800
TZNAME:PST
DTSTART:20291104T090000
END:STANDARD
BEGIN:DAYLIGHT
TZOFFSETFROM:-0800
TZOFFSETTO:-0700
TZNAME:PDT
DTSTART:20300310T100000
END:DAYLIGHT
BEGIN:STANDARD
TZOFFSETFROM:-0700
TZOFFSETTO:-0800
TZNAME:PST
DTSTART:20301103T090000
END:STANDARD
BEGIN:DAYLIGHT
TZOFFSETFROM:-0800
TZOFFSETTO:-0700
TZNAME:PDT
DTSTART:20310309T100000
END:DAYLIGHT
BEGIN:STANDARD
TZOFFSETFROM:-0700
TZOFFSETTO:-0800
TZNAME:PST
DTSTART:20311102T090000
END:STANDARD
END:VTIMEZONE
BEGIN:VEVENT
DTSTART;TZID=America/Los_Angeles:20280517T161500
DTEND;TZID=America/Los_Angeles:20280517T171500
DTSTAMP:20260420T192920
CREATED:20250623T163236Z
LAST-MODIFIED:20250623T163236Z
UID:10022200-1842192900-1842196500@tillamookchamber.org
SUMMARY:Teen Craft & Chat at Garibaldi Library
DESCRIPTION:Drop in crafting and social time for teens!
URL:https://tillamookchamber.org/event/teen-craft-chat-at-garibaldi-library/2028-05-17/
LOCATION:Garibaldi Library\, 107 6th St\, Garibaldi OR
CATEGORIES:Community
ATTACH;FMTTYPE=image/png:https://tillamookchamber.org/wp-content/uploads/2025/03/Teen-Craft-Chat.png
END:VEVENT
BEGIN:VEVENT
DTSTART;TZID=America/Los_Angeles:20280621T161500
DTEND;TZID=America/Los_Angeles:20280621T171500
DTSTAMP:20260420T192920
CREATED:20250623T163236Z
LAST-MODIFIED:20250623T163236Z
UID:10022201-1845216900-1845220500@tillamookchamber.org
SUMMARY:Teen Craft & Chat at Garibaldi Library
DESCRIPTION:Drop in crafting and social time for teens!
URL:https://tillamookchamber.org/event/teen-craft-chat-at-garibaldi-library/2028-06-21/
LOCATION:Garibaldi Library\, 107 6th St\, Garibaldi OR
CATEGORIES:Community
ATTACH;FMTTYPE=image/png:https://tillamookchamber.org/wp-content/uploads/2025/03/Teen-Craft-Chat.png
END:VEVENT
BEGIN:VEVENT
DTSTART;TZID=America/Los_Angeles:20280719T161500
DTEND;TZID=America/Los_Angeles:20280719T171500
DTSTAMP:20260420T192920
CREATED:20250623T163236Z
LAST-MODIFIED:20250623T163236Z
UID:10022202-1847636100-1847639700@tillamookchamber.org
SUMMARY:Teen Craft & Chat at Garibaldi Library
DESCRIPTION:Drop in crafting and social time for teens!
URL:https://tillamookchamber.org/event/teen-craft-chat-at-garibaldi-library/2028-07-19/
LOCATION:Garibaldi Library\, 107 6th St\, Garibaldi OR
CATEGORIES:Community
ATTACH;FMTTYPE=image/png:https://tillamookchamber.org/wp-content/uploads/2025/03/Teen-Craft-Chat.png
END:VEVENT
BEGIN:VEVENT
DTSTART;TZID=America/Los_Angeles:20280816T161500
DTEND;TZID=America/Los_Angeles:20280816T171500
DTSTAMP:20260420T192920
CREATED:20250623T163236Z
LAST-MODIFIED:20250623T163236Z
UID:10022203-1850055300-1850058900@tillamookchamber.org
SUMMARY:Teen Craft & Chat at Garibaldi Library
DESCRIPTION:Drop in crafting and social time for teens!
URL:https://tillamookchamber.org/event/teen-craft-chat-at-garibaldi-library/2028-08-16/
LOCATION:Garibaldi Library\, 107 6th St\, Garibaldi OR
CATEGORIES:Community
ATTACH;FMTTYPE=image/png:https://tillamookchamber.org/wp-content/uploads/2025/03/Teen-Craft-Chat.png
END:VEVENT
BEGIN:VEVENT
DTSTART;TZID=America/Los_Angeles:20280920T161500
DTEND;TZID=America/Los_Angeles:20280920T171500
DTSTAMP:20260420T192920
CREATED:20250623T163236Z
LAST-MODIFIED:20250623T163236Z
UID:10022204-1853079300-1853082900@tillamookchamber.org
SUMMARY:Teen Craft & Chat at Garibaldi Library
DESCRIPTION:Drop in crafting and social time for teens!
URL:https://tillamookchamber.org/event/teen-craft-chat-at-garibaldi-library/2028-09-20/
LOCATION:Garibaldi Library\, 107 6th St\, Garibaldi OR
CATEGORIES:Community
ATTACH;FMTTYPE=image/png:https://tillamookchamber.org/wp-content/uploads/2025/03/Teen-Craft-Chat.png
END:VEVENT
BEGIN:VEVENT
DTSTART;TZID=America/Los_Angeles:20281018T161500
DTEND;TZID=America/Los_Angeles:20281018T171500
DTSTAMP:20260420T192920
CREATED:20250623T163236Z
LAST-MODIFIED:20250623T163236Z
UID:10022205-1855498500-1855502100@tillamookchamber.org
SUMMARY:Teen Craft & Chat at Garibaldi Library
DESCRIPTION:Drop in crafting and social time for teens!
URL:https://tillamookchamber.org/event/teen-craft-chat-at-garibaldi-library/2028-10-18/
LOCATION:Garibaldi Library\, 107 6th St\, Garibaldi OR
CATEGORIES:Community
ATTACH;FMTTYPE=image/png:https://tillamookchamber.org/wp-content/uploads/2025/03/Teen-Craft-Chat.png
END:VEVENT
BEGIN:VEVENT
DTSTART;TZID=America/Los_Angeles:20281115T161500
DTEND;TZID=America/Los_Angeles:20281115T171500
DTSTAMP:20260420T192920
CREATED:20250623T163236Z
LAST-MODIFIED:20250623T163236Z
UID:10022206-1857917700-1857921300@tillamookchamber.org
SUMMARY:Teen Craft & Chat at Garibaldi Library
DESCRIPTION:Drop in crafting and social time for teens!
URL:https://tillamookchamber.org/event/teen-craft-chat-at-garibaldi-library/2028-11-15/
LOCATION:Garibaldi Library\, 107 6th St\, Garibaldi OR
CATEGORIES:Community
ATTACH;FMTTYPE=image/png:https://tillamookchamber.org/wp-content/uploads/2025/03/Teen-Craft-Chat.png
END:VEVENT
BEGIN:VEVENT
DTSTART;TZID=America/Los_Angeles:20281220T161500
DTEND;TZID=America/Los_Angeles:20281220T171500
DTSTAMP:20260420T192920
CREATED:20250623T163236Z
LAST-MODIFIED:20250623T163236Z
UID:10022207-1860941700-1860945300@tillamookchamber.org
SUMMARY:Teen Craft & Chat at Garibaldi Library
DESCRIPTION:Drop in crafting and social time for teens!
URL:https://tillamookchamber.org/event/teen-craft-chat-at-garibaldi-library/2028-12-20/
LOCATION:Garibaldi Library\, 107 6th St\, Garibaldi OR
CATEGORIES:Community
ATTACH;FMTTYPE=image/png:https://tillamookchamber.org/wp-content/uploads/2025/03/Teen-Craft-Chat.png
END:VEVENT
BEGIN:VEVENT
DTSTART;TZID=America/Los_Angeles:20290117T161500
DTEND;TZID=America/Los_Angeles:20290117T171500
DTSTAMP:20260420T192920
CREATED:20250623T163236Z
LAST-MODIFIED:20250623T163236Z
UID:10022208-1863360900-1863364500@tillamookchamber.org
SUMMARY:Teen Craft & Chat at Garibaldi Library
DESCRIPTION:Drop in crafting and social time for teens!
URL:https://tillamookchamber.org/event/teen-craft-chat-at-garibaldi-library/2029-01-17/
LOCATION:Garibaldi Library\, 107 6th St\, Garibaldi OR
CATEGORIES:Community
ATTACH;FMTTYPE=image/png:https://tillamookchamber.org/wp-content/uploads/2025/03/Teen-Craft-Chat.png
END:VEVENT
BEGIN:VEVENT
DTSTART;TZID=America/Los_Angeles:20290221T161500
DTEND;TZID=America/Los_Angeles:20290221T171500
DTSTAMP:20260420T192920
CREATED:20250623T163236Z
LAST-MODIFIED:20250623T163236Z
UID:10022209-1866384900-1866388500@tillamookchamber.org
SUMMARY:Teen Craft & Chat at Garibaldi Library
DESCRIPTION:Drop in crafting and social time for teens!
URL:https://tillamookchamber.org/event/teen-craft-chat-at-garibaldi-library/2029-02-21/
LOCATION:Garibaldi Library\, 107 6th St\, Garibaldi OR
CATEGORIES:Community
ATTACH;FMTTYPE=image/png:https://tillamookchamber.org/wp-content/uploads/2025/03/Teen-Craft-Chat.png
END:VEVENT
BEGIN:VEVENT
DTSTART;TZID=America/Los_Angeles:20290321T161500
DTEND;TZID=America/Los_Angeles:20290321T171500
DTSTAMP:20260420T192920
CREATED:20250623T163236Z
LAST-MODIFIED:20250623T163236Z
UID:10022210-1868804100-1868807700@tillamookchamber.org
SUMMARY:Teen Craft & Chat at Garibaldi Library
DESCRIPTION:Drop in crafting and social time for teens!
URL:https://tillamookchamber.org/event/teen-craft-chat-at-garibaldi-library/2029-03-21/
LOCATION:Garibaldi Library\, 107 6th St\, Garibaldi OR
CATEGORIES:Community
ATTACH;FMTTYPE=image/png:https://tillamookchamber.org/wp-content/uploads/2025/03/Teen-Craft-Chat.png
END:VEVENT
BEGIN:VEVENT
DTSTART;TZID=America/Los_Angeles:20290418T161500
DTEND;TZID=America/Los_Angeles:20290418T171500
DTSTAMP:20260420T192920
CREATED:20250623T163236Z
LAST-MODIFIED:20250623T163236Z
UID:10022211-1871223300-1871226900@tillamookchamber.org
SUMMARY:Teen Craft & Chat at Garibaldi Library
DESCRIPTION:Drop in crafting and social time for teens!
URL:https://tillamookchamber.org/event/teen-craft-chat-at-garibaldi-library/2029-04-18/
LOCATION:Garibaldi Library\, 107 6th St\, Garibaldi OR
CATEGORIES:Community
ATTACH;FMTTYPE=image/png:https://tillamookchamber.org/wp-content/uploads/2025/03/Teen-Craft-Chat.png
END:VEVENT
BEGIN:VEVENT
DTSTART;TZID=America/Los_Angeles:20290516T161500
DTEND;TZID=America/Los_Angeles:20290516T171500
DTSTAMP:20260420T192920
CREATED:20250623T163236Z
LAST-MODIFIED:20250623T163236Z
UID:10022212-1873642500-1873646100@tillamookchamber.org
SUMMARY:Teen Craft & Chat at Garibaldi Library
DESCRIPTION:Drop in crafting and social time for teens!
URL:https://tillamookchamber.org/event/teen-craft-chat-at-garibaldi-library/2029-05-16/
LOCATION:Garibaldi Library\, 107 6th St\, Garibaldi OR
CATEGORIES:Community
ATTACH;FMTTYPE=image/png:https://tillamookchamber.org/wp-content/uploads/2025/03/Teen-Craft-Chat.png
END:VEVENT
BEGIN:VEVENT
DTSTART;TZID=America/Los_Angeles:20290620T161500
DTEND;TZID=America/Los_Angeles:20290620T171500
DTSTAMP:20260420T192920
CREATED:20250623T163236Z
LAST-MODIFIED:20250623T163236Z
UID:10022213-1876666500-1876670100@tillamookchamber.org
SUMMARY:Teen Craft & Chat at Garibaldi Library
DESCRIPTION:Drop in crafting and social time for teens!
URL:https://tillamookchamber.org/event/teen-craft-chat-at-garibaldi-library/2029-06-20/
LOCATION:Garibaldi Library\, 107 6th St\, Garibaldi OR
CATEGORIES:Community
ATTACH;FMTTYPE=image/png:https://tillamookchamber.org/wp-content/uploads/2025/03/Teen-Craft-Chat.png
END:VEVENT
BEGIN:VEVENT
DTSTART;TZID=America/Los_Angeles:20290718T161500
DTEND;TZID=America/Los_Angeles:20290718T171500
DTSTAMP:20260420T192920
CREATED:20250623T163236Z
LAST-MODIFIED:20250623T163236Z
UID:10022214-1879085700-1879089300@tillamookchamber.org
SUMMARY:Teen Craft & Chat at Garibaldi Library
DESCRIPTION:Drop in crafting and social time for teens!
URL:https://tillamookchamber.org/event/teen-craft-chat-at-garibaldi-library/2029-07-18/
LOCATION:Garibaldi Library\, 107 6th St\, Garibaldi OR
CATEGORIES:Community
ATTACH;FMTTYPE=image/png:https://tillamookchamber.org/wp-content/uploads/2025/03/Teen-Craft-Chat.png
END:VEVENT
BEGIN:VEVENT
DTSTART;TZID=America/Los_Angeles:20290815T161500
DTEND;TZID=America/Los_Angeles:20290815T171500
DTSTAMP:20260420T192920
CREATED:20250623T163236Z
LAST-MODIFIED:20250623T163236Z
UID:10022215-1881504900-1881508500@tillamookchamber.org
SUMMARY:Teen Craft & Chat at Garibaldi Library
DESCRIPTION:Drop in crafting and social time for teens!
URL:https://tillamookchamber.org/event/teen-craft-chat-at-garibaldi-library/2029-08-15/
LOCATION:Garibaldi Library\, 107 6th St\, Garibaldi OR
CATEGORIES:Community
ATTACH;FMTTYPE=image/png:https://tillamookchamber.org/wp-content/uploads/2025/03/Teen-Craft-Chat.png
END:VEVENT
BEGIN:VEVENT
DTSTART;TZID=America/Los_Angeles:20290919T161500
DTEND;TZID=America/Los_Angeles:20290919T171500
DTSTAMP:20260420T192920
CREATED:20250623T163236Z
LAST-MODIFIED:20250623T163236Z
UID:10022216-1884528900-1884532500@tillamookchamber.org
SUMMARY:Teen Craft & Chat at Garibaldi Library
DESCRIPTION:Drop in crafting and social time for teens!
URL:https://tillamookchamber.org/event/teen-craft-chat-at-garibaldi-library/2029-09-19/
LOCATION:Garibaldi Library\, 107 6th St\, Garibaldi OR
CATEGORIES:Community
ATTACH;FMTTYPE=image/png:https://tillamookchamber.org/wp-content/uploads/2025/03/Teen-Craft-Chat.png
END:VEVENT
BEGIN:VEVENT
DTSTART;TZID=America/Los_Angeles:20291017T161500
DTEND;TZID=America/Los_Angeles:20291017T171500
DTSTAMP:20260420T192920
CREATED:20250623T163236Z
LAST-MODIFIED:20250623T163236Z
UID:10022217-1886948100-1886951700@tillamookchamber.org
SUMMARY:Teen Craft & Chat at Garibaldi Library
DESCRIPTION:Drop in crafting and social time for teens!
URL:https://tillamookchamber.org/event/teen-craft-chat-at-garibaldi-library/2029-10-17/
LOCATION:Garibaldi Library\, 107 6th St\, Garibaldi OR
CATEGORIES:Community
ATTACH;FMTTYPE=image/png:https://tillamookchamber.org/wp-content/uploads/2025/03/Teen-Craft-Chat.png
END:VEVENT
BEGIN:VEVENT
DTSTART;TZID=America/Los_Angeles:20291121T161500
DTEND;TZID=America/Los_Angeles:20291121T171500
DTSTAMP:20260420T192920
CREATED:20250623T163236Z
LAST-MODIFIED:20250623T163236Z
UID:10022218-1889972100-1889975700@tillamookchamber.org
SUMMARY:Teen Craft & Chat at Garibaldi Library
DESCRIPTION:Drop in crafting and social time for teens!
URL:https://tillamookchamber.org/event/teen-craft-chat-at-garibaldi-library/2029-11-21/
LOCATION:Garibaldi Library\, 107 6th St\, Garibaldi OR
CATEGORIES:Community
ATTACH;FMTTYPE=image/png:https://tillamookchamber.org/wp-content/uploads/2025/03/Teen-Craft-Chat.png
END:VEVENT
BEGIN:VEVENT
DTSTART;TZID=America/Los_Angeles:20291219T161500
DTEND;TZID=America/Los_Angeles:20291219T171500
DTSTAMP:20260420T192920
CREATED:20250623T163236Z
LAST-MODIFIED:20250623T163236Z
UID:10022219-1892391300-1892394900@tillamookchamber.org
SUMMARY:Teen Craft & Chat at Garibaldi Library
DESCRIPTION:Drop in crafting and social time for teens!
URL:https://tillamookchamber.org/event/teen-craft-chat-at-garibaldi-library/2029-12-19/
LOCATION:Garibaldi Library\, 107 6th St\, Garibaldi OR
CATEGORIES:Community
ATTACH;FMTTYPE=image/png:https://tillamookchamber.org/wp-content/uploads/2025/03/Teen-Craft-Chat.png
END:VEVENT
BEGIN:VEVENT
DTSTART;TZID=America/Los_Angeles:20300116T161500
DTEND;TZID=America/Los_Angeles:20300116T171500
DTSTAMP:20260420T192920
CREATED:20250623T163236Z
LAST-MODIFIED:20250623T163236Z
UID:10022220-1894810500-1894814100@tillamookchamber.org
SUMMARY:Teen Craft & Chat at Garibaldi Library
DESCRIPTION:Drop in crafting and social time for teens!
URL:https://tillamookchamber.org/event/teen-craft-chat-at-garibaldi-library/2030-01-16/
LOCATION:Garibaldi Library\, 107 6th St\, Garibaldi OR
CATEGORIES:Community
ATTACH;FMTTYPE=image/png:https://tillamookchamber.org/wp-content/uploads/2025/03/Teen-Craft-Chat.png
END:VEVENT
BEGIN:VEVENT
DTSTART;TZID=America/Los_Angeles:20300220T161500
DTEND;TZID=America/Los_Angeles:20300220T171500
DTSTAMP:20260420T192920
CREATED:20250623T163236Z
LAST-MODIFIED:20250623T163236Z
UID:10022221-1897834500-1897838100@tillamookchamber.org
SUMMARY:Teen Craft & Chat at Garibaldi Library
DESCRIPTION:Drop in crafting and social time for teens!
URL:https://tillamookchamber.org/event/teen-craft-chat-at-garibaldi-library/2030-02-20/
LOCATION:Garibaldi Library\, 107 6th St\, Garibaldi OR
CATEGORIES:Community
ATTACH;FMTTYPE=image/png:https://tillamookchamber.org/wp-content/uploads/2025/03/Teen-Craft-Chat.png
END:VEVENT
BEGIN:VEVENT
DTSTART;TZID=America/Los_Angeles:20300320T161500
DTEND;TZID=America/Los_Angeles:20300320T171500
DTSTAMP:20260420T192920
CREATED:20250623T163236Z
LAST-MODIFIED:20250623T163236Z
UID:10022222-1900253700-1900257300@tillamookchamber.org
SUMMARY:Teen Craft & Chat at Garibaldi Library
DESCRIPTION:Drop in crafting and social time for teens!
URL:https://tillamookchamber.org/event/teen-craft-chat-at-garibaldi-library/2030-03-20/
LOCATION:Garibaldi Library\, 107 6th St\, Garibaldi OR
CATEGORIES:Community
ATTACH;FMTTYPE=image/png:https://tillamookchamber.org/wp-content/uploads/2025/03/Teen-Craft-Chat.png
END:VEVENT
BEGIN:VEVENT
DTSTART;TZID=America/Los_Angeles:20300417T161500
DTEND;TZID=America/Los_Angeles:20300417T171500
DTSTAMP:20260420T192920
CREATED:20250623T163236Z
LAST-MODIFIED:20250623T163236Z
UID:10022223-1902672900-1902676500@tillamookchamber.org
SUMMARY:Teen Craft & Chat at Garibaldi Library
DESCRIPTION:Drop in crafting and social time for teens!
URL:https://tillamookchamber.org/event/teen-craft-chat-at-garibaldi-library/2030-04-17/
LOCATION:Garibaldi Library\, 107 6th St\, Garibaldi OR
CATEGORIES:Community
ATTACH;FMTTYPE=image/png:https://tillamookchamber.org/wp-content/uploads/2025/03/Teen-Craft-Chat.png
END:VEVENT
BEGIN:VEVENT
DTSTART;TZID=America/Los_Angeles:20300515T161500
DTEND;TZID=America/Los_Angeles:20300515T171500
DTSTAMP:20260420T192920
CREATED:20250623T163236Z
LAST-MODIFIED:20250623T163236Z
UID:10022224-1905092100-1905095700@tillamookchamber.org
SUMMARY:Teen Craft & Chat at Garibaldi Library
DESCRIPTION:Drop in crafting and social time for teens!
URL:https://tillamookchamber.org/event/teen-craft-chat-at-garibaldi-library/2030-05-15/
LOCATION:Garibaldi Library\, 107 6th St\, Garibaldi OR
CATEGORIES:Community
ATTACH;FMTTYPE=image/png:https://tillamookchamber.org/wp-content/uploads/2025/03/Teen-Craft-Chat.png
END:VEVENT
BEGIN:VEVENT
DTSTART;TZID=America/Los_Angeles:20300619T161500
DTEND;TZID=America/Los_Angeles:20300619T171500
DTSTAMP:20260420T192920
CREATED:20250623T163236Z
LAST-MODIFIED:20250623T163236Z
UID:10022225-1908116100-1908119700@tillamookchamber.org
SUMMARY:Teen Craft & Chat at Garibaldi Library
DESCRIPTION:Drop in crafting and social time for teens!
URL:https://tillamookchamber.org/event/teen-craft-chat-at-garibaldi-library/2030-06-19/
LOCATION:Garibaldi Library\, 107 6th St\, Garibaldi OR
CATEGORIES:Community
ATTACH;FMTTYPE=image/png:https://tillamookchamber.org/wp-content/uploads/2025/03/Teen-Craft-Chat.png
END:VEVENT
END:VCALENDAR