BEGIN:VCALENDAR
VERSION:2.0
PRODID:-//Tillamook Area Chamber of Commerce - ECPv6.15.20//NONSGML v1.0//EN
CALSCALE:GREGORIAN
METHOD:PUBLISH
X-ORIGINAL-URL:https://tillamookchamber.org
X-WR-CALDESC:Events for Tillamook Area Chamber of Commerce
REFRESH-INTERVAL;VALUE=DURATION:PT1H
X-Robots-Tag:noindex
X-PUBLISHED-TTL:PT1H
BEGIN:VTIMEZONE
TZID:America/Los_Angeles
BEGIN:DAYLIGHT
TZOFFSETFROM:-0800
TZOFFSETTO:-0700
TZNAME:PDT
DTSTART:20240310T100000
END:DAYLIGHT
BEGIN:STANDARD
TZOFFSETFROM:-0700
TZOFFSETTO:-0800
TZNAME:PST
DTSTART:20241103T090000
END:STANDARD
BEGIN:DAYLIGHT
TZOFFSETFROM:-0800
TZOFFSETTO:-0700
TZNAME:PDT
DTSTART:20250309T100000
END:DAYLIGHT
BEGIN:STANDARD
TZOFFSETFROM:-0700
TZOFFSETTO:-0800
TZNAME:PST
DTSTART:20251102T090000
END:STANDARD
BEGIN:DAYLIGHT
TZOFFSETFROM:-0800
TZOFFSETTO:-0700
TZNAME:PDT
DTSTART:20260308T100000
END:DAYLIGHT
BEGIN:STANDARD
TZOFFSETFROM:-0700
TZOFFSETTO:-0800
TZNAME:PST
DTSTART:20261101T090000
END:STANDARD
END:VTIMEZONE
BEGIN:VEVENT
DTSTART;TZID=America/Los_Angeles:20251226T110000
DTEND;TZID=America/Los_Angeles:20251226T120000
DTSTAMP:20260421T153138
CREATED:20250623T163658Z
LAST-MODIFIED:20250623T163658Z
UID:10022252-1766746800-1766750400@tillamookchamber.org
SUMMARY:Storytime at Garibaldi Library
DESCRIPTION:Kids of all ages are welcome to the Garibaldi Library for storytime\, Fridays at 11:00am.
URL:https://tillamookchamber.org/event/storytime-at-garibaldi-library/2025-12-26/
LOCATION:Garibaldi Library\, 107 6th St\, Garibaldi OR
CATEGORIES:Community,Family Fun
ATTACH;FMTTYPE=image/png:https://tillamookchamber.org/wp-content/uploads/2024/12/Garibaldi-Story-Time-flyer.png
END:VEVENT
BEGIN:VEVENT
DTSTART;TZID=America/Los_Angeles:20251219T110000
DTEND;TZID=America/Los_Angeles:20251219T120000
DTSTAMP:20260421T153138
CREATED:20250623T163658Z
LAST-MODIFIED:20250623T163658Z
UID:10022251-1766142000-1766145600@tillamookchamber.org
SUMMARY:Storytime at Garibaldi Library
DESCRIPTION:Kids of all ages are welcome to the Garibaldi Library for storytime\, Fridays at 11:00am.
URL:https://tillamookchamber.org/event/storytime-at-garibaldi-library/2025-12-19/
LOCATION:Garibaldi Library\, 107 6th St\, Garibaldi OR
CATEGORIES:Community,Family Fun
ATTACH;FMTTYPE=image/png:https://tillamookchamber.org/wp-content/uploads/2024/12/Garibaldi-Story-Time-flyer.png
END:VEVENT
BEGIN:VEVENT
DTSTART;TZID=America/Los_Angeles:20251217T161500
DTEND;TZID=America/Los_Angeles:20251217T171500
DTSTAMP:20260421T153138
CREATED:20250623T163236Z
LAST-MODIFIED:20250623T163236Z
UID:10022171-1765988100-1765991700@tillamookchamber.org
SUMMARY:Teen Craft & Chat at Garibaldi Library
DESCRIPTION:Drop in crafting and social time for teens!
URL:https://tillamookchamber.org/event/teen-craft-chat-at-garibaldi-library/2025-12-17/
LOCATION:Garibaldi Library\, 107 6th St\, Garibaldi OR
CATEGORIES:Community
ATTACH;FMTTYPE=image/png:https://tillamookchamber.org/wp-content/uploads/2025/03/Teen-Craft-Chat.png
END:VEVENT
BEGIN:VEVENT
DTSTART;TZID=America/Los_Angeles:20251216T140000
DTEND;TZID=America/Los_Angeles:20251216T150000
DTSTAMP:20260421T153138
CREATED:20250623T162410Z
LAST-MODIFIED:20250623T162410Z
UID:10022135-1765893600-1765897200@tillamookchamber.org
SUMMARY:Book Club at Garibaldi Library
DESCRIPTION:Join us at the Garibaldi Branch Library on the third Tuesday of each month for a book club meeting at 2 pm. Pick up the book anytime before the meeting at the Garibaldi library.
URL:https://tillamookchamber.org/event/book-club-at-garibaldi-library/2025-12-16/
LOCATION:Garibaldi Library\, 107 6th St\, Garibaldi OR
CATEGORIES:Classes and Workshops,Community
ATTACH;FMTTYPE=image/png:https://tillamookchamber.org/wp-content/uploads/2025/06/Garibaldi-Branch-Book-Club.png
END:VEVENT
BEGIN:VEVENT
DTSTART;TZID=America/Los_Angeles:20251212T110000
DTEND;TZID=America/Los_Angeles:20251212T120000
DTSTAMP:20260421T153138
CREATED:20250623T163658Z
LAST-MODIFIED:20250623T163658Z
UID:10022250-1765537200-1765540800@tillamookchamber.org
SUMMARY:Storytime at Garibaldi Library
DESCRIPTION:Kids of all ages are welcome to the Garibaldi Library for storytime\, Fridays at 11:00am.
URL:https://tillamookchamber.org/event/storytime-at-garibaldi-library/2025-12-12/
LOCATION:Garibaldi Library\, 107 6th St\, Garibaldi OR
CATEGORIES:Community,Family Fun
ATTACH;FMTTYPE=image/png:https://tillamookchamber.org/wp-content/uploads/2024/12/Garibaldi-Story-Time-flyer.png
END:VEVENT
BEGIN:VEVENT
DTSTART;TZID=America/Los_Angeles:20251205T110000
DTEND;TZID=America/Los_Angeles:20251205T120000
DTSTAMP:20260421T153138
CREATED:20250623T163658Z
LAST-MODIFIED:20250623T163658Z
UID:10022249-1764932400-1764936000@tillamookchamber.org
SUMMARY:Storytime at Garibaldi Library
DESCRIPTION:Kids of all ages are welcome to the Garibaldi Library for storytime\, Fridays at 11:00am.
URL:https://tillamookchamber.org/event/storytime-at-garibaldi-library/2025-12-05/
LOCATION:Garibaldi Library\, 107 6th St\, Garibaldi OR
CATEGORIES:Community,Family Fun
ATTACH;FMTTYPE=image/png:https://tillamookchamber.org/wp-content/uploads/2024/12/Garibaldi-Story-Time-flyer.png
END:VEVENT
BEGIN:VEVENT
DTSTART;TZID=America/Los_Angeles:20251128T110000
DTEND;TZID=America/Los_Angeles:20251128T120000
DTSTAMP:20260421T153138
CREATED:20250623T163658Z
LAST-MODIFIED:20250623T163658Z
UID:10022248-1764327600-1764331200@tillamookchamber.org
SUMMARY:Storytime at Garibaldi Library
DESCRIPTION:Kids of all ages are welcome to the Garibaldi Library for storytime\, Fridays at 11:00am.
URL:https://tillamookchamber.org/event/storytime-at-garibaldi-library/2025-11-28/
LOCATION:Garibaldi Library\, 107 6th St\, Garibaldi OR
CATEGORIES:Community,Family Fun
ATTACH;FMTTYPE=image/png:https://tillamookchamber.org/wp-content/uploads/2024/12/Garibaldi-Story-Time-flyer.png
END:VEVENT
BEGIN:VEVENT
DTSTART;TZID=America/Los_Angeles:20251121T110000
DTEND;TZID=America/Los_Angeles:20251121T120000
DTSTAMP:20260421T153138
CREATED:20250623T163658Z
LAST-MODIFIED:20250623T163658Z
UID:10022247-1763722800-1763726400@tillamookchamber.org
SUMMARY:Storytime at Garibaldi Library
DESCRIPTION:Kids of all ages are welcome to the Garibaldi Library for storytime\, Fridays at 11:00am.
URL:https://tillamookchamber.org/event/storytime-at-garibaldi-library/2025-11-21/
LOCATION:Garibaldi Library\, 107 6th St\, Garibaldi OR
CATEGORIES:Community,Family Fun
ATTACH;FMTTYPE=image/png:https://tillamookchamber.org/wp-content/uploads/2024/12/Garibaldi-Story-Time-flyer.png
END:VEVENT
BEGIN:VEVENT
DTSTART;TZID=America/Los_Angeles:20251119T161500
DTEND;TZID=America/Los_Angeles:20251119T171500
DTSTAMP:20260421T153138
CREATED:20250623T163236Z
LAST-MODIFIED:20250623T163236Z
UID:10022170-1763568900-1763572500@tillamookchamber.org
SUMMARY:Teen Craft & Chat at Garibaldi Library
DESCRIPTION:Drop in crafting and social time for teens!
URL:https://tillamookchamber.org/event/teen-craft-chat-at-garibaldi-library/2025-11-19/
LOCATION:Garibaldi Library\, 107 6th St\, Garibaldi OR
CATEGORIES:Community
ATTACH;FMTTYPE=image/png:https://tillamookchamber.org/wp-content/uploads/2025/03/Teen-Craft-Chat.png
END:VEVENT
BEGIN:VEVENT
DTSTART;TZID=America/Los_Angeles:20251118T140000
DTEND;TZID=America/Los_Angeles:20251118T150000
DTSTAMP:20260421T153138
CREATED:20250623T162410Z
LAST-MODIFIED:20250623T162410Z
UID:10022134-1763474400-1763478000@tillamookchamber.org
SUMMARY:Book Club at Garibaldi Library
DESCRIPTION:Join us at the Garibaldi Branch Library on the third Tuesday of each month for a book club meeting at 2 pm. Pick up the book anytime before the meeting at the Garibaldi library.
URL:https://tillamookchamber.org/event/book-club-at-garibaldi-library/2025-11-18/
LOCATION:Garibaldi Library\, 107 6th St\, Garibaldi OR
CATEGORIES:Classes and Workshops,Community
ATTACH;FMTTYPE=image/png:https://tillamookchamber.org/wp-content/uploads/2025/06/Garibaldi-Branch-Book-Club.png
END:VEVENT
BEGIN:VEVENT
DTSTART;TZID=America/Los_Angeles:20251114T110000
DTEND;TZID=America/Los_Angeles:20251114T120000
DTSTAMP:20260421T153138
CREATED:20250623T163658Z
LAST-MODIFIED:20250623T163658Z
UID:10022246-1763118000-1763121600@tillamookchamber.org
SUMMARY:Storytime at Garibaldi Library
DESCRIPTION:Kids of all ages are welcome to the Garibaldi Library for storytime\, Fridays at 11:00am.
URL:https://tillamookchamber.org/event/storytime-at-garibaldi-library/2025-11-14/
LOCATION:Garibaldi Library\, 107 6th St\, Garibaldi OR
CATEGORIES:Community,Family Fun
ATTACH;FMTTYPE=image/png:https://tillamookchamber.org/wp-content/uploads/2024/12/Garibaldi-Story-Time-flyer.png
END:VEVENT
BEGIN:VEVENT
DTSTART;TZID=America/Los_Angeles:20251107T110000
DTEND;TZID=America/Los_Angeles:20251107T120000
DTSTAMP:20260421T153138
CREATED:20250623T163658Z
LAST-MODIFIED:20250623T163658Z
UID:10022245-1762513200-1762516800@tillamookchamber.org
SUMMARY:Storytime at Garibaldi Library
DESCRIPTION:Kids of all ages are welcome to the Garibaldi Library for storytime\, Fridays at 11:00am.
URL:https://tillamookchamber.org/event/storytime-at-garibaldi-library/2025-11-07/
LOCATION:Garibaldi Library\, 107 6th St\, Garibaldi OR
CATEGORIES:Community,Family Fun
ATTACH;FMTTYPE=image/png:https://tillamookchamber.org/wp-content/uploads/2024/12/Garibaldi-Story-Time-flyer.png
END:VEVENT
BEGIN:VEVENT
DTSTART;TZID=America/Los_Angeles:20251031T110000
DTEND;TZID=America/Los_Angeles:20251031T120000
DTSTAMP:20260421T153138
CREATED:20250623T163658Z
LAST-MODIFIED:20250623T163658Z
UID:10022244-1761908400-1761912000@tillamookchamber.org
SUMMARY:Storytime at Garibaldi Library
DESCRIPTION:Kids of all ages are welcome to the Garibaldi Library for storytime\, Fridays at 11:00am.
URL:https://tillamookchamber.org/event/storytime-at-garibaldi-library/2025-10-31/
LOCATION:Garibaldi Library\, 107 6th St\, Garibaldi OR
CATEGORIES:Community,Family Fun
ATTACH;FMTTYPE=image/png:https://tillamookchamber.org/wp-content/uploads/2024/12/Garibaldi-Story-Time-flyer.png
END:VEVENT
BEGIN:VEVENT
DTSTART;TZID=America/Los_Angeles:20251024T110000
DTEND;TZID=America/Los_Angeles:20251024T120000
DTSTAMP:20260421T153138
CREATED:20250623T163658Z
LAST-MODIFIED:20250623T163658Z
UID:10022243-1761303600-1761307200@tillamookchamber.org
SUMMARY:Storytime at Garibaldi Library
DESCRIPTION:Kids of all ages are welcome to the Garibaldi Library for storytime\, Fridays at 11:00am.
URL:https://tillamookchamber.org/event/storytime-at-garibaldi-library/2025-10-24/
LOCATION:Garibaldi Library\, 107 6th St\, Garibaldi OR
CATEGORIES:Community,Family Fun
ATTACH;FMTTYPE=image/png:https://tillamookchamber.org/wp-content/uploads/2024/12/Garibaldi-Story-Time-flyer.png
END:VEVENT
BEGIN:VEVENT
DTSTART;TZID=America/Los_Angeles:20251021T140000
DTEND;TZID=America/Los_Angeles:20251021T150000
DTSTAMP:20260421T153138
CREATED:20250623T162410Z
LAST-MODIFIED:20250623T162410Z
UID:10022133-1761055200-1761058800@tillamookchamber.org
SUMMARY:Book Club at Garibaldi Library
DESCRIPTION:Join us at the Garibaldi Branch Library on the third Tuesday of each month for a book club meeting at 2 pm. Pick up the book anytime before the meeting at the Garibaldi library.
URL:https://tillamookchamber.org/event/book-club-at-garibaldi-library/2025-10-21/
LOCATION:Garibaldi Library\, 107 6th St\, Garibaldi OR
CATEGORIES:Classes and Workshops,Community
ATTACH;FMTTYPE=image/png:https://tillamookchamber.org/wp-content/uploads/2025/06/Garibaldi-Branch-Book-Club.png
END:VEVENT
BEGIN:VEVENT
DTSTART;TZID=America/Los_Angeles:20251017T110000
DTEND;TZID=America/Los_Angeles:20251017T120000
DTSTAMP:20260421T153138
CREATED:20250623T163658Z
LAST-MODIFIED:20250623T163658Z
UID:10022242-1760698800-1760702400@tillamookchamber.org
SUMMARY:Storytime at Garibaldi Library
DESCRIPTION:Kids of all ages are welcome to the Garibaldi Library for storytime\, Fridays at 11:00am.
URL:https://tillamookchamber.org/event/storytime-at-garibaldi-library/2025-10-17/
LOCATION:Garibaldi Library\, 107 6th St\, Garibaldi OR
CATEGORIES:Community,Family Fun
ATTACH;FMTTYPE=image/png:https://tillamookchamber.org/wp-content/uploads/2024/12/Garibaldi-Story-Time-flyer.png
END:VEVENT
BEGIN:VEVENT
DTSTART;TZID=America/Los_Angeles:20251015T161500
DTEND;TZID=America/Los_Angeles:20251015T171500
DTSTAMP:20260421T153138
CREATED:20250623T163236Z
LAST-MODIFIED:20250623T163236Z
UID:10022169-1760544900-1760548500@tillamookchamber.org
SUMMARY:Teen Craft & Chat at Garibaldi Library
DESCRIPTION:Drop in crafting and social time for teens!
URL:https://tillamookchamber.org/event/teen-craft-chat-at-garibaldi-library/2025-10-15/
LOCATION:Garibaldi Library\, 107 6th St\, Garibaldi OR
CATEGORIES:Community
ATTACH;FMTTYPE=image/png:https://tillamookchamber.org/wp-content/uploads/2025/03/Teen-Craft-Chat.png
END:VEVENT
BEGIN:VEVENT
DTSTART;TZID=America/Los_Angeles:20251011T140000
DTEND;TZID=America/Los_Angeles:20251011T150000
DTSTAMP:20260421T153138
CREATED:20250915T161533Z
LAST-MODIFIED:20250915T161533Z
UID:10025519-1760191200-1760194800@tillamookchamber.org
SUMMARY:Speed Friending at Garibaldi Library
DESCRIPTION:Meet new people in a fun\, low-pressure turn taking game at the Garibaldi Library!
URL:https://tillamookchamber.org/event/speed-friending-at-garibaldi-library/
LOCATION:Garibaldi Library\, 107 6th St\, Garibaldi OR
CATEGORIES:Community
ATTACH;FMTTYPE=image/png:https://tillamookchamber.org/wp-content/uploads/2025/09/Speed-Friending-101125-TG.png
END:VEVENT
BEGIN:VEVENT
DTSTART;TZID=America/Los_Angeles:20251010T110000
DTEND;TZID=America/Los_Angeles:20251010T120000
DTSTAMP:20260421T153138
CREATED:20250623T163658Z
LAST-MODIFIED:20250623T163658Z
UID:10022241-1760094000-1760097600@tillamookchamber.org
SUMMARY:Storytime at Garibaldi Library
DESCRIPTION:Kids of all ages are welcome to the Garibaldi Library for storytime\, Fridays at 11:00am.
URL:https://tillamookchamber.org/event/storytime-at-garibaldi-library/2025-10-10/
LOCATION:Garibaldi Library\, 107 6th St\, Garibaldi OR
CATEGORIES:Community,Family Fun
ATTACH;FMTTYPE=image/png:https://tillamookchamber.org/wp-content/uploads/2024/12/Garibaldi-Story-Time-flyer.png
END:VEVENT
BEGIN:VEVENT
DTSTART;TZID=America/Los_Angeles:20251003T110000
DTEND;TZID=America/Los_Angeles:20251003T120000
DTSTAMP:20260421T153138
CREATED:20250623T163658Z
LAST-MODIFIED:20250623T163658Z
UID:10022240-1759489200-1759492800@tillamookchamber.org
SUMMARY:Storytime at Garibaldi Library
DESCRIPTION:Kids of all ages are welcome to the Garibaldi Library for storytime\, Fridays at 11:00am.
URL:https://tillamookchamber.org/event/storytime-at-garibaldi-library/2025-10-03/
LOCATION:Garibaldi Library\, 107 6th St\, Garibaldi OR
CATEGORIES:Community,Family Fun
ATTACH;FMTTYPE=image/png:https://tillamookchamber.org/wp-content/uploads/2024/12/Garibaldi-Story-Time-flyer.png
END:VEVENT
BEGIN:VEVENT
DTSTART;TZID=America/Los_Angeles:20250926T110000
DTEND;TZID=America/Los_Angeles:20250926T120000
DTSTAMP:20260421T153138
CREATED:20250623T163658Z
LAST-MODIFIED:20250623T163658Z
UID:10022239-1758884400-1758888000@tillamookchamber.org
SUMMARY:Storytime at Garibaldi Library
DESCRIPTION:Kids of all ages are welcome to the Garibaldi Library for storytime\, Fridays at 11:00am.
URL:https://tillamookchamber.org/event/storytime-at-garibaldi-library/2025-09-26/
LOCATION:Garibaldi Library\, 107 6th St\, Garibaldi OR
CATEGORIES:Community,Family Fun
ATTACH;FMTTYPE=image/png:https://tillamookchamber.org/wp-content/uploads/2024/12/Garibaldi-Story-Time-flyer.png
END:VEVENT
BEGIN:VEVENT
DTSTART;TZID=America/Los_Angeles:20250919T110000
DTEND;TZID=America/Los_Angeles:20250919T120000
DTSTAMP:20260421T153138
CREATED:20250623T163658Z
LAST-MODIFIED:20250623T163658Z
UID:10022238-1758279600-1758283200@tillamookchamber.org
SUMMARY:Storytime at Garibaldi Library
DESCRIPTION:Kids of all ages are welcome to the Garibaldi Library for storytime\, Fridays at 11:00am.
URL:https://tillamookchamber.org/event/storytime-at-garibaldi-library/2025-09-19/
LOCATION:Garibaldi Library\, 107 6th St\, Garibaldi OR
CATEGORIES:Community,Family Fun
ATTACH;FMTTYPE=image/png:https://tillamookchamber.org/wp-content/uploads/2024/12/Garibaldi-Story-Time-flyer.png
END:VEVENT
BEGIN:VEVENT
DTSTART;TZID=America/Los_Angeles:20250917T161500
DTEND;TZID=America/Los_Angeles:20250917T171500
DTSTAMP:20260421T153138
CREATED:20250623T163236Z
LAST-MODIFIED:20250623T163236Z
UID:10022168-1758125700-1758129300@tillamookchamber.org
SUMMARY:Teen Craft & Chat at Garibaldi Library
DESCRIPTION:Drop in crafting and social time for teens!
URL:https://tillamookchamber.org/event/teen-craft-chat-at-garibaldi-library/2025-09-17/
LOCATION:Garibaldi Library\, 107 6th St\, Garibaldi OR
CATEGORIES:Community
ATTACH;FMTTYPE=image/png:https://tillamookchamber.org/wp-content/uploads/2025/03/Teen-Craft-Chat.png
END:VEVENT
BEGIN:VEVENT
DTSTART;TZID=America/Los_Angeles:20250916T140000
DTEND;TZID=America/Los_Angeles:20250916T150000
DTSTAMP:20260421T153138
CREATED:20250623T162410Z
LAST-MODIFIED:20250623T162410Z
UID:10022132-1758031200-1758034800@tillamookchamber.org
SUMMARY:Book Club at Garibaldi Library
DESCRIPTION:Join us at the Garibaldi Branch Library on the third Tuesday of each month for a book club meeting at 2 pm. Pick up the book anytime before the meeting at the Garibaldi library.
URL:https://tillamookchamber.org/event/book-club-at-garibaldi-library/2025-09-16/
LOCATION:Garibaldi Library\, 107 6th St\, Garibaldi OR
CATEGORIES:Classes and Workshops,Community
ATTACH;FMTTYPE=image/png:https://tillamookchamber.org/wp-content/uploads/2025/06/Garibaldi-Branch-Book-Club.png
END:VEVENT
BEGIN:VEVENT
DTSTART;TZID=America/Los_Angeles:20250912T110000
DTEND;TZID=America/Los_Angeles:20250912T120000
DTSTAMP:20260421T153138
CREATED:20250623T163658Z
LAST-MODIFIED:20250623T163658Z
UID:10022237-1757674800-1757678400@tillamookchamber.org
SUMMARY:Storytime at Garibaldi Library
DESCRIPTION:Kids of all ages are welcome to the Garibaldi Library for storytime\, Fridays at 11:00am.
URL:https://tillamookchamber.org/event/storytime-at-garibaldi-library/2025-09-12/
LOCATION:Garibaldi Library\, 107 6th St\, Garibaldi OR
CATEGORIES:Community,Family Fun
ATTACH;FMTTYPE=image/png:https://tillamookchamber.org/wp-content/uploads/2024/12/Garibaldi-Story-Time-flyer.png
END:VEVENT
BEGIN:VEVENT
DTSTART;TZID=America/Los_Angeles:20250905T110000
DTEND;TZID=America/Los_Angeles:20250905T120000
DTSTAMP:20260421T153138
CREATED:20250623T163658Z
LAST-MODIFIED:20250623T163658Z
UID:10022236-1757070000-1757073600@tillamookchamber.org
SUMMARY:Storytime at Garibaldi Library
DESCRIPTION:Kids of all ages are welcome to the Garibaldi Library for storytime\, Fridays at 11:00am.
URL:https://tillamookchamber.org/event/storytime-at-garibaldi-library/2025-09-05/
LOCATION:Garibaldi Library\, 107 6th St\, Garibaldi OR
CATEGORIES:Community,Family Fun
ATTACH;FMTTYPE=image/png:https://tillamookchamber.org/wp-content/uploads/2024/12/Garibaldi-Story-Time-flyer.png
END:VEVENT
BEGIN:VEVENT
DTSTART;TZID=America/Los_Angeles:20250829T110000
DTEND;TZID=America/Los_Angeles:20250829T120000
DTSTAMP:20260421T153138
CREATED:20250623T163658Z
LAST-MODIFIED:20250623T163658Z
UID:10022235-1756465200-1756468800@tillamookchamber.org
SUMMARY:Storytime at Garibaldi Library
DESCRIPTION:Kids of all ages are welcome to the Garibaldi Library for storytime\, Fridays at 11:00am.
URL:https://tillamookchamber.org/event/storytime-at-garibaldi-library/2025-08-29/
LOCATION:Garibaldi Library\, 107 6th St\, Garibaldi OR
CATEGORIES:Community,Family Fun
ATTACH;FMTTYPE=image/png:https://tillamookchamber.org/wp-content/uploads/2024/12/Garibaldi-Story-Time-flyer.png
END:VEVENT
BEGIN:VEVENT
DTSTART;TZID=America/Los_Angeles:20250822T110000
DTEND;TZID=America/Los_Angeles:20250822T120000
DTSTAMP:20260421T153138
CREATED:20250623T163658Z
LAST-MODIFIED:20250623T163658Z
UID:10022234-1755860400-1755864000@tillamookchamber.org
SUMMARY:Storytime at Garibaldi Library
DESCRIPTION:Kids of all ages are welcome to the Garibaldi Library for storytime\, Fridays at 11:00am.
URL:https://tillamookchamber.org/event/storytime-at-garibaldi-library/2025-08-22/
LOCATION:Garibaldi Library\, 107 6th St\, Garibaldi OR
CATEGORIES:Community,Family Fun
ATTACH;FMTTYPE=image/png:https://tillamookchamber.org/wp-content/uploads/2024/12/Garibaldi-Story-Time-flyer.png
END:VEVENT
BEGIN:VEVENT
DTSTART;TZID=America/Los_Angeles:20250820T161500
DTEND;TZID=America/Los_Angeles:20250820T171500
DTSTAMP:20260421T153138
CREATED:20250623T163236Z
LAST-MODIFIED:20250623T163236Z
UID:10022167-1755706500-1755710100@tillamookchamber.org
SUMMARY:Teen Craft & Chat at Garibaldi Library
DESCRIPTION:Drop in crafting and social time for teens!
URL:https://tillamookchamber.org/event/teen-craft-chat-at-garibaldi-library/2025-08-20/
LOCATION:Garibaldi Library\, 107 6th St\, Garibaldi OR
CATEGORIES:Community
ATTACH;FMTTYPE=image/png:https://tillamookchamber.org/wp-content/uploads/2025/03/Teen-Craft-Chat.png
END:VEVENT
BEGIN:VEVENT
DTSTART;TZID=America/Los_Angeles:20250819T140000
DTEND;TZID=America/Los_Angeles:20250819T150000
DTSTAMP:20260421T153138
CREATED:20250623T162410Z
LAST-MODIFIED:20250623T162410Z
UID:10022131-1755612000-1755615600@tillamookchamber.org
SUMMARY:Book Club at Garibaldi Library
DESCRIPTION:Join us at the Garibaldi Branch Library on the third Tuesday of each month for a book club meeting at 2 pm. Pick up the book anytime before the meeting at the Garibaldi library.
URL:https://tillamookchamber.org/event/book-club-at-garibaldi-library/2025-08-19/
LOCATION:Garibaldi Library\, 107 6th St\, Garibaldi OR
CATEGORIES:Classes and Workshops,Community
ATTACH;FMTTYPE=image/png:https://tillamookchamber.org/wp-content/uploads/2025/06/Garibaldi-Branch-Book-Club.png
END:VEVENT
END:VCALENDAR