BEGIN:VCALENDAR
VERSION:2.0
PRODID:-//Tillamook Area Chamber of Commerce - ECPv6.15.20//NONSGML v1.0//EN
CALSCALE:GREGORIAN
METHOD:PUBLISH
X-WR-CALNAME:Tillamook Area Chamber of Commerce
X-ORIGINAL-URL:https://tillamookchamber.org
X-WR-CALDESC:Events for Tillamook Area Chamber of Commerce
REFRESH-INTERVAL;VALUE=DURATION:PT1H
X-Robots-Tag:noindex
X-PUBLISHED-TTL:PT1H
BEGIN:VTIMEZONE
TZID:America/Los_Angeles
BEGIN:DAYLIGHT
TZOFFSETFROM:-0800
TZOFFSETTO:-0700
TZNAME:PDT
DTSTART:20240310T100000
END:DAYLIGHT
BEGIN:STANDARD
TZOFFSETFROM:-0700
TZOFFSETTO:-0800
TZNAME:PST
DTSTART:20241103T090000
END:STANDARD
BEGIN:DAYLIGHT
TZOFFSETFROM:-0800
TZOFFSETTO:-0700
TZNAME:PDT
DTSTART:20250309T100000
END:DAYLIGHT
BEGIN:STANDARD
TZOFFSETFROM:-0700
TZOFFSETTO:-0800
TZNAME:PST
DTSTART:20251102T090000
END:STANDARD
BEGIN:DAYLIGHT
TZOFFSETFROM:-0800
TZOFFSETTO:-0700
TZNAME:PDT
DTSTART:20260308T100000
END:DAYLIGHT
BEGIN:STANDARD
TZOFFSETFROM:-0700
TZOFFSETTO:-0800
TZNAME:PST
DTSTART:20261101T090000
END:STANDARD
BEGIN:DAYLIGHT
TZOFFSETFROM:-0800
TZOFFSETTO:-0700
TZNAME:PDT
DTSTART:20270314T100000
END:DAYLIGHT
BEGIN:STANDARD
TZOFFSETFROM:-0700
TZOFFSETTO:-0800
TZNAME:PST
DTSTART:20271107T090000
END:STANDARD
END:VTIMEZONE
BEGIN:VEVENT
DTSTART;TZID=America/Los_Angeles:20260417T110000
DTEND;TZID=America/Los_Angeles:20260417T120000
DTSTAMP:20260420T044200
CREATED:20250623T163658Z
LAST-MODIFIED:20250623T163658Z
UID:10022268-1776423600-1776427200@tillamookchamber.org
SUMMARY:Storytime at Garibaldi Library
DESCRIPTION:Kids of all ages are welcome to the Garibaldi Library for storytime\, Fridays at 11:00am.
URL:https://tillamookchamber.org/event/storytime-at-garibaldi-library/2026-04-17/
LOCATION:Garibaldi Library\, 107 6th St\, Garibaldi OR
CATEGORIES:Community,Family Fun
ATTACH;FMTTYPE=image/png:https://tillamookchamber.org/wp-content/uploads/2024/12/Garibaldi-Story-Time-flyer.png
END:VEVENT
BEGIN:VEVENT
DTSTART;TZID=America/Los_Angeles:20260415T161500
DTEND;TZID=America/Los_Angeles:20260415T171500
DTSTAMP:20260420T044200
CREATED:20250623T163236Z
LAST-MODIFIED:20250623T163236Z
UID:10022175-1776269700-1776273300@tillamookchamber.org
SUMMARY:Teen Craft & Chat at Garibaldi Library
DESCRIPTION:Drop in crafting and social time for teens!
URL:https://tillamookchamber.org/event/teen-craft-chat-at-garibaldi-library/2026-04-15/
LOCATION:Garibaldi Library\, 107 6th St\, Garibaldi OR
CATEGORIES:Community
ATTACH;FMTTYPE=image/png:https://tillamookchamber.org/wp-content/uploads/2025/03/Teen-Craft-Chat.png
END:VEVENT
BEGIN:VEVENT
DTSTART;TZID=America/Los_Angeles:20260410T110000
DTEND;TZID=America/Los_Angeles:20260410T120000
DTSTAMP:20260420T044200
CREATED:20250623T163658Z
LAST-MODIFIED:20250623T163658Z
UID:10022267-1775818800-1775822400@tillamookchamber.org
SUMMARY:Storytime at Garibaldi Library
DESCRIPTION:Kids of all ages are welcome to the Garibaldi Library for storytime\, Fridays at 11:00am.
URL:https://tillamookchamber.org/event/storytime-at-garibaldi-library/2026-04-10/
LOCATION:Garibaldi Library\, 107 6th St\, Garibaldi OR
CATEGORIES:Community,Family Fun
ATTACH;FMTTYPE=image/png:https://tillamookchamber.org/wp-content/uploads/2024/12/Garibaldi-Story-Time-flyer.png
END:VEVENT
BEGIN:VEVENT
DTSTART;TZID=America/Los_Angeles:20260403T110000
DTEND;TZID=America/Los_Angeles:20260403T120000
DTSTAMP:20260420T044200
CREATED:20250623T163658Z
LAST-MODIFIED:20250623T163658Z
UID:10022266-1775214000-1775217600@tillamookchamber.org
SUMMARY:Storytime at Garibaldi Library
DESCRIPTION:Kids of all ages are welcome to the Garibaldi Library for storytime\, Fridays at 11:00am.
URL:https://tillamookchamber.org/event/storytime-at-garibaldi-library/2026-04-03/
LOCATION:Garibaldi Library\, 107 6th St\, Garibaldi OR
CATEGORIES:Community,Family Fun
ATTACH;FMTTYPE=image/png:https://tillamookchamber.org/wp-content/uploads/2024/12/Garibaldi-Story-Time-flyer.png
END:VEVENT
BEGIN:VEVENT
DTSTART;TZID=America/Los_Angeles:20260327T110000
DTEND;TZID=America/Los_Angeles:20260327T120000
DTSTAMP:20260420T044200
CREATED:20250623T163658Z
LAST-MODIFIED:20250623T163658Z
UID:10022265-1774609200-1774612800@tillamookchamber.org
SUMMARY:Storytime at Garibaldi Library
DESCRIPTION:Kids of all ages are welcome to the Garibaldi Library for storytime\, Fridays at 11:00am.
URL:https://tillamookchamber.org/event/storytime-at-garibaldi-library/2026-03-27/
LOCATION:Garibaldi Library\, 107 6th St\, Garibaldi OR
CATEGORIES:Community,Family Fun
ATTACH;FMTTYPE=image/png:https://tillamookchamber.org/wp-content/uploads/2024/12/Garibaldi-Story-Time-flyer.png
END:VEVENT
BEGIN:VEVENT
DTSTART;TZID=America/Los_Angeles:20260320T110000
DTEND;TZID=America/Los_Angeles:20260320T120000
DTSTAMP:20260420T044200
CREATED:20250623T163658Z
LAST-MODIFIED:20250623T163658Z
UID:10022264-1774004400-1774008000@tillamookchamber.org
SUMMARY:Storytime at Garibaldi Library
DESCRIPTION:Kids of all ages are welcome to the Garibaldi Library for storytime\, Fridays at 11:00am.
URL:https://tillamookchamber.org/event/storytime-at-garibaldi-library/2026-03-20/
LOCATION:Garibaldi Library\, 107 6th St\, Garibaldi OR
CATEGORIES:Community,Family Fun
ATTACH;FMTTYPE=image/png:https://tillamookchamber.org/wp-content/uploads/2024/12/Garibaldi-Story-Time-flyer.png
END:VEVENT
BEGIN:VEVENT
DTSTART;TZID=America/Los_Angeles:20260318T161500
DTEND;TZID=America/Los_Angeles:20260318T171500
DTSTAMP:20260420T044200
CREATED:20250623T163236Z
LAST-MODIFIED:20250623T163236Z
UID:10022174-1773850500-1773854100@tillamookchamber.org
SUMMARY:Teen Craft & Chat at Garibaldi Library
DESCRIPTION:Drop in crafting and social time for teens!
URL:https://tillamookchamber.org/event/teen-craft-chat-at-garibaldi-library/2026-03-18/
LOCATION:Garibaldi Library\, 107 6th St\, Garibaldi OR
CATEGORIES:Community
ATTACH;FMTTYPE=image/png:https://tillamookchamber.org/wp-content/uploads/2025/03/Teen-Craft-Chat.png
END:VEVENT
BEGIN:VEVENT
DTSTART;TZID=America/Los_Angeles:20260317T140000
DTEND;TZID=America/Los_Angeles:20260317T150000
DTSTAMP:20260420T044200
CREATED:20250623T162410Z
LAST-MODIFIED:20250623T162410Z
UID:10022138-1773756000-1773759600@tillamookchamber.org
SUMMARY:Book Club at Garibaldi Library
DESCRIPTION:Join us at the Garibaldi Branch Library on the third Tuesday of each month for a book club meeting at 2 pm. Pick up the book anytime before the meeting at the Garibaldi library.
URL:https://tillamookchamber.org/event/book-club-at-garibaldi-library/2026-03-17/
LOCATION:Garibaldi Library\, 107 6th St\, Garibaldi OR
CATEGORIES:Classes and Workshops,Community
ATTACH;FMTTYPE=image/png:https://tillamookchamber.org/wp-content/uploads/2025/06/Garibaldi-Branch-Book-Club.png
END:VEVENT
BEGIN:VEVENT
DTSTART;TZID=America/Los_Angeles:20260313T110000
DTEND;TZID=America/Los_Angeles:20260313T120000
DTSTAMP:20260420T044200
CREATED:20250623T163658Z
LAST-MODIFIED:20250623T163658Z
UID:10022263-1773399600-1773403200@tillamookchamber.org
SUMMARY:Storytime at Garibaldi Library
DESCRIPTION:Kids of all ages are welcome to the Garibaldi Library for storytime\, Fridays at 11:00am.
URL:https://tillamookchamber.org/event/storytime-at-garibaldi-library/2026-03-13/
LOCATION:Garibaldi Library\, 107 6th St\, Garibaldi OR
CATEGORIES:Community,Family Fun
ATTACH;FMTTYPE=image/png:https://tillamookchamber.org/wp-content/uploads/2024/12/Garibaldi-Story-Time-flyer.png
END:VEVENT
BEGIN:VEVENT
DTSTART;TZID=America/Los_Angeles:20260306T110000
DTEND;TZID=America/Los_Angeles:20260306T120000
DTSTAMP:20260420T044200
CREATED:20250623T163658Z
LAST-MODIFIED:20250623T163658Z
UID:10022262-1772794800-1772798400@tillamookchamber.org
SUMMARY:Storytime at Garibaldi Library
DESCRIPTION:Kids of all ages are welcome to the Garibaldi Library for storytime\, Fridays at 11:00am.
URL:https://tillamookchamber.org/event/storytime-at-garibaldi-library/2026-03-06/
LOCATION:Garibaldi Library\, 107 6th St\, Garibaldi OR
CATEGORIES:Community,Family Fun
ATTACH;FMTTYPE=image/png:https://tillamookchamber.org/wp-content/uploads/2024/12/Garibaldi-Story-Time-flyer.png
END:VEVENT
BEGIN:VEVENT
DTSTART;TZID=America/Los_Angeles:20260227T110000
DTEND;TZID=America/Los_Angeles:20260227T120000
DTSTAMP:20260420T044200
CREATED:20250623T163658Z
LAST-MODIFIED:20250623T163658Z
UID:10022261-1772190000-1772193600@tillamookchamber.org
SUMMARY:Storytime at Garibaldi Library
DESCRIPTION:Kids of all ages are welcome to the Garibaldi Library for storytime\, Fridays at 11:00am.
URL:https://tillamookchamber.org/event/storytime-at-garibaldi-library/2026-02-27/
LOCATION:Garibaldi Library\, 107 6th St\, Garibaldi OR
CATEGORIES:Community,Family Fun
ATTACH;FMTTYPE=image/png:https://tillamookchamber.org/wp-content/uploads/2024/12/Garibaldi-Story-Time-flyer.png
END:VEVENT
BEGIN:VEVENT
DTSTART;TZID=America/Los_Angeles:20260220T110000
DTEND;TZID=America/Los_Angeles:20260220T120000
DTSTAMP:20260420T044200
CREATED:20250623T163658Z
LAST-MODIFIED:20250623T163658Z
UID:10022260-1771585200-1771588800@tillamookchamber.org
SUMMARY:Storytime at Garibaldi Library
DESCRIPTION:Kids of all ages are welcome to the Garibaldi Library for storytime\, Fridays at 11:00am.
URL:https://tillamookchamber.org/event/storytime-at-garibaldi-library/2026-02-20/
LOCATION:Garibaldi Library\, 107 6th St\, Garibaldi OR
CATEGORIES:Community,Family Fun
ATTACH;FMTTYPE=image/png:https://tillamookchamber.org/wp-content/uploads/2024/12/Garibaldi-Story-Time-flyer.png
END:VEVENT
BEGIN:VEVENT
DTSTART;TZID=America/Los_Angeles:20260218T161500
DTEND;TZID=America/Los_Angeles:20260218T171500
DTSTAMP:20260420T044200
CREATED:20250623T163236Z
LAST-MODIFIED:20250623T163236Z
UID:10022173-1771431300-1771434900@tillamookchamber.org
SUMMARY:Teen Craft & Chat at Garibaldi Library
DESCRIPTION:Drop in crafting and social time for teens!
URL:https://tillamookchamber.org/event/teen-craft-chat-at-garibaldi-library/2026-02-18/
LOCATION:Garibaldi Library\, 107 6th St\, Garibaldi OR
CATEGORIES:Community
ATTACH;FMTTYPE=image/png:https://tillamookchamber.org/wp-content/uploads/2025/03/Teen-Craft-Chat.png
END:VEVENT
BEGIN:VEVENT
DTSTART;TZID=America/Los_Angeles:20260217T140000
DTEND;TZID=America/Los_Angeles:20260217T150000
DTSTAMP:20260420T044200
CREATED:20250623T162410Z
LAST-MODIFIED:20250623T162410Z
UID:10022137-1771336800-1771340400@tillamookchamber.org
SUMMARY:Book Club at Garibaldi Library
DESCRIPTION:Join us at the Garibaldi Branch Library on the third Tuesday of each month for a book club meeting at 2 pm. Pick up the book anytime before the meeting at the Garibaldi library.
URL:https://tillamookchamber.org/event/book-club-at-garibaldi-library/2026-02-17/
LOCATION:Garibaldi Library\, 107 6th St\, Garibaldi OR
CATEGORIES:Classes and Workshops,Community
ATTACH;FMTTYPE=image/png:https://tillamookchamber.org/wp-content/uploads/2025/06/Garibaldi-Branch-Book-Club.png
END:VEVENT
BEGIN:VEVENT
DTSTART;TZID=America/Los_Angeles:20260213T110000
DTEND;TZID=America/Los_Angeles:20260213T120000
DTSTAMP:20260420T044200
CREATED:20250623T163658Z
LAST-MODIFIED:20250623T163658Z
UID:10022259-1770980400-1770984000@tillamookchamber.org
SUMMARY:Storytime at Garibaldi Library
DESCRIPTION:Kids of all ages are welcome to the Garibaldi Library for storytime\, Fridays at 11:00am.
URL:https://tillamookchamber.org/event/storytime-at-garibaldi-library/2026-02-13/
LOCATION:Garibaldi Library\, 107 6th St\, Garibaldi OR
CATEGORIES:Community,Family Fun
ATTACH;FMTTYPE=image/png:https://tillamookchamber.org/wp-content/uploads/2024/12/Garibaldi-Story-Time-flyer.png
END:VEVENT
BEGIN:VEVENT
DTSTART;TZID=America/Los_Angeles:20260206T110000
DTEND;TZID=America/Los_Angeles:20260206T120000
DTSTAMP:20260420T044200
CREATED:20250623T163658Z
LAST-MODIFIED:20250623T163658Z
UID:10022258-1770375600-1770379200@tillamookchamber.org
SUMMARY:Storytime at Garibaldi Library
DESCRIPTION:Kids of all ages are welcome to the Garibaldi Library for storytime\, Fridays at 11:00am.
URL:https://tillamookchamber.org/event/storytime-at-garibaldi-library/2026-02-06/
LOCATION:Garibaldi Library\, 107 6th St\, Garibaldi OR
CATEGORIES:Community,Family Fun
ATTACH;FMTTYPE=image/png:https://tillamookchamber.org/wp-content/uploads/2024/12/Garibaldi-Story-Time-flyer.png
END:VEVENT
BEGIN:VEVENT
DTSTART;TZID=America/Los_Angeles:20260130T110000
DTEND;TZID=America/Los_Angeles:20260130T120000
DTSTAMP:20260420T044200
CREATED:20250623T163658Z
LAST-MODIFIED:20250623T163658Z
UID:10022257-1769770800-1769774400@tillamookchamber.org
SUMMARY:Storytime at Garibaldi Library
DESCRIPTION:Kids of all ages are welcome to the Garibaldi Library for storytime\, Fridays at 11:00am.
URL:https://tillamookchamber.org/event/storytime-at-garibaldi-library/2026-01-30/
LOCATION:Garibaldi Library\, 107 6th St\, Garibaldi OR
CATEGORIES:Community,Family Fun
ATTACH;FMTTYPE=image/png:https://tillamookchamber.org/wp-content/uploads/2024/12/Garibaldi-Story-Time-flyer.png
END:VEVENT
BEGIN:VEVENT
DTSTART;TZID=America/Los_Angeles:20260123T110000
DTEND;TZID=America/Los_Angeles:20260123T120000
DTSTAMP:20260420T044200
CREATED:20250623T163658Z
LAST-MODIFIED:20250623T163658Z
UID:10022256-1769166000-1769169600@tillamookchamber.org
SUMMARY:Storytime at Garibaldi Library
DESCRIPTION:Kids of all ages are welcome to the Garibaldi Library for storytime\, Fridays at 11:00am.
URL:https://tillamookchamber.org/event/storytime-at-garibaldi-library/2026-01-23/
LOCATION:Garibaldi Library\, 107 6th St\, Garibaldi OR
CATEGORIES:Community,Family Fun
ATTACH;FMTTYPE=image/png:https://tillamookchamber.org/wp-content/uploads/2024/12/Garibaldi-Story-Time-flyer.png
END:VEVENT
BEGIN:VEVENT
DTSTART;TZID=America/Los_Angeles:20260121T161500
DTEND;TZID=America/Los_Angeles:20260121T171500
DTSTAMP:20260420T044200
CREATED:20250623T163236Z
LAST-MODIFIED:20250623T163236Z
UID:10022172-1769012100-1769015700@tillamookchamber.org
SUMMARY:Teen Craft & Chat at Garibaldi Library
DESCRIPTION:Drop in crafting and social time for teens!
URL:https://tillamookchamber.org/event/teen-craft-chat-at-garibaldi-library/2026-01-21/
LOCATION:Garibaldi Library\, 107 6th St\, Garibaldi OR
CATEGORIES:Community
ATTACH;FMTTYPE=image/png:https://tillamookchamber.org/wp-content/uploads/2025/03/Teen-Craft-Chat.png
END:VEVENT
BEGIN:VEVENT
DTSTART;TZID=America/Los_Angeles:20260120T140000
DTEND;TZID=America/Los_Angeles:20260120T150000
DTSTAMP:20260420T044200
CREATED:20250623T162410Z
LAST-MODIFIED:20250623T162410Z
UID:10022136-1768917600-1768921200@tillamookchamber.org
SUMMARY:Book Club at Garibaldi Library
DESCRIPTION:Join us at the Garibaldi Branch Library on the third Tuesday of each month for a book club meeting at 2 pm. Pick up the book anytime before the meeting at the Garibaldi library.
URL:https://tillamookchamber.org/event/book-club-at-garibaldi-library/2026-01-20/
LOCATION:Garibaldi Library\, 107 6th St\, Garibaldi OR
CATEGORIES:Classes and Workshops,Community
ATTACH;FMTTYPE=image/png:https://tillamookchamber.org/wp-content/uploads/2025/06/Garibaldi-Branch-Book-Club.png
END:VEVENT
BEGIN:VEVENT
DTSTART;TZID=America/Los_Angeles:20260116T110000
DTEND;TZID=America/Los_Angeles:20260116T120000
DTSTAMP:20260420T044200
CREATED:20250623T163658Z
LAST-MODIFIED:20250623T163658Z
UID:10022255-1768561200-1768564800@tillamookchamber.org
SUMMARY:Storytime at Garibaldi Library
DESCRIPTION:Kids of all ages are welcome to the Garibaldi Library for storytime\, Fridays at 11:00am.
URL:https://tillamookchamber.org/event/storytime-at-garibaldi-library/2026-01-16/
LOCATION:Garibaldi Library\, 107 6th St\, Garibaldi OR
CATEGORIES:Community,Family Fun
ATTACH;FMTTYPE=image/png:https://tillamookchamber.org/wp-content/uploads/2024/12/Garibaldi-Story-Time-flyer.png
END:VEVENT
BEGIN:VEVENT
DTSTART;TZID=America/Los_Angeles:20260109T110000
DTEND;TZID=America/Los_Angeles:20260109T120000
DTSTAMP:20260420T044200
CREATED:20250623T163658Z
LAST-MODIFIED:20250623T163658Z
UID:10022254-1767956400-1767960000@tillamookchamber.org
SUMMARY:Storytime at Garibaldi Library
DESCRIPTION:Kids of all ages are welcome to the Garibaldi Library for storytime\, Fridays at 11:00am.
URL:https://tillamookchamber.org/event/storytime-at-garibaldi-library/2026-01-09/
LOCATION:Garibaldi Library\, 107 6th St\, Garibaldi OR
CATEGORIES:Community,Family Fun
ATTACH;FMTTYPE=image/png:https://tillamookchamber.org/wp-content/uploads/2024/12/Garibaldi-Story-Time-flyer.png
END:VEVENT
BEGIN:VEVENT
DTSTART;TZID=America/Los_Angeles:20260102T110000
DTEND;TZID=America/Los_Angeles:20260102T120000
DTSTAMP:20260420T044200
CREATED:20250623T163658Z
LAST-MODIFIED:20250623T163658Z
UID:10022253-1767351600-1767355200@tillamookchamber.org
SUMMARY:Storytime at Garibaldi Library
DESCRIPTION:Kids of all ages are welcome to the Garibaldi Library for storytime\, Fridays at 11:00am.
URL:https://tillamookchamber.org/event/storytime-at-garibaldi-library/2026-01-02/
LOCATION:Garibaldi Library\, 107 6th St\, Garibaldi OR
CATEGORIES:Community,Family Fun
ATTACH;FMTTYPE=image/png:https://tillamookchamber.org/wp-content/uploads/2024/12/Garibaldi-Story-Time-flyer.png
END:VEVENT
BEGIN:VEVENT
DTSTART;TZID=America/Los_Angeles:20251226T110000
DTEND;TZID=America/Los_Angeles:20251226T120000
DTSTAMP:20260420T044200
CREATED:20250623T163658Z
LAST-MODIFIED:20250623T163658Z
UID:10022252-1766746800-1766750400@tillamookchamber.org
SUMMARY:Storytime at Garibaldi Library
DESCRIPTION:Kids of all ages are welcome to the Garibaldi Library for storytime\, Fridays at 11:00am.
URL:https://tillamookchamber.org/event/storytime-at-garibaldi-library/2025-12-26/
LOCATION:Garibaldi Library\, 107 6th St\, Garibaldi OR
CATEGORIES:Community,Family Fun
ATTACH;FMTTYPE=image/png:https://tillamookchamber.org/wp-content/uploads/2024/12/Garibaldi-Story-Time-flyer.png
END:VEVENT
BEGIN:VEVENT
DTSTART;TZID=America/Los_Angeles:20251219T110000
DTEND;TZID=America/Los_Angeles:20251219T120000
DTSTAMP:20260420T044200
CREATED:20250623T163658Z
LAST-MODIFIED:20250623T163658Z
UID:10022251-1766142000-1766145600@tillamookchamber.org
SUMMARY:Storytime at Garibaldi Library
DESCRIPTION:Kids of all ages are welcome to the Garibaldi Library for storytime\, Fridays at 11:00am.
URL:https://tillamookchamber.org/event/storytime-at-garibaldi-library/2025-12-19/
LOCATION:Garibaldi Library\, 107 6th St\, Garibaldi OR
CATEGORIES:Community,Family Fun
ATTACH;FMTTYPE=image/png:https://tillamookchamber.org/wp-content/uploads/2024/12/Garibaldi-Story-Time-flyer.png
END:VEVENT
BEGIN:VEVENT
DTSTART;TZID=America/Los_Angeles:20251217T161500
DTEND;TZID=America/Los_Angeles:20251217T171500
DTSTAMP:20260420T044200
CREATED:20250623T163236Z
LAST-MODIFIED:20250623T163236Z
UID:10022171-1765988100-1765991700@tillamookchamber.org
SUMMARY:Teen Craft & Chat at Garibaldi Library
DESCRIPTION:Drop in crafting and social time for teens!
URL:https://tillamookchamber.org/event/teen-craft-chat-at-garibaldi-library/2025-12-17/
LOCATION:Garibaldi Library\, 107 6th St\, Garibaldi OR
CATEGORIES:Community
ATTACH;FMTTYPE=image/png:https://tillamookchamber.org/wp-content/uploads/2025/03/Teen-Craft-Chat.png
END:VEVENT
BEGIN:VEVENT
DTSTART;TZID=America/Los_Angeles:20251216T140000
DTEND;TZID=America/Los_Angeles:20251216T150000
DTSTAMP:20260420T044200
CREATED:20250623T162410Z
LAST-MODIFIED:20250623T162410Z
UID:10022135-1765893600-1765897200@tillamookchamber.org
SUMMARY:Book Club at Garibaldi Library
DESCRIPTION:Join us at the Garibaldi Branch Library on the third Tuesday of each month for a book club meeting at 2 pm. Pick up the book anytime before the meeting at the Garibaldi library.
URL:https://tillamookchamber.org/event/book-club-at-garibaldi-library/2025-12-16/
LOCATION:Garibaldi Library\, 107 6th St\, Garibaldi OR
CATEGORIES:Classes and Workshops,Community
ATTACH;FMTTYPE=image/png:https://tillamookchamber.org/wp-content/uploads/2025/06/Garibaldi-Branch-Book-Club.png
END:VEVENT
BEGIN:VEVENT
DTSTART;TZID=America/Los_Angeles:20251212T110000
DTEND;TZID=America/Los_Angeles:20251212T120000
DTSTAMP:20260420T044200
CREATED:20250623T163658Z
LAST-MODIFIED:20250623T163658Z
UID:10022250-1765537200-1765540800@tillamookchamber.org
SUMMARY:Storytime at Garibaldi Library
DESCRIPTION:Kids of all ages are welcome to the Garibaldi Library for storytime\, Fridays at 11:00am.
URL:https://tillamookchamber.org/event/storytime-at-garibaldi-library/2025-12-12/
LOCATION:Garibaldi Library\, 107 6th St\, Garibaldi OR
CATEGORIES:Community,Family Fun
ATTACH;FMTTYPE=image/png:https://tillamookchamber.org/wp-content/uploads/2024/12/Garibaldi-Story-Time-flyer.png
END:VEVENT
BEGIN:VEVENT
DTSTART;TZID=America/Los_Angeles:20251205T110000
DTEND;TZID=America/Los_Angeles:20251205T120000
DTSTAMP:20260420T044200
CREATED:20250623T163658Z
LAST-MODIFIED:20250623T163658Z
UID:10022249-1764932400-1764936000@tillamookchamber.org
SUMMARY:Storytime at Garibaldi Library
DESCRIPTION:Kids of all ages are welcome to the Garibaldi Library for storytime\, Fridays at 11:00am.
URL:https://tillamookchamber.org/event/storytime-at-garibaldi-library/2025-12-05/
LOCATION:Garibaldi Library\, 107 6th St\, Garibaldi OR
CATEGORIES:Community,Family Fun
ATTACH;FMTTYPE=image/png:https://tillamookchamber.org/wp-content/uploads/2024/12/Garibaldi-Story-Time-flyer.png
END:VEVENT
BEGIN:VEVENT
DTSTART;TZID=America/Los_Angeles:20251128T110000
DTEND;TZID=America/Los_Angeles:20251128T120000
DTSTAMP:20260420T044200
CREATED:20250623T163658Z
LAST-MODIFIED:20250623T163658Z
UID:10022248-1764327600-1764331200@tillamookchamber.org
SUMMARY:Storytime at Garibaldi Library
DESCRIPTION:Kids of all ages are welcome to the Garibaldi Library for storytime\, Fridays at 11:00am.
URL:https://tillamookchamber.org/event/storytime-at-garibaldi-library/2025-11-28/
LOCATION:Garibaldi Library\, 107 6th St\, Garibaldi OR
CATEGORIES:Community,Family Fun
ATTACH;FMTTYPE=image/png:https://tillamookchamber.org/wp-content/uploads/2024/12/Garibaldi-Story-Time-flyer.png
END:VEVENT
END:VCALENDAR