BEGIN:VCALENDAR
VERSION:2.0
PRODID:-//Tillamook Area Chamber of Commerce - ECPv6.15.20//NONSGML v1.0//EN
CALSCALE:GREGORIAN
METHOD:PUBLISH
X-WR-CALNAME:Tillamook Area Chamber of Commerce
X-ORIGINAL-URL:https://tillamookchamber.org
X-WR-CALDESC:Events for Tillamook Area Chamber of Commerce
REFRESH-INTERVAL;VALUE=DURATION:PT1H
X-Robots-Tag:noindex
X-PUBLISHED-TTL:PT1H
BEGIN:VTIMEZONE
TZID:America/Los_Angeles
BEGIN:DAYLIGHT
TZOFFSETFROM:-0800
TZOFFSETTO:-0700
TZNAME:PDT
DTSTART:20240310T100000
END:DAYLIGHT
BEGIN:STANDARD
TZOFFSETFROM:-0700
TZOFFSETTO:-0800
TZNAME:PST
DTSTART:20241103T090000
END:STANDARD
BEGIN:DAYLIGHT
TZOFFSETFROM:-0800
TZOFFSETTO:-0700
TZNAME:PDT
DTSTART:20250309T100000
END:DAYLIGHT
BEGIN:STANDARD
TZOFFSETFROM:-0700
TZOFFSETTO:-0800
TZNAME:PST
DTSTART:20251102T090000
END:STANDARD
BEGIN:DAYLIGHT
TZOFFSETFROM:-0800
TZOFFSETTO:-0700
TZNAME:PDT
DTSTART:20260308T100000
END:DAYLIGHT
BEGIN:STANDARD
TZOFFSETFROM:-0700
TZOFFSETTO:-0800
TZNAME:PST
DTSTART:20261101T090000
END:STANDARD
END:VTIMEZONE
BEGIN:VEVENT
DTSTART;TZID=America/Los_Angeles:20250930T103000
DTEND;TZID=America/Los_Angeles:20250930T120000
DTSTAMP:20260424T160753
CREATED:20250925T182332Z
LAST-MODIFIED:20250925T182332Z
UID:10025628-1759228200-1759233600@tillamookchamber.org
SUMMARY:SALMON EGGS ARE COMING!
DESCRIPTION:As part of the Salmon Trout Enhancement Program (STEP)\, ODFW\, Tillamook Estuaries Partnership (TEP)\, Garibaldi and Bay City Branch Libraries are partnering to hatch salmon eggs at the libraries.  The Spring Chinook Salmon eggs will arrive Tuesday\, September 30 (10:30 am at Garibaldi & 11:30am at Bay City).  ODFW and TEP will be on hand to talk about salmon and their habitat.  All ages are invited to this event and to take part as the eggs hatch and grow.  In a few weeks\,  you can then join in as they are released into the wild.
URL:https://tillamookchamber.org/event/salmon-eggs-are-coming/
LOCATION:Garibaldi Branch Library\, 107 6th St\, Garibaldi\, 97118
CATEGORIES:Community,Education,Family Fun
ATTACH;FMTTYPE=image/png:https://tillamookchamber.org/wp-content/uploads/2025/09/Salmon-eggs-are-coming.png
END:VEVENT
END:VCALENDAR