BEGIN:VCALENDAR
VERSION:2.0
PRODID:-//Tillamook Area Chamber of Commerce - ECPv6.15.20//NONSGML v1.0//EN
CALSCALE:GREGORIAN
METHOD:PUBLISH
X-ORIGINAL-URL:https://tillamookchamber.org
X-WR-CALDESC:Events for Tillamook Area Chamber of Commerce
REFRESH-INTERVAL;VALUE=DURATION:PT1H
X-Robots-Tag:noindex
X-PUBLISHED-TTL:PT1H
BEGIN:VTIMEZONE
TZID:America/Los_Angeles
BEGIN:DAYLIGHT
TZOFFSETFROM:-0800
TZOFFSETTO:-0700
TZNAME:PDT
DTSTART:20250309T100000
END:DAYLIGHT
BEGIN:STANDARD
TZOFFSETFROM:-0700
TZOFFSETTO:-0800
TZNAME:PST
DTSTART:20251102T090000
END:STANDARD
BEGIN:DAYLIGHT
TZOFFSETFROM:-0800
TZOFFSETTO:-0700
TZNAME:PDT
DTSTART:20260308T100000
END:DAYLIGHT
BEGIN:STANDARD
TZOFFSETFROM:-0700
TZOFFSETTO:-0800
TZNAME:PST
DTSTART:20261101T090000
END:STANDARD
BEGIN:DAYLIGHT
TZOFFSETFROM:-0800
TZOFFSETTO:-0700
TZNAME:PDT
DTSTART:20270314T100000
END:DAYLIGHT
BEGIN:STANDARD
TZOFFSETFROM:-0700
TZOFFSETTO:-0800
TZNAME:PST
DTSTART:20271107T090000
END:STANDARD
END:VTIMEZONE
BEGIN:VEVENT
DTSTART;TZID=America/Los_Angeles:20260422T173000
DTEND;TZID=America/Los_Angeles:20260422T183000
DTSTAMP:20260420T170541
CREATED:20260403T234449Z
LAST-MODIFIED:20260403T234449Z
UID:10029755-1776879000-1776882600@tillamookchamber.org
SUMMARY:Vote Yes Tillamook Bay Fire & Rescue District: Open House\, Q&A
DESCRIPTION:The evening will begin with a short presentation about the proposed Tillamook Bay Fire & Rescue Rural Fire Protection District that is coming to the 2026 May ballot for permanent residents served by fire organizations in the Bay City and Tillamook areas.\n\nThe presentation will be followed by Q&As\, and then a time to meet and greet with volunteer firefighters\, current board members\, and other advocates for the measure.\n\nHosted at the:Fairview Grange5520 3rd StTillamook\, OR 97141\n\nFree and open to the public.
URL:https://tillamookchamber.org/event/vote-yes-tillamook-bay-fire-rescue-district-open-house-qa/
LOCATION:Fairview Grange\, 5520 3rd St\, Tillamook\, OR\, United States\, Oregon
CATEGORIES:Community,Education
ATTACH;FMTTYPE=image/png:https://tillamookchamber.org/wp-content/uploads/2026/04/Logo-2.png
END:VEVENT
BEGIN:VEVENT
DTSTART;TZID=America/Los_Angeles:20260518T190000
DTEND;TZID=America/Los_Angeles:20260518T210000
DTSTAMP:20260420T170541
CREATED:20260420T162044Z
LAST-MODIFIED:20260420T162044Z
UID:10029893-1779130800-1779138000@tillamookchamber.org
SUMMARY:MusicOregon Listening Session on the North Coast Music Scene
DESCRIPTION:MusicOregon is conducting a statewide listening tour across seven Oregon communities from May 16 through May 23\, 2026. Each stop is a free\, two-hour public gathering open to musicians\, venue operators\, music educators\, producers\, managers\, and anyone who works in or alongside the local music scene. The gatherings are conversation-first: no formal presentations\, no agenda beyond listening. Participants will help define MusicOregon’s statewide programming\, partnerships\, and advocacy priorities for the next two years.\n\nThe tour is funded in part by the Oregon Community Foundation through its Arts Rebuilding Grant program\, and reflects MusicOregon’s expansion beyond its Portland origins into all of Oregon’s major music regions: the North Coast\, the Willamette Valley\, Southern Oregon\, Central Oregon\, and Northeastern Oregon.\n\nA statewide needs assessment survey is also open now at musicoregon.org/survey. Responses are anonymous. MusicOregon will share the results with the music community and the public.\nWHO SHOULD ATTEND\n\n 	Independent musicians and performers\n 	Venue operators\, bookers\, and promoters\n 	Music producers\, engineers\, and studio owners\n 	Managers\, agents\, and music entrepreneurs\n 	Music educators and teaching artists\n 	Community organizers working at the intersection of arts and culture\n\nAll gatherings are free and open to the public. Light refreshments provided.\nRSVP
URL:https://tillamookchamber.org/event/musicoregon-listening-session-on-the-north-coast-music-scene/
LOCATION:Fairview Grange\, 5520 3rd St\, Tillamook\, OR\, United States\, Oregon
CATEGORIES:Community,Education
ATTACH;FMTTYPE=image/png:https://tillamookchamber.org/wp-content/uploads/2026/04/Tillamook-FB-Event-Cover-1200-x-628-px.png
END:VEVENT
END:VCALENDAR