BEGIN:VCALENDAR
VERSION:2.0
PRODID:-//Tillamook Area Chamber of Commerce - ECPv6.15.20//NONSGML v1.0//EN
CALSCALE:GREGORIAN
METHOD:PUBLISH
X-WR-CALNAME:Tillamook Area Chamber of Commerce
X-ORIGINAL-URL:https://tillamookchamber.org
X-WR-CALDESC:Events for Tillamook Area Chamber of Commerce
REFRESH-INTERVAL;VALUE=DURATION:PT1H
X-Robots-Tag:noindex
X-PUBLISHED-TTL:PT1H
BEGIN:VTIMEZONE
TZID:America/Los_Angeles
BEGIN:DAYLIGHT
TZOFFSETFROM:-0800
TZOFFSETTO:-0700
TZNAME:PDT
DTSTART:20250309T100000
END:DAYLIGHT
BEGIN:STANDARD
TZOFFSETFROM:-0700
TZOFFSETTO:-0800
TZNAME:PST
DTSTART:20251102T090000
END:STANDARD
BEGIN:DAYLIGHT
TZOFFSETFROM:-0800
TZOFFSETTO:-0700
TZNAME:PDT
DTSTART:20260308T100000
END:DAYLIGHT
BEGIN:STANDARD
TZOFFSETFROM:-0700
TZOFFSETTO:-0800
TZNAME:PST
DTSTART:20261101T090000
END:STANDARD
BEGIN:DAYLIGHT
TZOFFSETFROM:-0800
TZOFFSETTO:-0700
TZNAME:PDT
DTSTART:20270314T100000
END:DAYLIGHT
BEGIN:STANDARD
TZOFFSETFROM:-0700
TZOFFSETTO:-0800
TZNAME:PST
DTSTART:20271107T090000
END:STANDARD
END:VTIMEZONE
BEGIN:VEVENT
DTSTART;TZID=America/Los_Angeles:20260214T190000
DTEND;TZID=America/Los_Angeles:20260214T210000
DTSTAMP:20260420T182950
CREATED:20260127T174902Z
LAST-MODIFIED:20260127T174902Z
UID:10029373-1771095600-1771102800@tillamookchamber.org
SUMMARY:A Valentine's Show
DESCRIPTION:Love Me\, Love Me Not\n\nEnjoy an evening of Gutsy Folk by Mana Stanaway and Indie Folk Rock by Katelyn Convery.\n\nTake your Valentine out or just come and enjoy some great music\, February 14th starting at 7:00 pm. at Fairview Grange\, 5520 3rd St.\, Tillamook\n\nGet advanced tickets at Hygge Kitchen (110 Stillwell Ave.) Advance tickets $20\, at the door $25\n\n 
URL:https://tillamookchamber.org/event/a-valentines-show/
LOCATION:Fairview Grange\, 5520 3rd St\, Tillamook\, OR\, United States\, Oregon
CATEGORIES:Community,Holiday,Live Music
ATTACH;FMTTYPE=application/pdf:https://tillamookchamber.org/wp-content/uploads/2026/01/Valentines-Poster-2026.pdf
END:VEVENT
END:VCALENDAR