BEGIN:VCALENDAR
VERSION:2.0
PRODID:-//Tillamook Area Chamber of Commerce - ECPv6.15.20//NONSGML v1.0//EN
CALSCALE:GREGORIAN
METHOD:PUBLISH
X-WR-CALNAME:Tillamook Area Chamber of Commerce
X-ORIGINAL-URL:https://tillamookchamber.org
X-WR-CALDESC:Events for Tillamook Area Chamber of Commerce
REFRESH-INTERVAL;VALUE=DURATION:PT1H
X-Robots-Tag:noindex
X-PUBLISHED-TTL:PT1H
BEGIN:VTIMEZONE
TZID:America/Los_Angeles
BEGIN:DAYLIGHT
TZOFFSETFROM:-0800
TZOFFSETTO:-0700
TZNAME:PDT
DTSTART:20240310T100000
END:DAYLIGHT
BEGIN:STANDARD
TZOFFSETFROM:-0700
TZOFFSETTO:-0800
TZNAME:PST
DTSTART:20241103T090000
END:STANDARD
BEGIN:DAYLIGHT
TZOFFSETFROM:-0800
TZOFFSETTO:-0700
TZNAME:PDT
DTSTART:20250309T100000
END:DAYLIGHT
BEGIN:STANDARD
TZOFFSETFROM:-0700
TZOFFSETTO:-0800
TZNAME:PST
DTSTART:20251102T090000
END:STANDARD
BEGIN:DAYLIGHT
TZOFFSETFROM:-0800
TZOFFSETTO:-0700
TZNAME:PDT
DTSTART:20260308T100000
END:DAYLIGHT
BEGIN:STANDARD
TZOFFSETFROM:-0700
TZOFFSETTO:-0800
TZNAME:PST
DTSTART:20261101T090000
END:STANDARD
END:VTIMEZONE
BEGIN:VEVENT
DTSTART;TZID=America/Los_Angeles:20251210T080000
DTEND;TZID=America/Los_Angeles:20251210T170000
DTSTAMP:20260421T025625
CREATED:20251114T183037Z
LAST-MODIFIED:20251114T183037Z
UID:10028153-1765353600-1765386000@tillamookchamber.org
SUMMARY:Beer and Wine Dinner
DESCRIPTION:Dinner Pairing with de Garde Brewing and Country Squire Kitchen!\n$95.00 a ticket \n\n\n\n\nWednesday\, December 10\, 2025 at 5:30 PM – 8:00 PM located at 114 Ivy Ave.\, Tillamook \n\n\n\n\n\n\nThoughtfully paired four course dinner with beer and wine. Presented by de Garde Brewing and Country Squire Kitchen with seasonal and local ingredients in mind.\n\n\nTickets for our first paired dinner on December 10th are now available!\n\nPurchase here: https://checkout.square.site/merchant/MLTGWMB5HQETJ/checkout/EMV3UVFGAKPLGIVKVLEYP6FS\n\nYou know it’s going to be good\, and you don’t want to miss out! Get your tickets now!
URL:https://tillamookchamber.org/event/beer-and-wine-dinner/
LOCATION:De Garde Brewing\, 114 Ivy Avenue
CATEGORIES:Community,Festivals and Events
ATTACH;FMTTYPE=image/jpeg:https://tillamookchamber.org/wp-content/uploads/2025/11/Messenger_creation_8AA70BA7-CD99-4CFC-A77B-235DFC736A2D.jpeg
END:VEVENT
END:VCALENDAR