BEGIN:VCALENDAR
VERSION:2.0
PRODID:-//Tillamook Area Chamber of Commerce - ECPv6.15.20//NONSGML v1.0//EN
CALSCALE:GREGORIAN
METHOD:PUBLISH
X-WR-CALNAME:Tillamook Area Chamber of Commerce
X-ORIGINAL-URL:https://tillamookchamber.org
X-WR-CALDESC:Events for Tillamook Area Chamber of Commerce
REFRESH-INTERVAL;VALUE=DURATION:PT1H
X-Robots-Tag:noindex
X-PUBLISHED-TTL:PT1H
BEGIN:VTIMEZONE
TZID:America/Los_Angeles
BEGIN:DAYLIGHT
TZOFFSETFROM:-0800
TZOFFSETTO:-0700
TZNAME:PDT
DTSTART:20240310T100000
END:DAYLIGHT
BEGIN:STANDARD
TZOFFSETFROM:-0700
TZOFFSETTO:-0800
TZNAME:PST
DTSTART:20241103T090000
END:STANDARD
BEGIN:DAYLIGHT
TZOFFSETFROM:-0800
TZOFFSETTO:-0700
TZNAME:PDT
DTSTART:20250309T100000
END:DAYLIGHT
BEGIN:STANDARD
TZOFFSETFROM:-0700
TZOFFSETTO:-0800
TZNAME:PST
DTSTART:20251102T090000
END:STANDARD
BEGIN:DAYLIGHT
TZOFFSETFROM:-0800
TZOFFSETTO:-0700
TZNAME:PDT
DTSTART:20260308T100000
END:DAYLIGHT
BEGIN:STANDARD
TZOFFSETFROM:-0700
TZOFFSETTO:-0800
TZNAME:PST
DTSTART:20261101T090000
END:STANDARD
END:VTIMEZONE
BEGIN:VEVENT
DTSTART;TZID=America/Los_Angeles:20251010T120000
DTEND;TZID=America/Los_Angeles:20251010T160000
DTSTAMP:20260423T233659
CREATED:20250924T183545Z
LAST-MODIFIED:20250924T183545Z
UID:10025623-1760097600-1760112000@tillamookchamber.org
SUMMARY:CARE Inc. Shelter Village Grand Opening
DESCRIPTION:We’re thrilled to invite YOU to the Grand Opening of The Anchor and West Shelter Village — a celebration of community\, connection\, and hope! 🏠💙\n\n📅 Date: October 10\, 2025\n🕛 Time: Open House 12–4 PM | Ribbon Cutting at 1 PM\n📍 Location: 2310 First Street\, Suite 2\, Tillamook\, OR\n\nCome enjoy light snacks\, refreshments\, and a chance to see how CARE is helping build a brighter future for our neighbors. Let’s make this a day to remember!\n\n📞 Questions? Call CARE at 503.812.5261\n🌐 Learn more: www.careinc.org
URL:https://tillamookchamber.org/event/care-inc-shelter-village-grand-opening/
LOCATION:CARE Inc.\, 2310 1st St\, TILLAMOOK\, OR\, 97141-2442\, United States
CATEGORIES:Community
ATTACH;FMTTYPE=image/png:https://tillamookchamber.org/wp-content/uploads/2025/09/GO_Flyer_So.Media_.png
END:VEVENT
END:VCALENDAR