BEGIN:VCALENDAR
VERSION:2.0
PRODID:-//Tillamook Area Chamber of Commerce - ECPv6.15.20//NONSGML v1.0//EN
CALSCALE:GREGORIAN
METHOD:PUBLISH
X-WR-CALNAME:Tillamook Area Chamber of Commerce
X-ORIGINAL-URL:https://tillamookchamber.org
X-WR-CALDESC:Events for Tillamook Area Chamber of Commerce
REFRESH-INTERVAL;VALUE=DURATION:PT1H
X-Robots-Tag:noindex
X-PUBLISHED-TTL:PT1H
BEGIN:VTIMEZONE
TZID:America/Los_Angeles
BEGIN:DAYLIGHT
TZOFFSETFROM:-0800
TZOFFSETTO:-0700
TZNAME:PDT
DTSTART:20240310T100000
END:DAYLIGHT
BEGIN:STANDARD
TZOFFSETFROM:-0700
TZOFFSETTO:-0800
TZNAME:PST
DTSTART:20241103T090000
END:STANDARD
BEGIN:DAYLIGHT
TZOFFSETFROM:-0800
TZOFFSETTO:-0700
TZNAME:PDT
DTSTART:20250309T100000
END:DAYLIGHT
BEGIN:STANDARD
TZOFFSETFROM:-0700
TZOFFSETTO:-0800
TZNAME:PST
DTSTART:20251102T090000
END:STANDARD
BEGIN:DAYLIGHT
TZOFFSETFROM:-0800
TZOFFSETTO:-0700
TZNAME:PDT
DTSTART:20260308T100000
END:DAYLIGHT
BEGIN:STANDARD
TZOFFSETFROM:-0700
TZOFFSETTO:-0800
TZNAME:PST
DTSTART:20261101T090000
END:STANDARD
END:VTIMEZONE
BEGIN:VEVENT
DTSTART;TZID=America/Los_Angeles:20250920T073000
DTEND;TZID=America/Los_Angeles:20250920T120000
DTSTAMP:20260421T190506
CREATED:20250902T214808Z
LAST-MODIFIED:20250902T214808Z
UID:10025497-1758353400-1758369600@tillamookchamber.org
SUMMARY:Birds of Tillamook County: Walk and Talk with Michael Krall
DESCRIPTION:Join WEBS Board President\, Michael Krall on Saturday\, September 20th for an introduction to Tillamook County birds and birding. Starting with an optional\, two hour\, slow and easy bird walk\, participants will scope out some of our Northwest feathered friends along inland trails and coastal shores.  After the walk\, the group will meet at the Netarts Community Club for an informative indoor presentation.  Michael will share his photographs\, some tips on where and when to bird in Tillamook County\, and talk about some of the birds we can expect to see in these diverse habitats.  Registration is required.\n\nMichael birds and photographs extensively in Tillamook County\, around Oregon\, and beyond.  He caught the birding bug starting with a Golden Eagle banding in central Oregon with his 8th grade science teacher some 60 years ago. Michael says “I have always been partial to woodpeckers” and in 2017 he made a book of photographs featuring all 22 woodpecker species found in the US and Canada. Now Michael is working on the 50 or so US warbler species and has just a few to go! “So many birds\, so little time!” \n\nWe understand everyone learns and experiences the outdoors differently\, and we strive to support everyone who is interested in attending our events! Please contact us in advance so we can do our best to accommodate your accessibility needs.\n\nRegistration is required. Learn more and register for this event at:\n\nhttps://www.netartsbaywebs.org/events\n\nConnect with the Friends of Netarts Bay WEBS online! \n\nWebsite: www.netartsbaywebs.org\n\nSocial: @netartsbaywebs\n\nConsider donating:  \n\nYour donation helps in supporting the work of our organization. Every little bit helps!  All of our workshops\, classes\, and events are free. As a non-profit organization\, we rely on donations and grants to keep us going\, and growing.  \n\nIf you would like to donate\, please visit www.netartsbaywebs.org/donations\n\nWEBS and partners are hosting this event as part of the Explore Nature series of hikes\, walks\, paddles\, and outdoor adventures. Led by a consortium of volunteer community and non-profit organizations\, these meaningful nature-based experiences highlight the unique beauty of Tillamook County and the work being done to preserve and conserve the area’s natural resources and natural resource-based economy. Learn more about Explore Nature at www.explorenaturetillamookcoast.com.
URL:https://tillamookchamber.org/event/birds-of-tillamook-county-walk-and-talk-with-michael-krall/
LOCATION:Cape Lookout State Park\, 13000 Whiskey Creek Road Tillamook\, 97141
CATEGORIES:Community,Education,Outdoor
ATTACH;FMTTYPE=image/png:https://tillamookchamber.org/wp-content/uploads/2025/09/bird-programs-4x5-1.png
END:VEVENT
BEGIN:VEVENT
DTSTART;TZID=America/Los_Angeles:20250803T110000
DTEND;TZID=America/Los_Angeles:20250803T150000
DTSTAMP:20260421T190506
CREATED:20250724T213115Z
LAST-MODIFIED:20250724T213115Z
UID:10023260-1754218800-1754233200@tillamookchamber.org
SUMMARY:OFRENDA A NUESTRO OCEANO SANADOR  (AN OFFERING TO OUR HEALING OCEAN) A HUEHCA OMEYOCAN CELEBRATION
DESCRIPTION:Join Friends of Netarts Bay\, Watershed\, Estuary\, Beach and Sea (WEBS) and celebrate Huehca Omeyocan’s ninth year at Cape Lookout State Park on August 3rd!\n\nHuehca Omeyocan will be sharing art\, culture\, music\, and dance in a vibrant\, colorful\, generous\, and transcendental way to strengthen the connection with nature and bring communities together during this inspiring celebration . Huehca Omeyocan will be joined by Friends of Netarts Bay WEBS\, Oregon State Parks\, OSU Extension\, the Juntos Afuera Program\, and Oregon Shores for an inspiring day with opportunities to explore\, learn\, celebrate\, and act for the ocean.\n\nHuehca Omeyocan was founded in McMinnville Oregon in 2016 by artist\, drummer\, performer\, and cultural promoter Eduardo Cruz Torres Amictlan and his wife and main dancer of the group Maria Elena Cortes Duran Malinalmiquiz. Maria started dancing when she was only 12 years old\, and it has been a part of her life ever since.\n\nThe Mexica-Chichimeca or Aztec dance and music connect the natural world\, human body\, and spirit with everything that exists. It is a cosmic integration — a prayer in motion that delights the senses. Led by Maria Elena Cortes Duran\, dancers’ regalia vibrantly display colorful ancestral symbols and vivid feathers. At the Huehuetl drum\, Eduardo Cruz Torres sets the rhythm for the flight of ceramic flutes\, ocarinas\, and wind whistles\, while traditional Nahuatl rattles\, stones\, seeds\, and bones stir the atmosphere of each performance.\n\nThe movements and sounds of these spirited presentations mirror the energy that joins each of us with each other and the entire cosmos. With joyful generosity\, Huehca Omeyocan aims to inspire this transcendent connectivity in every community they touch.\n\nEnjoy the ceremony and various other educational and service activities on August 3rd. starting at 11:00 a.m. This is a full day event and often stretches beyond the advertised end time for the celebration. Bring a chair\, a picnic\, and enjoy the day at the coast! \n\nRegistration is highly suggested. Learn more and register for this event at: https://www.netartsbaywebs.org/events\n\nConnect with the Friends of Netarts Bay WEBS online! \n\nWebsite: www.netartsbaywebs.org\n\nSocial: @netartsbaywebs\n\nWEBS and partners\, Oregon State Parks\, OSU Extension\, Oregon Shores and the Juntos Afuera Program are hosting these events as part of the Explore Nature series of hikes\, walks\, paddles\, and outdoor adventures. Led by a consortium of volunteer community and non-profit organizations\, these meaningful nature-based experiences highlight the unique beauty of Tillamook County and the work being done to preserve and conserve the area’s natural resources and natural resource-based economy. Learn more about Explore Nature at www.explorenaturetillamookcoast.com.
URL:https://tillamookchamber.org/event/ofrenda-a-nuestro-oceano-sanador-an-offering-to-our-healing-ocean-a-huehca-omeyocan-celebration/
LOCATION:Cape Lookout State Park\, 13000 Whiskey Creek Road Tillamook\, 97141
CATEGORIES:Community,Family Fun
ATTACH;FMTTYPE=image/png:https://tillamookchamber.org/wp-content/uploads/2025/07/Ocean-Celebration-2025-IG-Website-.png
END:VEVENT
BEGIN:VEVENT
DTSTART;TZID=America/Los_Angeles:20250727T140000
DTEND;TZID=America/Los_Angeles:20250727T160000
DTSTAMP:20260421T190506
CREATED:20250715T175103Z
LAST-MODIFIED:20250715T175103Z
UID:10023244-1753624800-1753632000@tillamookchamber.org
SUMMARY:Tide Pool Discovery Days With Friends of Netarts Bay\, Watershed\, Estuaries\, Beach and Sea\, (WEBS)
DESCRIPTION:CAPE LOOKOUT STEWARDSHIP DAYS \n\nWITH FRIENDS OF NETARTS BAY – WATERSHED\, ESTUARIES\, BEACH AND SEA\, (WEBS) \n\nCape Lookout Stewardship Days offers opportunities to volunteer\, give back and work to maintain our natural areas and restore healthy coastal landscapes.\n\nEvery year\, WEBS partners with Cape Lookout State Park to offer opportunities to give back\, maintain our natural areas\, and restore healthy coastal landscapes. Our efforts to remove ivy and establish new native plants have made a huge impact in the park over the last few years.\n\nThis year\, with the help of volunteers\, WEBS will continue our efforts with ivy removal and native plant maintenance. “Events like this not only offer an opportunity to give back\, participants can connect with others in the community\, enjoy a day outdoors and hear about the successes and challenges for maintaining the health of Cape Lookout State Park” shares Marina Dreeben\, WEBS Stewardship Coordinator.  Volunteer and join the fun on any or all of these dates: July 27th\, August 13th and August 24th!\n\nActivities are designed to accommodate a variety of skill levels. Families are welcome.\n\nWhat to Bring:\n\n 	Water bottle and snacks\n 	Long pants and sturdy boots\n 	Rain gear and layers to stay warm and comfortable working on the Oregon Coast\n\n\n 	Work gloves\, hand pruners\, shovels\, and trowels if you have them! (WEBS will also provide tools)\n\nGet more information and find a link to register on our website at:\n\nhttps://www.netartsbaywebs.org/events\n\nConsider donating:  \n\nFriends of Netarts Bay WEBS is committed to offering high-quality\, nature-based events led by experts\, while also reducing the financial barrier of outdoor recreation. We do this by offering our events and programs at no cost to participants. \n\nYour donation helps in supporting the work of our organization. Every little bit helps!  As a non-profit organization\, we rely on donations and grants to keep us going\, and growing.  \n\nIf you would like to donate\, please visit our website.\n\nWEBS and partners are hosting this event as part of the Explore Nature series of hikes\, walks\, paddles\, and outdoor adventures. Led by a consortium of volunteer community and non-profit organizations\, these meaningful nature-based experiences highlight the unique beauty of Tillamook County and the work being done to preserve and conserve the area’s natural resources and natural resource-based economy. Learn more about Explore Nature at www.explorenaturetillamookcoast.com.\n\nStay social with Friends of Netarts Bay WEBS online @netartsbaywebs
URL:https://tillamookchamber.org/event/tide-pool-discovery-days-with-friends-of-netarts-bay-watershed-estuaries-beach-and-sea-webs/
LOCATION:Cape Lookout State Park\, 13000 Whiskey Creek Road Tillamook\, 97141
CATEGORIES:Community,Outdoor
ATTACH;FMTTYPE=image/png:https://tillamookchamber.org/wp-content/uploads/2025/07/Stewardship-Day-image-summer-of-2025.png
END:VEVENT
BEGIN:VEVENT
DTSTART;TZID=America/Los_Angeles:20250403T140000
DTEND;TZID=America/Los_Angeles:20250403T170000
DTSTAMP:20260421T190506
CREATED:20250319T184915Z
LAST-MODIFIED:20250319T222304Z
UID:10019312-1743688800-1743699600@tillamookchamber.org
SUMMARY:Cape Lookout Stewardship Day
DESCRIPTION:CAPE LOOKOUT STEWARDSHIP DAY – THURSDAY\, April 3rd\n\nCape Lookout Stewardship Day offers opportunities to give back and work to maintain our natural areas and restore healthy coastal landscapes.\n\nEvery year\, WEBS partners with Cape Lookout State Park to offer opportunities to give back\, maintain our natural areas\, and restore healthy coastal landscapes. Our efforts to remove ivy and establish new native plants have made a huge impact in the park over the last few years.\n\nThis year\, we will continue our efforts with ivy removal and native plant maintenance\, AND we will be creating a new native pollinator garden in the day use area. Join park staff along with WEBS volunteers on April 3rd to prepare the bed for this new garden.  “Events like this not only offer an opportunity to give back\, participants can connect with others in the community\, enjoy a day outdoors and hear about the successes and challenges for maintaining the health of Cape Lookout State Park” shares Marina Dreeben\, WEBS Stewardship Coordinator. She goes on to say\, “and keep an eye out for more Stewardship Days this Spring!”\n\nActivities are designed to accommodate a variety of skill levels. Families are welcome.\n\nWhat to Bring:\n\n 	Water bottle and snacks\n 	Long pants and sturdy boots\n 	Rain gear and layers to stay warm and comfortable working on the Oregon Coast\n\n\n 	Work gloves\, hand pruners\, shovels\, and trowels if you have them! (WEBS will also provide tools)\n\nGet more information and find a link to register on our website at:\n\nhttps://www.netartsbaywebs.org/events\n\nConsider donating:  \n\nFriends of Netarts Bay WEBS is committed to offering high-quality\, nature-based events led by experts\, while also reducing the financial barrier of outdoor recreation. We do this by offering our events and programs at no cost to participants. \n\nYour donation helps in supporting the work of our organization. Every little bit helps!  As a non-profit organization\, we rely on donations and grants to keep us going\, and growing.  \n\nIf you would like to donate\, please visit our website.\n\nWEBS and partners are hosting this event as part of the Explore Nature series of hikes\, walks\, paddles\, and outdoor adventures. Led by a consortium of volunteer community and non-profit organizations\, these meaningful nature-based experiences highlight the unique beauty of Tillamook County and the work being done to preserve and conserve the area’s natural resources and natural resource-based economy. Learn more about Explore Nature at www.explorenaturetillamookcoast.com.\n\nStay social with Friends of Netarts Bay WEBS online @netartsbaywebs
URL:https://tillamookchamber.org/event/cape-lookout-stewardship-day-5/
LOCATION:Cape Lookout State Park\, 13000 Whiskey Creek Road Tillamook\, 97141
CATEGORIES:Community,Outdoor
ATTACH;FMTTYPE=image/png:https://tillamookchamber.org/wp-content/uploads/2025/03/Cape-Lookout-Stewardship-Day-4-3.png
END:VEVENT
END:VCALENDAR