BEGIN:VCALENDAR
VERSION:2.0
PRODID:-//Tillamook Area Chamber of Commerce - ECPv6.15.20//NONSGML v1.0//EN
CALSCALE:GREGORIAN
METHOD:PUBLISH
X-WR-CALNAME:Tillamook Area Chamber of Commerce
X-ORIGINAL-URL:https://tillamookchamber.org
X-WR-CALDESC:Events for Tillamook Area Chamber of Commerce
REFRESH-INTERVAL;VALUE=DURATION:PT1H
X-Robots-Tag:noindex
X-PUBLISHED-TTL:PT1H
BEGIN:VTIMEZONE
TZID:America/Los_Angeles
BEGIN:DAYLIGHT
TZOFFSETFROM:-0800
TZOFFSETTO:-0700
TZNAME:PDT
DTSTART:20250309T100000
END:DAYLIGHT
BEGIN:STANDARD
TZOFFSETFROM:-0700
TZOFFSETTO:-0800
TZNAME:PST
DTSTART:20251102T090000
END:STANDARD
BEGIN:DAYLIGHT
TZOFFSETFROM:-0800
TZOFFSETTO:-0700
TZNAME:PDT
DTSTART:20260308T100000
END:DAYLIGHT
BEGIN:STANDARD
TZOFFSETFROM:-0700
TZOFFSETTO:-0800
TZNAME:PST
DTSTART:20261101T090000
END:STANDARD
BEGIN:DAYLIGHT
TZOFFSETFROM:-0800
TZOFFSETTO:-0700
TZNAME:PDT
DTSTART:20270314T100000
END:DAYLIGHT
BEGIN:STANDARD
TZOFFSETFROM:-0700
TZOFFSETTO:-0800
TZNAME:PST
DTSTART:20271107T090000
END:STANDARD
END:VTIMEZONE
BEGIN:VEVENT
DTSTART;TZID=America/Los_Angeles:20260420T000000
DTEND;TZID=America/Los_Angeles:20260420T233000
DTSTAMP:20260420T140857
CREATED:20260317T222000Z
LAST-MODIFIED:20260317T222000Z
UID:10029656-1776643200-1776727800@tillamookchamber.org
SUMMARY:CALL FOR ART- CALLING NORTH COAST ARTISTS!
DESCRIPTION:Blue Water Fine Art Gallery is now accepting submissions for May Flowers\, our first community exhibition celebrating the colors and renewal of spring along the Oregon Coast.\n\nArtists may submit up to three original artworks inspired by the May Flowers theme.\n\nSubmission Deadline: April 21\, 2026\n\nThe exhibition runs May 8 – June 6\, with a Community Reception on May 9\, 5–7 PM — free and open to all.\n\nSubmit your work and help us welcome spring with creativity and community.\n\nFull details and guidelines on website:\n\nBlueWaterFineArtGallery.com\n\nStay connected with upcoming exhibitions and artist calls — sign up for our newsletter at BlueWaterFineArtGallery.com
URL:https://tillamookchamber.org/event/call-for-art-calling-north-coast-artists/2026-04-20/
LOCATION:Blue Water Fine Art Gallery\, 119 S Miller St.\, Rockaway Beach\, OR 97136
CATEGORIES:Arts and Culture,Community
ATTACH;FMTTYPE=image/png:https://tillamookchamber.org/wp-content/uploads/2026/03/Call-FOR-ART-PURPLE.png
END:VEVENT
BEGIN:VEVENT
DTSTART;TZID=America/Los_Angeles:20260421T000000
DTEND;TZID=America/Los_Angeles:20260421T233000
DTSTAMP:20260420T140857
CREATED:20260317T222000Z
LAST-MODIFIED:20260317T222000Z
UID:10029657-1776729600-1776814200@tillamookchamber.org
SUMMARY:CALL FOR ART- CALLING NORTH COAST ARTISTS!
DESCRIPTION:Blue Water Fine Art Gallery is now accepting submissions for May Flowers\, our first community exhibition celebrating the colors and renewal of spring along the Oregon Coast.\n\nArtists may submit up to three original artworks inspired by the May Flowers theme.\n\nSubmission Deadline: April 21\, 2026\n\nThe exhibition runs May 8 – June 6\, with a Community Reception on May 9\, 5–7 PM — free and open to all.\n\nSubmit your work and help us welcome spring with creativity and community.\n\nFull details and guidelines on website:\n\nBlueWaterFineArtGallery.com\n\nStay connected with upcoming exhibitions and artist calls — sign up for our newsletter at BlueWaterFineArtGallery.com
URL:https://tillamookchamber.org/event/call-for-art-calling-north-coast-artists/2026-04-21/
LOCATION:Blue Water Fine Art Gallery\, 119 S Miller St.\, Rockaway Beach\, OR 97136
CATEGORIES:Arts and Culture,Community
ATTACH;FMTTYPE=image/png:https://tillamookchamber.org/wp-content/uploads/2026/03/Call-FOR-ART-PURPLE.png
END:VEVENT
END:VCALENDAR