BEGIN:VCALENDAR
VERSION:2.0
PRODID:-//Tillamook Area Chamber of Commerce - ECPv6.15.20//NONSGML v1.0//EN
CALSCALE:GREGORIAN
METHOD:PUBLISH
X-WR-CALNAME:Tillamook Area Chamber of Commerce
X-ORIGINAL-URL:https://tillamookchamber.org
X-WR-CALDESC:Events for Tillamook Area Chamber of Commerce
REFRESH-INTERVAL;VALUE=DURATION:PT1H
X-Robots-Tag:noindex
X-PUBLISHED-TTL:PT1H
BEGIN:VTIMEZONE
TZID:America/Los_Angeles
BEGIN:DAYLIGHT
TZOFFSETFROM:-0800
TZOFFSETTO:-0700
TZNAME:PDT
DTSTART:20250309T100000
END:DAYLIGHT
BEGIN:STANDARD
TZOFFSETFROM:-0700
TZOFFSETTO:-0800
TZNAME:PST
DTSTART:20251102T090000
END:STANDARD
BEGIN:DAYLIGHT
TZOFFSETFROM:-0800
TZOFFSETTO:-0700
TZNAME:PDT
DTSTART:20260308T100000
END:DAYLIGHT
BEGIN:STANDARD
TZOFFSETFROM:-0700
TZOFFSETTO:-0800
TZNAME:PST
DTSTART:20261101T090000
END:STANDARD
BEGIN:DAYLIGHT
TZOFFSETFROM:-0800
TZOFFSETTO:-0700
TZNAME:PDT
DTSTART:20270314T100000
END:DAYLIGHT
BEGIN:STANDARD
TZOFFSETFROM:-0700
TZOFFSETTO:-0800
TZNAME:PST
DTSTART:20271107T090000
END:STANDARD
BEGIN:DAYLIGHT
TZOFFSETFROM:-0800
TZOFFSETTO:-0700
TZNAME:PDT
DTSTART:20280312T100000
END:DAYLIGHT
BEGIN:STANDARD
TZOFFSETFROM:-0700
TZOFFSETTO:-0800
TZNAME:PST
DTSTART:20281105T090000
END:STANDARD
END:VTIMEZONE
BEGIN:VEVENT
DTSTART;TZID=America/Los_Angeles:20261008T100000
DTEND;TZID=America/Los_Angeles:20261008T110000
DTSTAMP:20260420T200704
CREATED:20241226T211146Z
LAST-MODIFIED:20241226T211146Z
UID:10017551-1791453600-1791457200@tillamookchamber.org
SUMMARY:Family Storytime at Bay City Library
DESCRIPTION:Bring the whole family down to the Bay City Library for a fun storytime and activity every Thursday at 10am!
URL:https://tillamookchamber.org/event/family-storytime-at-bay-city-library-2/2026-10-08/
LOCATION:Bay City Library\, 5525 B St\, Bay City\, OR
CATEGORIES:Community,Family Fun
ATTACH;FMTTYPE=image/png:https://tillamookchamber.org/wp-content/uploads/2024/12/Bay-City-Storytime1.png
END:VEVENT
BEGIN:VEVENT
DTSTART;TZID=America/Los_Angeles:20261010T140000
DTEND;TZID=America/Los_Angeles:20261010T170000
DTSTAMP:20260420T200704
CREATED:20250306T184553Z
LAST-MODIFIED:20250306T184553Z
UID:10018796-1791640800-1791651600@tillamookchamber.org
SUMMARY:Maker Saturday at the Bay City Library
DESCRIPTION:Join us at the Bay City Branch Library on the 3rd Saturday of the month at 2:00pm and 5:00pm for Maker Saturday! Bring a project you have been working on or come and be inspired by the supplies we have.\n\nDo you have a new model or a LEGO kit you’ve been meaning to work on? Is there a painting or craft you’ve been wanting to start and/or finish? Are you looking for a place to get away for a while to work on your project?\n\nWe can help! Please note\, supplies are limited.
URL:https://tillamookchamber.org/event/maker-saturday-at-the-bay-city-library/2026-10-10/
LOCATION:Bay City Library\, 5525 B St\, Bay City\, OR
CATEGORIES:Community
ATTACH;FMTTYPE=image/png:https://tillamookchamber.org/wp-content/uploads/2025/03/maker_saturdays.png
END:VEVENT
BEGIN:VEVENT
DTSTART;TZID=America/Los_Angeles:20261015T100000
DTEND;TZID=America/Los_Angeles:20261015T110000
DTSTAMP:20260420T200704
CREATED:20241226T211146Z
LAST-MODIFIED:20241226T211146Z
UID:10017552-1792058400-1792062000@tillamookchamber.org
SUMMARY:Family Storytime at Bay City Library
DESCRIPTION:Bring the whole family down to the Bay City Library for a fun storytime and activity every Thursday at 10am!
URL:https://tillamookchamber.org/event/family-storytime-at-bay-city-library-2/2026-10-15/
LOCATION:Bay City Library\, 5525 B St\, Bay City\, OR
CATEGORIES:Community,Family Fun
ATTACH;FMTTYPE=image/png:https://tillamookchamber.org/wp-content/uploads/2024/12/Bay-City-Storytime1.png
END:VEVENT
BEGIN:VEVENT
DTSTART;TZID=America/Los_Angeles:20261017T140000
DTEND;TZID=America/Los_Angeles:20261017T170000
DTSTAMP:20260420T200704
CREATED:20250306T184553Z
LAST-MODIFIED:20250306T184553Z
UID:10018797-1792245600-1792256400@tillamookchamber.org
SUMMARY:Maker Saturday at the Bay City Library
DESCRIPTION:Join us at the Bay City Branch Library on the 3rd Saturday of the month at 2:00pm and 5:00pm for Maker Saturday! Bring a project you have been working on or come and be inspired by the supplies we have.\n\nDo you have a new model or a LEGO kit you’ve been meaning to work on? Is there a painting or craft you’ve been wanting to start and/or finish? Are you looking for a place to get away for a while to work on your project?\n\nWe can help! Please note\, supplies are limited.
URL:https://tillamookchamber.org/event/maker-saturday-at-the-bay-city-library/2026-10-17/
LOCATION:Bay City Library\, 5525 B St\, Bay City\, OR
CATEGORIES:Community
ATTACH;FMTTYPE=image/png:https://tillamookchamber.org/wp-content/uploads/2025/03/maker_saturdays.png
END:VEVENT
BEGIN:VEVENT
DTSTART;TZID=America/Los_Angeles:20261022T100000
DTEND;TZID=America/Los_Angeles:20261022T110000
DTSTAMP:20260420T200704
CREATED:20241226T211146Z
LAST-MODIFIED:20241226T211146Z
UID:10017553-1792663200-1792666800@tillamookchamber.org
SUMMARY:Family Storytime at Bay City Library
DESCRIPTION:Bring the whole family down to the Bay City Library for a fun storytime and activity every Thursday at 10am!
URL:https://tillamookchamber.org/event/family-storytime-at-bay-city-library-2/2026-10-22/
LOCATION:Bay City Library\, 5525 B St\, Bay City\, OR
CATEGORIES:Community,Family Fun
ATTACH;FMTTYPE=image/png:https://tillamookchamber.org/wp-content/uploads/2024/12/Bay-City-Storytime1.png
END:VEVENT
BEGIN:VEVENT
DTSTART;TZID=America/Los_Angeles:20261024T140000
DTEND;TZID=America/Los_Angeles:20261024T170000
DTSTAMP:20260420T200704
CREATED:20250306T184553Z
LAST-MODIFIED:20250306T184553Z
UID:10018798-1792850400-1792861200@tillamookchamber.org
SUMMARY:Maker Saturday at the Bay City Library
DESCRIPTION:Join us at the Bay City Branch Library on the 3rd Saturday of the month at 2:00pm and 5:00pm for Maker Saturday! Bring a project you have been working on or come and be inspired by the supplies we have.\n\nDo you have a new model or a LEGO kit you’ve been meaning to work on? Is there a painting or craft you’ve been wanting to start and/or finish? Are you looking for a place to get away for a while to work on your project?\n\nWe can help! Please note\, supplies are limited.
URL:https://tillamookchamber.org/event/maker-saturday-at-the-bay-city-library/2026-10-24/
LOCATION:Bay City Library\, 5525 B St\, Bay City\, OR
CATEGORIES:Community
ATTACH;FMTTYPE=image/png:https://tillamookchamber.org/wp-content/uploads/2025/03/maker_saturdays.png
END:VEVENT
BEGIN:VEVENT
DTSTART;TZID=America/Los_Angeles:20261029T100000
DTEND;TZID=America/Los_Angeles:20261029T110000
DTSTAMP:20260420T200704
CREATED:20241226T211146Z
LAST-MODIFIED:20241226T211146Z
UID:10017554-1793268000-1793271600@tillamookchamber.org
SUMMARY:Family Storytime at Bay City Library
DESCRIPTION:Bring the whole family down to the Bay City Library for a fun storytime and activity every Thursday at 10am!
URL:https://tillamookchamber.org/event/family-storytime-at-bay-city-library-2/2026-10-29/
LOCATION:Bay City Library\, 5525 B St\, Bay City\, OR
CATEGORIES:Community,Family Fun
ATTACH;FMTTYPE=image/png:https://tillamookchamber.org/wp-content/uploads/2024/12/Bay-City-Storytime1.png
END:VEVENT
BEGIN:VEVENT
DTSTART;TZID=America/Los_Angeles:20261031T140000
DTEND;TZID=America/Los_Angeles:20261031T170000
DTSTAMP:20260420T200704
CREATED:20250306T184553Z
LAST-MODIFIED:20250306T184553Z
UID:10018799-1793455200-1793466000@tillamookchamber.org
SUMMARY:Maker Saturday at the Bay City Library
DESCRIPTION:Join us at the Bay City Branch Library on the 3rd Saturday of the month at 2:00pm and 5:00pm for Maker Saturday! Bring a project you have been working on or come and be inspired by the supplies we have.\n\nDo you have a new model or a LEGO kit you’ve been meaning to work on? Is there a painting or craft you’ve been wanting to start and/or finish? Are you looking for a place to get away for a while to work on your project?\n\nWe can help! Please note\, supplies are limited.
URL:https://tillamookchamber.org/event/maker-saturday-at-the-bay-city-library/2026-10-31/
LOCATION:Bay City Library\, 5525 B St\, Bay City\, OR
CATEGORIES:Community
ATTACH;FMTTYPE=image/png:https://tillamookchamber.org/wp-content/uploads/2025/03/maker_saturdays.png
END:VEVENT
BEGIN:VEVENT
DTSTART;TZID=America/Los_Angeles:20261105T100000
DTEND;TZID=America/Los_Angeles:20261105T110000
DTSTAMP:20260420T200704
CREATED:20241226T211146Z
LAST-MODIFIED:20241226T211146Z
UID:10017555-1793872800-1793876400@tillamookchamber.org
SUMMARY:Family Storytime at Bay City Library
DESCRIPTION:Bring the whole family down to the Bay City Library for a fun storytime and activity every Thursday at 10am!
URL:https://tillamookchamber.org/event/family-storytime-at-bay-city-library-2/2026-11-05/
LOCATION:Bay City Library\, 5525 B St\, Bay City\, OR
CATEGORIES:Community,Family Fun
ATTACH;FMTTYPE=image/png:https://tillamookchamber.org/wp-content/uploads/2024/12/Bay-City-Storytime1.png
END:VEVENT
BEGIN:VEVENT
DTSTART;TZID=America/Los_Angeles:20261107T140000
DTEND;TZID=America/Los_Angeles:20261107T170000
DTSTAMP:20260420T200704
CREATED:20250306T184553Z
LAST-MODIFIED:20250306T184553Z
UID:10018800-1794060000-1794070800@tillamookchamber.org
SUMMARY:Maker Saturday at the Bay City Library
DESCRIPTION:Join us at the Bay City Branch Library on the 3rd Saturday of the month at 2:00pm and 5:00pm for Maker Saturday! Bring a project you have been working on or come and be inspired by the supplies we have.\n\nDo you have a new model or a LEGO kit you’ve been meaning to work on? Is there a painting or craft you’ve been wanting to start and/or finish? Are you looking for a place to get away for a while to work on your project?\n\nWe can help! Please note\, supplies are limited.
URL:https://tillamookchamber.org/event/maker-saturday-at-the-bay-city-library/2026-11-07/
LOCATION:Bay City Library\, 5525 B St\, Bay City\, OR
CATEGORIES:Community
ATTACH;FMTTYPE=image/png:https://tillamookchamber.org/wp-content/uploads/2025/03/maker_saturdays.png
END:VEVENT
BEGIN:VEVENT
DTSTART;TZID=America/Los_Angeles:20261112T100000
DTEND;TZID=America/Los_Angeles:20261112T110000
DTSTAMP:20260420T200704
CREATED:20241226T211146Z
LAST-MODIFIED:20241226T211146Z
UID:10017556-1794477600-1794481200@tillamookchamber.org
SUMMARY:Family Storytime at Bay City Library
DESCRIPTION:Bring the whole family down to the Bay City Library for a fun storytime and activity every Thursday at 10am!
URL:https://tillamookchamber.org/event/family-storytime-at-bay-city-library-2/2026-11-12/
LOCATION:Bay City Library\, 5525 B St\, Bay City\, OR
CATEGORIES:Community,Family Fun
ATTACH;FMTTYPE=image/png:https://tillamookchamber.org/wp-content/uploads/2024/12/Bay-City-Storytime1.png
END:VEVENT
BEGIN:VEVENT
DTSTART;TZID=America/Los_Angeles:20261114T140000
DTEND;TZID=America/Los_Angeles:20261114T170000
DTSTAMP:20260420T200704
CREATED:20250306T184553Z
LAST-MODIFIED:20250306T184553Z
UID:10018801-1794664800-1794675600@tillamookchamber.org
SUMMARY:Maker Saturday at the Bay City Library
DESCRIPTION:Join us at the Bay City Branch Library on the 3rd Saturday of the month at 2:00pm and 5:00pm for Maker Saturday! Bring a project you have been working on or come and be inspired by the supplies we have.\n\nDo you have a new model or a LEGO kit you’ve been meaning to work on? Is there a painting or craft you’ve been wanting to start and/or finish? Are you looking for a place to get away for a while to work on your project?\n\nWe can help! Please note\, supplies are limited.
URL:https://tillamookchamber.org/event/maker-saturday-at-the-bay-city-library/2026-11-14/
LOCATION:Bay City Library\, 5525 B St\, Bay City\, OR
CATEGORIES:Community
ATTACH;FMTTYPE=image/png:https://tillamookchamber.org/wp-content/uploads/2025/03/maker_saturdays.png
END:VEVENT
BEGIN:VEVENT
DTSTART;TZID=America/Los_Angeles:20261119T100000
DTEND;TZID=America/Los_Angeles:20261119T110000
DTSTAMP:20260420T200704
CREATED:20241226T211146Z
LAST-MODIFIED:20241226T211146Z
UID:10017557-1795082400-1795086000@tillamookchamber.org
SUMMARY:Family Storytime at Bay City Library
DESCRIPTION:Bring the whole family down to the Bay City Library for a fun storytime and activity every Thursday at 10am!
URL:https://tillamookchamber.org/event/family-storytime-at-bay-city-library-2/2026-11-19/
LOCATION:Bay City Library\, 5525 B St\, Bay City\, OR
CATEGORIES:Community,Family Fun
ATTACH;FMTTYPE=image/png:https://tillamookchamber.org/wp-content/uploads/2024/12/Bay-City-Storytime1.png
END:VEVENT
BEGIN:VEVENT
DTSTART;TZID=America/Los_Angeles:20261121T140000
DTEND;TZID=America/Los_Angeles:20261121T170000
DTSTAMP:20260420T200704
CREATED:20250306T184553Z
LAST-MODIFIED:20250306T184553Z
UID:10018802-1795269600-1795280400@tillamookchamber.org
SUMMARY:Maker Saturday at the Bay City Library
DESCRIPTION:Join us at the Bay City Branch Library on the 3rd Saturday of the month at 2:00pm and 5:00pm for Maker Saturday! Bring a project you have been working on or come and be inspired by the supplies we have.\n\nDo you have a new model or a LEGO kit you’ve been meaning to work on? Is there a painting or craft you’ve been wanting to start and/or finish? Are you looking for a place to get away for a while to work on your project?\n\nWe can help! Please note\, supplies are limited.
URL:https://tillamookchamber.org/event/maker-saturday-at-the-bay-city-library/2026-11-21/
LOCATION:Bay City Library\, 5525 B St\, Bay City\, OR
CATEGORIES:Community
ATTACH;FMTTYPE=image/png:https://tillamookchamber.org/wp-content/uploads/2025/03/maker_saturdays.png
END:VEVENT
BEGIN:VEVENT
DTSTART;TZID=America/Los_Angeles:20261126T100000
DTEND;TZID=America/Los_Angeles:20261126T110000
DTSTAMP:20260420T200704
CREATED:20241226T211146Z
LAST-MODIFIED:20241226T211146Z
UID:10017558-1795687200-1795690800@tillamookchamber.org
SUMMARY:Family Storytime at Bay City Library
DESCRIPTION:Bring the whole family down to the Bay City Library for a fun storytime and activity every Thursday at 10am!
URL:https://tillamookchamber.org/event/family-storytime-at-bay-city-library-2/2026-11-26/
LOCATION:Bay City Library\, 5525 B St\, Bay City\, OR
CATEGORIES:Community,Family Fun
ATTACH;FMTTYPE=image/png:https://tillamookchamber.org/wp-content/uploads/2024/12/Bay-City-Storytime1.png
END:VEVENT
BEGIN:VEVENT
DTSTART;TZID=America/Los_Angeles:20261128T140000
DTEND;TZID=America/Los_Angeles:20261128T170000
DTSTAMP:20260420T200704
CREATED:20250306T184553Z
LAST-MODIFIED:20250306T184553Z
UID:10018803-1795874400-1795885200@tillamookchamber.org
SUMMARY:Maker Saturday at the Bay City Library
DESCRIPTION:Join us at the Bay City Branch Library on the 3rd Saturday of the month at 2:00pm and 5:00pm for Maker Saturday! Bring a project you have been working on or come and be inspired by the supplies we have.\n\nDo you have a new model or a LEGO kit you’ve been meaning to work on? Is there a painting or craft you’ve been wanting to start and/or finish? Are you looking for a place to get away for a while to work on your project?\n\nWe can help! Please note\, supplies are limited.
URL:https://tillamookchamber.org/event/maker-saturday-at-the-bay-city-library/2026-11-28/
LOCATION:Bay City Library\, 5525 B St\, Bay City\, OR
CATEGORIES:Community
ATTACH;FMTTYPE=image/png:https://tillamookchamber.org/wp-content/uploads/2025/03/maker_saturdays.png
END:VEVENT
BEGIN:VEVENT
DTSTART;TZID=America/Los_Angeles:20261203T100000
DTEND;TZID=America/Los_Angeles:20261203T110000
DTSTAMP:20260420T200704
CREATED:20241226T211146Z
LAST-MODIFIED:20241226T211146Z
UID:10017559-1796292000-1796295600@tillamookchamber.org
SUMMARY:Family Storytime at Bay City Library
DESCRIPTION:Bring the whole family down to the Bay City Library for a fun storytime and activity every Thursday at 10am!
URL:https://tillamookchamber.org/event/family-storytime-at-bay-city-library-2/2026-12-03/
LOCATION:Bay City Library\, 5525 B St\, Bay City\, OR
CATEGORIES:Community,Family Fun
ATTACH;FMTTYPE=image/png:https://tillamookchamber.org/wp-content/uploads/2024/12/Bay-City-Storytime1.png
END:VEVENT
BEGIN:VEVENT
DTSTART;TZID=America/Los_Angeles:20261205T140000
DTEND;TZID=America/Los_Angeles:20261205T170000
DTSTAMP:20260420T200704
CREATED:20250306T184553Z
LAST-MODIFIED:20250306T184553Z
UID:10018804-1796479200-1796490000@tillamookchamber.org
SUMMARY:Maker Saturday at the Bay City Library
DESCRIPTION:Join us at the Bay City Branch Library on the 3rd Saturday of the month at 2:00pm and 5:00pm for Maker Saturday! Bring a project you have been working on or come and be inspired by the supplies we have.\n\nDo you have a new model or a LEGO kit you’ve been meaning to work on? Is there a painting or craft you’ve been wanting to start and/or finish? Are you looking for a place to get away for a while to work on your project?\n\nWe can help! Please note\, supplies are limited.
URL:https://tillamookchamber.org/event/maker-saturday-at-the-bay-city-library/2026-12-05/
LOCATION:Bay City Library\, 5525 B St\, Bay City\, OR
CATEGORIES:Community
ATTACH;FMTTYPE=image/png:https://tillamookchamber.org/wp-content/uploads/2025/03/maker_saturdays.png
END:VEVENT
BEGIN:VEVENT
DTSTART;TZID=America/Los_Angeles:20261210T100000
DTEND;TZID=America/Los_Angeles:20261210T110000
DTSTAMP:20260420T200704
CREATED:20241226T211146Z
LAST-MODIFIED:20241226T211146Z
UID:10017560-1796896800-1796900400@tillamookchamber.org
SUMMARY:Family Storytime at Bay City Library
DESCRIPTION:Bring the whole family down to the Bay City Library for a fun storytime and activity every Thursday at 10am!
URL:https://tillamookchamber.org/event/family-storytime-at-bay-city-library-2/2026-12-10/
LOCATION:Bay City Library\, 5525 B St\, Bay City\, OR
CATEGORIES:Community,Family Fun
ATTACH;FMTTYPE=image/png:https://tillamookchamber.org/wp-content/uploads/2024/12/Bay-City-Storytime1.png
END:VEVENT
BEGIN:VEVENT
DTSTART;TZID=America/Los_Angeles:20261212T140000
DTEND;TZID=America/Los_Angeles:20261212T170000
DTSTAMP:20260420T200704
CREATED:20250306T184553Z
LAST-MODIFIED:20250306T184553Z
UID:10018805-1797084000-1797094800@tillamookchamber.org
SUMMARY:Maker Saturday at the Bay City Library
DESCRIPTION:Join us at the Bay City Branch Library on the 3rd Saturday of the month at 2:00pm and 5:00pm for Maker Saturday! Bring a project you have been working on or come and be inspired by the supplies we have.\n\nDo you have a new model or a LEGO kit you’ve been meaning to work on? Is there a painting or craft you’ve been wanting to start and/or finish? Are you looking for a place to get away for a while to work on your project?\n\nWe can help! Please note\, supplies are limited.
URL:https://tillamookchamber.org/event/maker-saturday-at-the-bay-city-library/2026-12-12/
LOCATION:Bay City Library\, 5525 B St\, Bay City\, OR
CATEGORIES:Community
ATTACH;FMTTYPE=image/png:https://tillamookchamber.org/wp-content/uploads/2025/03/maker_saturdays.png
END:VEVENT
BEGIN:VEVENT
DTSTART;TZID=America/Los_Angeles:20261217T100000
DTEND;TZID=America/Los_Angeles:20261217T110000
DTSTAMP:20260420T200704
CREATED:20241226T211146Z
LAST-MODIFIED:20241226T211146Z
UID:10017561-1797501600-1797505200@tillamookchamber.org
SUMMARY:Family Storytime at Bay City Library
DESCRIPTION:Bring the whole family down to the Bay City Library for a fun storytime and activity every Thursday at 10am!
URL:https://tillamookchamber.org/event/family-storytime-at-bay-city-library-2/2026-12-17/
LOCATION:Bay City Library\, 5525 B St\, Bay City\, OR
CATEGORIES:Community,Family Fun
ATTACH;FMTTYPE=image/png:https://tillamookchamber.org/wp-content/uploads/2024/12/Bay-City-Storytime1.png
END:VEVENT
BEGIN:VEVENT
DTSTART;TZID=America/Los_Angeles:20261219T140000
DTEND;TZID=America/Los_Angeles:20261219T170000
DTSTAMP:20260420T200704
CREATED:20250306T184553Z
LAST-MODIFIED:20250306T184553Z
UID:10018806-1797688800-1797699600@tillamookchamber.org
SUMMARY:Maker Saturday at the Bay City Library
DESCRIPTION:Join us at the Bay City Branch Library on the 3rd Saturday of the month at 2:00pm and 5:00pm for Maker Saturday! Bring a project you have been working on or come and be inspired by the supplies we have.\n\nDo you have a new model or a LEGO kit you’ve been meaning to work on? Is there a painting or craft you’ve been wanting to start and/or finish? Are you looking for a place to get away for a while to work on your project?\n\nWe can help! Please note\, supplies are limited.
URL:https://tillamookchamber.org/event/maker-saturday-at-the-bay-city-library/2026-12-19/
LOCATION:Bay City Library\, 5525 B St\, Bay City\, OR
CATEGORIES:Community
ATTACH;FMTTYPE=image/png:https://tillamookchamber.org/wp-content/uploads/2025/03/maker_saturdays.png
END:VEVENT
BEGIN:VEVENT
DTSTART;TZID=America/Los_Angeles:20261224T100000
DTEND;TZID=America/Los_Angeles:20261224T110000
DTSTAMP:20260420T200704
CREATED:20241226T211146Z
LAST-MODIFIED:20241226T211146Z
UID:10017562-1798106400-1798110000@tillamookchamber.org
SUMMARY:Family Storytime at Bay City Library
DESCRIPTION:Bring the whole family down to the Bay City Library for a fun storytime and activity every Thursday at 10am!
URL:https://tillamookchamber.org/event/family-storytime-at-bay-city-library-2/2026-12-24/
LOCATION:Bay City Library\, 5525 B St\, Bay City\, OR
CATEGORIES:Community,Family Fun
ATTACH;FMTTYPE=image/png:https://tillamookchamber.org/wp-content/uploads/2024/12/Bay-City-Storytime1.png
END:VEVENT
BEGIN:VEVENT
DTSTART;TZID=America/Los_Angeles:20261226T140000
DTEND;TZID=America/Los_Angeles:20261226T170000
DTSTAMP:20260420T200704
CREATED:20250306T184553Z
LAST-MODIFIED:20250306T184553Z
UID:10018807-1798293600-1798304400@tillamookchamber.org
SUMMARY:Maker Saturday at the Bay City Library
DESCRIPTION:Join us at the Bay City Branch Library on the 3rd Saturday of the month at 2:00pm and 5:00pm for Maker Saturday! Bring a project you have been working on or come and be inspired by the supplies we have.\n\nDo you have a new model or a LEGO kit you’ve been meaning to work on? Is there a painting or craft you’ve been wanting to start and/or finish? Are you looking for a place to get away for a while to work on your project?\n\nWe can help! Please note\, supplies are limited.
URL:https://tillamookchamber.org/event/maker-saturday-at-the-bay-city-library/2026-12-26/
LOCATION:Bay City Library\, 5525 B St\, Bay City\, OR
CATEGORIES:Community
ATTACH;FMTTYPE=image/png:https://tillamookchamber.org/wp-content/uploads/2025/03/maker_saturdays.png
END:VEVENT
BEGIN:VEVENT
DTSTART;TZID=America/Los_Angeles:20261231T100000
DTEND;TZID=America/Los_Angeles:20261231T110000
DTSTAMP:20260420T200704
CREATED:20241226T211146Z
LAST-MODIFIED:20241226T211146Z
UID:10017563-1798711200-1798714800@tillamookchamber.org
SUMMARY:Family Storytime at Bay City Library
DESCRIPTION:Bring the whole family down to the Bay City Library for a fun storytime and activity every Thursday at 10am!
URL:https://tillamookchamber.org/event/family-storytime-at-bay-city-library-2/2026-12-31/
LOCATION:Bay City Library\, 5525 B St\, Bay City\, OR
CATEGORIES:Community,Family Fun
ATTACH;FMTTYPE=image/png:https://tillamookchamber.org/wp-content/uploads/2024/12/Bay-City-Storytime1.png
END:VEVENT
BEGIN:VEVENT
DTSTART;TZID=America/Los_Angeles:20270102T140000
DTEND;TZID=America/Los_Angeles:20270102T170000
DTSTAMP:20260420T200704
CREATED:20250306T184553Z
LAST-MODIFIED:20250306T184553Z
UID:10018808-1798898400-1798909200@tillamookchamber.org
SUMMARY:Maker Saturday at the Bay City Library
DESCRIPTION:Join us at the Bay City Branch Library on the 3rd Saturday of the month at 2:00pm and 5:00pm for Maker Saturday! Bring a project you have been working on or come and be inspired by the supplies we have.\n\nDo you have a new model or a LEGO kit you’ve been meaning to work on? Is there a painting or craft you’ve been wanting to start and/or finish? Are you looking for a place to get away for a while to work on your project?\n\nWe can help! Please note\, supplies are limited.
URL:https://tillamookchamber.org/event/maker-saturday-at-the-bay-city-library/2027-01-02/
LOCATION:Bay City Library\, 5525 B St\, Bay City\, OR
CATEGORIES:Community
ATTACH;FMTTYPE=image/png:https://tillamookchamber.org/wp-content/uploads/2025/03/maker_saturdays.png
END:VEVENT
BEGIN:VEVENT
DTSTART;TZID=America/Los_Angeles:20270107T100000
DTEND;TZID=America/Los_Angeles:20270107T110000
DTSTAMP:20260420T200704
CREATED:20241226T211146Z
LAST-MODIFIED:20241226T211146Z
UID:10017564-1799316000-1799319600@tillamookchamber.org
SUMMARY:Family Storytime at Bay City Library
DESCRIPTION:Bring the whole family down to the Bay City Library for a fun storytime and activity every Thursday at 10am!
URL:https://tillamookchamber.org/event/family-storytime-at-bay-city-library-2/2027-01-07/
LOCATION:Bay City Library\, 5525 B St\, Bay City\, OR
CATEGORIES:Community,Family Fun
ATTACH;FMTTYPE=image/png:https://tillamookchamber.org/wp-content/uploads/2024/12/Bay-City-Storytime1.png
END:VEVENT
BEGIN:VEVENT
DTSTART;TZID=America/Los_Angeles:20270109T140000
DTEND;TZID=America/Los_Angeles:20270109T170000
DTSTAMP:20260420T200704
CREATED:20250306T184553Z
LAST-MODIFIED:20250306T184553Z
UID:10018809-1799503200-1799514000@tillamookchamber.org
SUMMARY:Maker Saturday at the Bay City Library
DESCRIPTION:Join us at the Bay City Branch Library on the 3rd Saturday of the month at 2:00pm and 5:00pm for Maker Saturday! Bring a project you have been working on or come and be inspired by the supplies we have.\n\nDo you have a new model or a LEGO kit you’ve been meaning to work on? Is there a painting or craft you’ve been wanting to start and/or finish? Are you looking for a place to get away for a while to work on your project?\n\nWe can help! Please note\, supplies are limited.
URL:https://tillamookchamber.org/event/maker-saturday-at-the-bay-city-library/2027-01-09/
LOCATION:Bay City Library\, 5525 B St\, Bay City\, OR
CATEGORIES:Community
ATTACH;FMTTYPE=image/png:https://tillamookchamber.org/wp-content/uploads/2025/03/maker_saturdays.png
END:VEVENT
BEGIN:VEVENT
DTSTART;TZID=America/Los_Angeles:20270114T100000
DTEND;TZID=America/Los_Angeles:20270114T110000
DTSTAMP:20260420T200704
CREATED:20241226T211146Z
LAST-MODIFIED:20241226T211146Z
UID:10017565-1799920800-1799924400@tillamookchamber.org
SUMMARY:Family Storytime at Bay City Library
DESCRIPTION:Bring the whole family down to the Bay City Library for a fun storytime and activity every Thursday at 10am!
URL:https://tillamookchamber.org/event/family-storytime-at-bay-city-library-2/2027-01-14/
LOCATION:Bay City Library\, 5525 B St\, Bay City\, OR
CATEGORIES:Community,Family Fun
ATTACH;FMTTYPE=image/png:https://tillamookchamber.org/wp-content/uploads/2024/12/Bay-City-Storytime1.png
END:VEVENT
BEGIN:VEVENT
DTSTART;TZID=America/Los_Angeles:20270116T140000
DTEND;TZID=America/Los_Angeles:20270116T170000
DTSTAMP:20260420T200704
CREATED:20250306T184553Z
LAST-MODIFIED:20250306T184553Z
UID:10018810-1800108000-1800118800@tillamookchamber.org
SUMMARY:Maker Saturday at the Bay City Library
DESCRIPTION:Join us at the Bay City Branch Library on the 3rd Saturday of the month at 2:00pm and 5:00pm for Maker Saturday! Bring a project you have been working on or come and be inspired by the supplies we have.\n\nDo you have a new model or a LEGO kit you’ve been meaning to work on? Is there a painting or craft you’ve been wanting to start and/or finish? Are you looking for a place to get away for a while to work on your project?\n\nWe can help! Please note\, supplies are limited.
URL:https://tillamookchamber.org/event/maker-saturday-at-the-bay-city-library/2027-01-16/
LOCATION:Bay City Library\, 5525 B St\, Bay City\, OR
CATEGORIES:Community
ATTACH;FMTTYPE=image/png:https://tillamookchamber.org/wp-content/uploads/2025/03/maker_saturdays.png
END:VEVENT
END:VCALENDAR