BEGIN:VCALENDAR
VERSION:2.0
PRODID:-//Tillamook Area Chamber of Commerce - ECPv6.15.20//NONSGML v1.0//EN
CALSCALE:GREGORIAN
METHOD:PUBLISH
X-ORIGINAL-URL:https://tillamookchamber.org
X-WR-CALDESC:Events for Tillamook Area Chamber of Commerce
REFRESH-INTERVAL;VALUE=DURATION:PT1H
X-Robots-Tag:noindex
X-PUBLISHED-TTL:PT1H
BEGIN:VTIMEZONE
TZID:America/Los_Angeles
BEGIN:DAYLIGHT
TZOFFSETFROM:-0800
TZOFFSETTO:-0700
TZNAME:PDT
DTSTART:20280312T100000
END:DAYLIGHT
BEGIN:STANDARD
TZOFFSETFROM:-0700
TZOFFSETTO:-0800
TZNAME:PST
DTSTART:20281105T090000
END:STANDARD
BEGIN:DAYLIGHT
TZOFFSETFROM:-0800
TZOFFSETTO:-0700
TZNAME:PDT
DTSTART:20290311T100000
END:DAYLIGHT
BEGIN:STANDARD
TZOFFSETFROM:-0700
TZOFFSETTO:-0800
TZNAME:PST
DTSTART:20291104T090000
END:STANDARD
BEGIN:DAYLIGHT
TZOFFSETFROM:-0800
TZOFFSETTO:-0700
TZNAME:PDT
DTSTART:20300310T100000
END:DAYLIGHT
BEGIN:STANDARD
TZOFFSETFROM:-0700
TZOFFSETTO:-0800
TZNAME:PST
DTSTART:20301103T090000
END:STANDARD
END:VTIMEZONE
BEGIN:VEVENT
DTSTART;TZID=America/Los_Angeles:20290825T140000
DTEND;TZID=America/Los_Angeles:20290825T170000
DTSTAMP:20260424T124141
CREATED:20250306T184553Z
LAST-MODIFIED:20250306T184553Z
UID:10018946-1882360800-1882371600@tillamookchamber.org
SUMMARY:Maker Saturday at the Bay City Library
DESCRIPTION:Join us at the Bay City Branch Library on the 3rd Saturday of the month at 2:00pm and 5:00pm for Maker Saturday! Bring a project you have been working on or come and be inspired by the supplies we have.\n\nDo you have a new model or a LEGO kit you’ve been meaning to work on? Is there a painting or craft you’ve been wanting to start and/or finish? Are you looking for a place to get away for a while to work on your project?\n\nWe can help! Please note\, supplies are limited.
URL:https://tillamookchamber.org/event/maker-saturday-at-the-bay-city-library/2029-08-25/
LOCATION:Bay City Library\, 5525 B St\, Bay City\, OR
CATEGORIES:Community
ATTACH;FMTTYPE=image/png:https://tillamookchamber.org/wp-content/uploads/2025/03/maker_saturdays.png
END:VEVENT
BEGIN:VEVENT
DTSTART;TZID=America/Los_Angeles:20290830T100000
DTEND;TZID=America/Los_Angeles:20290830T110000
DTSTAMP:20260424T124141
CREATED:20241226T211146Z
LAST-MODIFIED:20241226T211146Z
UID:10017702-1882778400-1882782000@tillamookchamber.org
SUMMARY:Family Storytime at Bay City Library
DESCRIPTION:Bring the whole family down to the Bay City Library for a fun storytime and activity every Thursday at 10am!
URL:https://tillamookchamber.org/event/family-storytime-at-bay-city-library-2/2029-08-30/
LOCATION:Bay City Library\, 5525 B St\, Bay City\, OR
CATEGORIES:Community,Family Fun
ATTACH;FMTTYPE=image/png:https://tillamookchamber.org/wp-content/uploads/2024/12/Bay-City-Storytime1.png
END:VEVENT
BEGIN:VEVENT
DTSTART;TZID=America/Los_Angeles:20290901T140000
DTEND;TZID=America/Los_Angeles:20290901T170000
DTSTAMP:20260424T124141
CREATED:20250306T184553Z
LAST-MODIFIED:20250306T184553Z
UID:10018947-1882965600-1882976400@tillamookchamber.org
SUMMARY:Maker Saturday at the Bay City Library
DESCRIPTION:Join us at the Bay City Branch Library on the 3rd Saturday of the month at 2:00pm and 5:00pm for Maker Saturday! Bring a project you have been working on or come and be inspired by the supplies we have.\n\nDo you have a new model or a LEGO kit you’ve been meaning to work on? Is there a painting or craft you’ve been wanting to start and/or finish? Are you looking for a place to get away for a while to work on your project?\n\nWe can help! Please note\, supplies are limited.
URL:https://tillamookchamber.org/event/maker-saturday-at-the-bay-city-library/2029-09-01/
LOCATION:Bay City Library\, 5525 B St\, Bay City\, OR
CATEGORIES:Community
ATTACH;FMTTYPE=image/png:https://tillamookchamber.org/wp-content/uploads/2025/03/maker_saturdays.png
END:VEVENT
BEGIN:VEVENT
DTSTART;TZID=America/Los_Angeles:20290906T100000
DTEND;TZID=America/Los_Angeles:20290906T110000
DTSTAMP:20260424T124141
CREATED:20241226T211146Z
LAST-MODIFIED:20241226T211146Z
UID:10017703-1883383200-1883386800@tillamookchamber.org
SUMMARY:Family Storytime at Bay City Library
DESCRIPTION:Bring the whole family down to the Bay City Library for a fun storytime and activity every Thursday at 10am!
URL:https://tillamookchamber.org/event/family-storytime-at-bay-city-library-2/2029-09-06/
LOCATION:Bay City Library\, 5525 B St\, Bay City\, OR
CATEGORIES:Community,Family Fun
ATTACH;FMTTYPE=image/png:https://tillamookchamber.org/wp-content/uploads/2024/12/Bay-City-Storytime1.png
END:VEVENT
BEGIN:VEVENT
DTSTART;TZID=America/Los_Angeles:20290908T140000
DTEND;TZID=America/Los_Angeles:20290908T170000
DTSTAMP:20260424T124141
CREATED:20250306T184553Z
LAST-MODIFIED:20250306T184553Z
UID:10018948-1883570400-1883581200@tillamookchamber.org
SUMMARY:Maker Saturday at the Bay City Library
DESCRIPTION:Join us at the Bay City Branch Library on the 3rd Saturday of the month at 2:00pm and 5:00pm for Maker Saturday! Bring a project you have been working on or come and be inspired by the supplies we have.\n\nDo you have a new model or a LEGO kit you’ve been meaning to work on? Is there a painting or craft you’ve been wanting to start and/or finish? Are you looking for a place to get away for a while to work on your project?\n\nWe can help! Please note\, supplies are limited.
URL:https://tillamookchamber.org/event/maker-saturday-at-the-bay-city-library/2029-09-08/
LOCATION:Bay City Library\, 5525 B St\, Bay City\, OR
CATEGORIES:Community
ATTACH;FMTTYPE=image/png:https://tillamookchamber.org/wp-content/uploads/2025/03/maker_saturdays.png
END:VEVENT
BEGIN:VEVENT
DTSTART;TZID=America/Los_Angeles:20290913T100000
DTEND;TZID=America/Los_Angeles:20290913T110000
DTSTAMP:20260424T124141
CREATED:20241226T211146Z
LAST-MODIFIED:20241226T211146Z
UID:10017704-1883988000-1883991600@tillamookchamber.org
SUMMARY:Family Storytime at Bay City Library
DESCRIPTION:Bring the whole family down to the Bay City Library for a fun storytime and activity every Thursday at 10am!
URL:https://tillamookchamber.org/event/family-storytime-at-bay-city-library-2/2029-09-13/
LOCATION:Bay City Library\, 5525 B St\, Bay City\, OR
CATEGORIES:Community,Family Fun
ATTACH;FMTTYPE=image/png:https://tillamookchamber.org/wp-content/uploads/2024/12/Bay-City-Storytime1.png
END:VEVENT
BEGIN:VEVENT
DTSTART;TZID=America/Los_Angeles:20290915T140000
DTEND;TZID=America/Los_Angeles:20290915T170000
DTSTAMP:20260424T124141
CREATED:20250306T184553Z
LAST-MODIFIED:20250306T184553Z
UID:10018949-1884175200-1884186000@tillamookchamber.org
SUMMARY:Maker Saturday at the Bay City Library
DESCRIPTION:Join us at the Bay City Branch Library on the 3rd Saturday of the month at 2:00pm and 5:00pm for Maker Saturday! Bring a project you have been working on or come and be inspired by the supplies we have.\n\nDo you have a new model or a LEGO kit you’ve been meaning to work on? Is there a painting or craft you’ve been wanting to start and/or finish? Are you looking for a place to get away for a while to work on your project?\n\nWe can help! Please note\, supplies are limited.
URL:https://tillamookchamber.org/event/maker-saturday-at-the-bay-city-library/2029-09-15/
LOCATION:Bay City Library\, 5525 B St\, Bay City\, OR
CATEGORIES:Community
ATTACH;FMTTYPE=image/png:https://tillamookchamber.org/wp-content/uploads/2025/03/maker_saturdays.png
END:VEVENT
BEGIN:VEVENT
DTSTART;TZID=America/Los_Angeles:20290920T100000
DTEND;TZID=America/Los_Angeles:20290920T110000
DTSTAMP:20260424T124141
CREATED:20241226T211146Z
LAST-MODIFIED:20241226T211146Z
UID:10017705-1884592800-1884596400@tillamookchamber.org
SUMMARY:Family Storytime at Bay City Library
DESCRIPTION:Bring the whole family down to the Bay City Library for a fun storytime and activity every Thursday at 10am!
URL:https://tillamookchamber.org/event/family-storytime-at-bay-city-library-2/2029-09-20/
LOCATION:Bay City Library\, 5525 B St\, Bay City\, OR
CATEGORIES:Community,Family Fun
ATTACH;FMTTYPE=image/png:https://tillamookchamber.org/wp-content/uploads/2024/12/Bay-City-Storytime1.png
END:VEVENT
BEGIN:VEVENT
DTSTART;TZID=America/Los_Angeles:20290922T140000
DTEND;TZID=America/Los_Angeles:20290922T170000
DTSTAMP:20260424T124141
CREATED:20250306T184553Z
LAST-MODIFIED:20250306T184553Z
UID:10018950-1884780000-1884790800@tillamookchamber.org
SUMMARY:Maker Saturday at the Bay City Library
DESCRIPTION:Join us at the Bay City Branch Library on the 3rd Saturday of the month at 2:00pm and 5:00pm for Maker Saturday! Bring a project you have been working on or come and be inspired by the supplies we have.\n\nDo you have a new model or a LEGO kit you’ve been meaning to work on? Is there a painting or craft you’ve been wanting to start and/or finish? Are you looking for a place to get away for a while to work on your project?\n\nWe can help! Please note\, supplies are limited.
URL:https://tillamookchamber.org/event/maker-saturday-at-the-bay-city-library/2029-09-22/
LOCATION:Bay City Library\, 5525 B St\, Bay City\, OR
CATEGORIES:Community
ATTACH;FMTTYPE=image/png:https://tillamookchamber.org/wp-content/uploads/2025/03/maker_saturdays.png
END:VEVENT
BEGIN:VEVENT
DTSTART;TZID=America/Los_Angeles:20290927T100000
DTEND;TZID=America/Los_Angeles:20290927T110000
DTSTAMP:20260424T124141
CREATED:20241226T211146Z
LAST-MODIFIED:20241226T211146Z
UID:10017706-1885197600-1885201200@tillamookchamber.org
SUMMARY:Family Storytime at Bay City Library
DESCRIPTION:Bring the whole family down to the Bay City Library for a fun storytime and activity every Thursday at 10am!
URL:https://tillamookchamber.org/event/family-storytime-at-bay-city-library-2/2029-09-27/
LOCATION:Bay City Library\, 5525 B St\, Bay City\, OR
CATEGORIES:Community,Family Fun
ATTACH;FMTTYPE=image/png:https://tillamookchamber.org/wp-content/uploads/2024/12/Bay-City-Storytime1.png
END:VEVENT
BEGIN:VEVENT
DTSTART;TZID=America/Los_Angeles:20290929T140000
DTEND;TZID=America/Los_Angeles:20290929T170000
DTSTAMP:20260424T124141
CREATED:20250306T184553Z
LAST-MODIFIED:20250306T184553Z
UID:10018951-1885384800-1885395600@tillamookchamber.org
SUMMARY:Maker Saturday at the Bay City Library
DESCRIPTION:Join us at the Bay City Branch Library on the 3rd Saturday of the month at 2:00pm and 5:00pm for Maker Saturday! Bring a project you have been working on or come and be inspired by the supplies we have.\n\nDo you have a new model or a LEGO kit you’ve been meaning to work on? Is there a painting or craft you’ve been wanting to start and/or finish? Are you looking for a place to get away for a while to work on your project?\n\nWe can help! Please note\, supplies are limited.
URL:https://tillamookchamber.org/event/maker-saturday-at-the-bay-city-library/2029-09-29/
LOCATION:Bay City Library\, 5525 B St\, Bay City\, OR
CATEGORIES:Community
ATTACH;FMTTYPE=image/png:https://tillamookchamber.org/wp-content/uploads/2025/03/maker_saturdays.png
END:VEVENT
BEGIN:VEVENT
DTSTART;TZID=America/Los_Angeles:20291004T100000
DTEND;TZID=America/Los_Angeles:20291004T110000
DTSTAMP:20260424T124141
CREATED:20241226T211146Z
LAST-MODIFIED:20241226T211146Z
UID:10017707-1885802400-1885806000@tillamookchamber.org
SUMMARY:Family Storytime at Bay City Library
DESCRIPTION:Bring the whole family down to the Bay City Library for a fun storytime and activity every Thursday at 10am!
URL:https://tillamookchamber.org/event/family-storytime-at-bay-city-library-2/2029-10-04/
LOCATION:Bay City Library\, 5525 B St\, Bay City\, OR
CATEGORIES:Community,Family Fun
ATTACH;FMTTYPE=image/png:https://tillamookchamber.org/wp-content/uploads/2024/12/Bay-City-Storytime1.png
END:VEVENT
BEGIN:VEVENT
DTSTART;TZID=America/Los_Angeles:20291006T140000
DTEND;TZID=America/Los_Angeles:20291006T170000
DTSTAMP:20260424T124141
CREATED:20250306T184553Z
LAST-MODIFIED:20250306T184553Z
UID:10018952-1885989600-1886000400@tillamookchamber.org
SUMMARY:Maker Saturday at the Bay City Library
DESCRIPTION:Join us at the Bay City Branch Library on the 3rd Saturday of the month at 2:00pm and 5:00pm for Maker Saturday! Bring a project you have been working on or come and be inspired by the supplies we have.\n\nDo you have a new model or a LEGO kit you’ve been meaning to work on? Is there a painting or craft you’ve been wanting to start and/or finish? Are you looking for a place to get away for a while to work on your project?\n\nWe can help! Please note\, supplies are limited.
URL:https://tillamookchamber.org/event/maker-saturday-at-the-bay-city-library/2029-10-06/
LOCATION:Bay City Library\, 5525 B St\, Bay City\, OR
CATEGORIES:Community
ATTACH;FMTTYPE=image/png:https://tillamookchamber.org/wp-content/uploads/2025/03/maker_saturdays.png
END:VEVENT
BEGIN:VEVENT
DTSTART;TZID=America/Los_Angeles:20291011T100000
DTEND;TZID=America/Los_Angeles:20291011T110000
DTSTAMP:20260424T124141
CREATED:20241226T211146Z
LAST-MODIFIED:20241226T211146Z
UID:10017708-1886407200-1886410800@tillamookchamber.org
SUMMARY:Family Storytime at Bay City Library
DESCRIPTION:Bring the whole family down to the Bay City Library for a fun storytime and activity every Thursday at 10am!
URL:https://tillamookchamber.org/event/family-storytime-at-bay-city-library-2/2029-10-11/
LOCATION:Bay City Library\, 5525 B St\, Bay City\, OR
CATEGORIES:Community,Family Fun
ATTACH;FMTTYPE=image/png:https://tillamookchamber.org/wp-content/uploads/2024/12/Bay-City-Storytime1.png
END:VEVENT
BEGIN:VEVENT
DTSTART;TZID=America/Los_Angeles:20291013T140000
DTEND;TZID=America/Los_Angeles:20291013T170000
DTSTAMP:20260424T124141
CREATED:20250306T184553Z
LAST-MODIFIED:20250306T184553Z
UID:10018953-1886594400-1886605200@tillamookchamber.org
SUMMARY:Maker Saturday at the Bay City Library
DESCRIPTION:Join us at the Bay City Branch Library on the 3rd Saturday of the month at 2:00pm and 5:00pm for Maker Saturday! Bring a project you have been working on or come and be inspired by the supplies we have.\n\nDo you have a new model or a LEGO kit you’ve been meaning to work on? Is there a painting or craft you’ve been wanting to start and/or finish? Are you looking for a place to get away for a while to work on your project?\n\nWe can help! Please note\, supplies are limited.
URL:https://tillamookchamber.org/event/maker-saturday-at-the-bay-city-library/2029-10-13/
LOCATION:Bay City Library\, 5525 B St\, Bay City\, OR
CATEGORIES:Community
ATTACH;FMTTYPE=image/png:https://tillamookchamber.org/wp-content/uploads/2025/03/maker_saturdays.png
END:VEVENT
BEGIN:VEVENT
DTSTART;TZID=America/Los_Angeles:20291018T100000
DTEND;TZID=America/Los_Angeles:20291018T110000
DTSTAMP:20260424T124141
CREATED:20241226T211146Z
LAST-MODIFIED:20241226T211146Z
UID:10017709-1887012000-1887015600@tillamookchamber.org
SUMMARY:Family Storytime at Bay City Library
DESCRIPTION:Bring the whole family down to the Bay City Library for a fun storytime and activity every Thursday at 10am!
URL:https://tillamookchamber.org/event/family-storytime-at-bay-city-library-2/2029-10-18/
LOCATION:Bay City Library\, 5525 B St\, Bay City\, OR
CATEGORIES:Community,Family Fun
ATTACH;FMTTYPE=image/png:https://tillamookchamber.org/wp-content/uploads/2024/12/Bay-City-Storytime1.png
END:VEVENT
BEGIN:VEVENT
DTSTART;TZID=America/Los_Angeles:20291020T140000
DTEND;TZID=America/Los_Angeles:20291020T170000
DTSTAMP:20260424T124141
CREATED:20250306T184553Z
LAST-MODIFIED:20250306T184553Z
UID:10018954-1887199200-1887210000@tillamookchamber.org
SUMMARY:Maker Saturday at the Bay City Library
DESCRIPTION:Join us at the Bay City Branch Library on the 3rd Saturday of the month at 2:00pm and 5:00pm for Maker Saturday! Bring a project you have been working on or come and be inspired by the supplies we have.\n\nDo you have a new model or a LEGO kit you’ve been meaning to work on? Is there a painting or craft you’ve been wanting to start and/or finish? Are you looking for a place to get away for a while to work on your project?\n\nWe can help! Please note\, supplies are limited.
URL:https://tillamookchamber.org/event/maker-saturday-at-the-bay-city-library/2029-10-20/
LOCATION:Bay City Library\, 5525 B St\, Bay City\, OR
CATEGORIES:Community
ATTACH;FMTTYPE=image/png:https://tillamookchamber.org/wp-content/uploads/2025/03/maker_saturdays.png
END:VEVENT
BEGIN:VEVENT
DTSTART;TZID=America/Los_Angeles:20291025T100000
DTEND;TZID=America/Los_Angeles:20291025T110000
DTSTAMP:20260424T124141
CREATED:20241226T211146Z
LAST-MODIFIED:20241226T211146Z
UID:10017710-1887616800-1887620400@tillamookchamber.org
SUMMARY:Family Storytime at Bay City Library
DESCRIPTION:Bring the whole family down to the Bay City Library for a fun storytime and activity every Thursday at 10am!
URL:https://tillamookchamber.org/event/family-storytime-at-bay-city-library-2/2029-10-25/
LOCATION:Bay City Library\, 5525 B St\, Bay City\, OR
CATEGORIES:Community,Family Fun
ATTACH;FMTTYPE=image/png:https://tillamookchamber.org/wp-content/uploads/2024/12/Bay-City-Storytime1.png
END:VEVENT
BEGIN:VEVENT
DTSTART;TZID=America/Los_Angeles:20291027T140000
DTEND;TZID=America/Los_Angeles:20291027T170000
DTSTAMP:20260424T124141
CREATED:20250306T184553Z
LAST-MODIFIED:20250306T184553Z
UID:10018955-1887804000-1887814800@tillamookchamber.org
SUMMARY:Maker Saturday at the Bay City Library
DESCRIPTION:Join us at the Bay City Branch Library on the 3rd Saturday of the month at 2:00pm and 5:00pm for Maker Saturday! Bring a project you have been working on or come and be inspired by the supplies we have.\n\nDo you have a new model or a LEGO kit you’ve been meaning to work on? Is there a painting or craft you’ve been wanting to start and/or finish? Are you looking for a place to get away for a while to work on your project?\n\nWe can help! Please note\, supplies are limited.
URL:https://tillamookchamber.org/event/maker-saturday-at-the-bay-city-library/2029-10-27/
LOCATION:Bay City Library\, 5525 B St\, Bay City\, OR
CATEGORIES:Community
ATTACH;FMTTYPE=image/png:https://tillamookchamber.org/wp-content/uploads/2025/03/maker_saturdays.png
END:VEVENT
BEGIN:VEVENT
DTSTART;TZID=America/Los_Angeles:20291101T100000
DTEND;TZID=America/Los_Angeles:20291101T110000
DTSTAMP:20260424T124141
CREATED:20241226T211146Z
LAST-MODIFIED:20241226T211146Z
UID:10017711-1888221600-1888225200@tillamookchamber.org
SUMMARY:Family Storytime at Bay City Library
DESCRIPTION:Bring the whole family down to the Bay City Library for a fun storytime and activity every Thursday at 10am!
URL:https://tillamookchamber.org/event/family-storytime-at-bay-city-library-2/2029-11-01/
LOCATION:Bay City Library\, 5525 B St\, Bay City\, OR
CATEGORIES:Community,Family Fun
ATTACH;FMTTYPE=image/png:https://tillamookchamber.org/wp-content/uploads/2024/12/Bay-City-Storytime1.png
END:VEVENT
BEGIN:VEVENT
DTSTART;TZID=America/Los_Angeles:20291103T140000
DTEND;TZID=America/Los_Angeles:20291103T170000
DTSTAMP:20260424T124141
CREATED:20250306T184553Z
LAST-MODIFIED:20250306T184553Z
UID:10018956-1888408800-1888419600@tillamookchamber.org
SUMMARY:Maker Saturday at the Bay City Library
DESCRIPTION:Join us at the Bay City Branch Library on the 3rd Saturday of the month at 2:00pm and 5:00pm for Maker Saturday! Bring a project you have been working on or come and be inspired by the supplies we have.\n\nDo you have a new model or a LEGO kit you’ve been meaning to work on? Is there a painting or craft you’ve been wanting to start and/or finish? Are you looking for a place to get away for a while to work on your project?\n\nWe can help! Please note\, supplies are limited.
URL:https://tillamookchamber.org/event/maker-saturday-at-the-bay-city-library/2029-11-03/
LOCATION:Bay City Library\, 5525 B St\, Bay City\, OR
CATEGORIES:Community
ATTACH;FMTTYPE=image/png:https://tillamookchamber.org/wp-content/uploads/2025/03/maker_saturdays.png
END:VEVENT
BEGIN:VEVENT
DTSTART;TZID=America/Los_Angeles:20291108T100000
DTEND;TZID=America/Los_Angeles:20291108T110000
DTSTAMP:20260424T124141
CREATED:20241226T211146Z
LAST-MODIFIED:20241226T211146Z
UID:10017712-1888826400-1888830000@tillamookchamber.org
SUMMARY:Family Storytime at Bay City Library
DESCRIPTION:Bring the whole family down to the Bay City Library for a fun storytime and activity every Thursday at 10am!
URL:https://tillamookchamber.org/event/family-storytime-at-bay-city-library-2/2029-11-08/
LOCATION:Bay City Library\, 5525 B St\, Bay City\, OR
CATEGORIES:Community,Family Fun
ATTACH;FMTTYPE=image/png:https://tillamookchamber.org/wp-content/uploads/2024/12/Bay-City-Storytime1.png
END:VEVENT
BEGIN:VEVENT
DTSTART;TZID=America/Los_Angeles:20291110T140000
DTEND;TZID=America/Los_Angeles:20291110T170000
DTSTAMP:20260424T124141
CREATED:20250306T184553Z
LAST-MODIFIED:20250306T184553Z
UID:10018957-1889013600-1889024400@tillamookchamber.org
SUMMARY:Maker Saturday at the Bay City Library
DESCRIPTION:Join us at the Bay City Branch Library on the 3rd Saturday of the month at 2:00pm and 5:00pm for Maker Saturday! Bring a project you have been working on or come and be inspired by the supplies we have.\n\nDo you have a new model or a LEGO kit you’ve been meaning to work on? Is there a painting or craft you’ve been wanting to start and/or finish? Are you looking for a place to get away for a while to work on your project?\n\nWe can help! Please note\, supplies are limited.
URL:https://tillamookchamber.org/event/maker-saturday-at-the-bay-city-library/2029-11-10/
LOCATION:Bay City Library\, 5525 B St\, Bay City\, OR
CATEGORIES:Community
ATTACH;FMTTYPE=image/png:https://tillamookchamber.org/wp-content/uploads/2025/03/maker_saturdays.png
END:VEVENT
BEGIN:VEVENT
DTSTART;TZID=America/Los_Angeles:20291115T100000
DTEND;TZID=America/Los_Angeles:20291115T110000
DTSTAMP:20260424T124141
CREATED:20241226T211146Z
LAST-MODIFIED:20241226T211146Z
UID:10017713-1889431200-1889434800@tillamookchamber.org
SUMMARY:Family Storytime at Bay City Library
DESCRIPTION:Bring the whole family down to the Bay City Library for a fun storytime and activity every Thursday at 10am!
URL:https://tillamookchamber.org/event/family-storytime-at-bay-city-library-2/2029-11-15/
LOCATION:Bay City Library\, 5525 B St\, Bay City\, OR
CATEGORIES:Community,Family Fun
ATTACH;FMTTYPE=image/png:https://tillamookchamber.org/wp-content/uploads/2024/12/Bay-City-Storytime1.png
END:VEVENT
BEGIN:VEVENT
DTSTART;TZID=America/Los_Angeles:20291117T140000
DTEND;TZID=America/Los_Angeles:20291117T170000
DTSTAMP:20260424T124141
CREATED:20250306T184553Z
LAST-MODIFIED:20250306T184553Z
UID:10018958-1889618400-1889629200@tillamookchamber.org
SUMMARY:Maker Saturday at the Bay City Library
DESCRIPTION:Join us at the Bay City Branch Library on the 3rd Saturday of the month at 2:00pm and 5:00pm for Maker Saturday! Bring a project you have been working on or come and be inspired by the supplies we have.\n\nDo you have a new model or a LEGO kit you’ve been meaning to work on? Is there a painting or craft you’ve been wanting to start and/or finish? Are you looking for a place to get away for a while to work on your project?\n\nWe can help! Please note\, supplies are limited.
URL:https://tillamookchamber.org/event/maker-saturday-at-the-bay-city-library/2029-11-17/
LOCATION:Bay City Library\, 5525 B St\, Bay City\, OR
CATEGORIES:Community
ATTACH;FMTTYPE=image/png:https://tillamookchamber.org/wp-content/uploads/2025/03/maker_saturdays.png
END:VEVENT
BEGIN:VEVENT
DTSTART;TZID=America/Los_Angeles:20291122T100000
DTEND;TZID=America/Los_Angeles:20291122T110000
DTSTAMP:20260424T124141
CREATED:20241226T211146Z
LAST-MODIFIED:20241226T211146Z
UID:10017714-1890036000-1890039600@tillamookchamber.org
SUMMARY:Family Storytime at Bay City Library
DESCRIPTION:Bring the whole family down to the Bay City Library for a fun storytime and activity every Thursday at 10am!
URL:https://tillamookchamber.org/event/family-storytime-at-bay-city-library-2/2029-11-22/
LOCATION:Bay City Library\, 5525 B St\, Bay City\, OR
CATEGORIES:Community,Family Fun
ATTACH;FMTTYPE=image/png:https://tillamookchamber.org/wp-content/uploads/2024/12/Bay-City-Storytime1.png
END:VEVENT
BEGIN:VEVENT
DTSTART;TZID=America/Los_Angeles:20291124T140000
DTEND;TZID=America/Los_Angeles:20291124T170000
DTSTAMP:20260424T124141
CREATED:20250306T184553Z
LAST-MODIFIED:20250306T184553Z
UID:10018959-1890223200-1890234000@tillamookchamber.org
SUMMARY:Maker Saturday at the Bay City Library
DESCRIPTION:Join us at the Bay City Branch Library on the 3rd Saturday of the month at 2:00pm and 5:00pm for Maker Saturday! Bring a project you have been working on or come and be inspired by the supplies we have.\n\nDo you have a new model or a LEGO kit you’ve been meaning to work on? Is there a painting or craft you’ve been wanting to start and/or finish? Are you looking for a place to get away for a while to work on your project?\n\nWe can help! Please note\, supplies are limited.
URL:https://tillamookchamber.org/event/maker-saturday-at-the-bay-city-library/2029-11-24/
LOCATION:Bay City Library\, 5525 B St\, Bay City\, OR
CATEGORIES:Community
ATTACH;FMTTYPE=image/png:https://tillamookchamber.org/wp-content/uploads/2025/03/maker_saturdays.png
END:VEVENT
BEGIN:VEVENT
DTSTART;TZID=America/Los_Angeles:20291129T100000
DTEND;TZID=America/Los_Angeles:20291129T110000
DTSTAMP:20260424T124141
CREATED:20241226T211146Z
LAST-MODIFIED:20241226T211146Z
UID:10017715-1890640800-1890644400@tillamookchamber.org
SUMMARY:Family Storytime at Bay City Library
DESCRIPTION:Bring the whole family down to the Bay City Library for a fun storytime and activity every Thursday at 10am!
URL:https://tillamookchamber.org/event/family-storytime-at-bay-city-library-2/2029-11-29/
LOCATION:Bay City Library\, 5525 B St\, Bay City\, OR
CATEGORIES:Community,Family Fun
ATTACH;FMTTYPE=image/png:https://tillamookchamber.org/wp-content/uploads/2024/12/Bay-City-Storytime1.png
END:VEVENT
BEGIN:VEVENT
DTSTART;TZID=America/Los_Angeles:20291201T140000
DTEND;TZID=America/Los_Angeles:20291201T170000
DTSTAMP:20260424T124141
CREATED:20250306T184553Z
LAST-MODIFIED:20250306T184553Z
UID:10018960-1890828000-1890838800@tillamookchamber.org
SUMMARY:Maker Saturday at the Bay City Library
DESCRIPTION:Join us at the Bay City Branch Library on the 3rd Saturday of the month at 2:00pm and 5:00pm for Maker Saturday! Bring a project you have been working on or come and be inspired by the supplies we have.\n\nDo you have a new model or a LEGO kit you’ve been meaning to work on? Is there a painting or craft you’ve been wanting to start and/or finish? Are you looking for a place to get away for a while to work on your project?\n\nWe can help! Please note\, supplies are limited.
URL:https://tillamookchamber.org/event/maker-saturday-at-the-bay-city-library/2029-12-01/
LOCATION:Bay City Library\, 5525 B St\, Bay City\, OR
CATEGORIES:Community
ATTACH;FMTTYPE=image/png:https://tillamookchamber.org/wp-content/uploads/2025/03/maker_saturdays.png
END:VEVENT
BEGIN:VEVENT
DTSTART;TZID=America/Los_Angeles:20291206T100000
DTEND;TZID=America/Los_Angeles:20291206T110000
DTSTAMP:20260424T124141
CREATED:20241226T211146Z
LAST-MODIFIED:20241226T211146Z
UID:10017716-1891245600-1891249200@tillamookchamber.org
SUMMARY:Family Storytime at Bay City Library
DESCRIPTION:Bring the whole family down to the Bay City Library for a fun storytime and activity every Thursday at 10am!
URL:https://tillamookchamber.org/event/family-storytime-at-bay-city-library-2/2029-12-06/
LOCATION:Bay City Library\, 5525 B St\, Bay City\, OR
CATEGORIES:Community,Family Fun
ATTACH;FMTTYPE=image/png:https://tillamookchamber.org/wp-content/uploads/2024/12/Bay-City-Storytime1.png
END:VEVENT
END:VCALENDAR